BEGIN:VCALENDAR
VERSION:2.0
PRODID:-//Powiatowe Centrum Kultury Alternatywnej - ECPv6.10.1.1//NONSGML v1.0//EN
CALSCALE:GREGORIAN
METHOD:PUBLISH
X-ORIGINAL-URL:https://cekacentrum.pl
X-WR-CALDESC:Wydarzenia dla Powiatowe Centrum Kultury Alternatywnej
REFRESH-INTERVAL;VALUE=DURATION:PT1H
X-Robots-Tag:noindex
X-PUBLISHED-TTL:PT1H
BEGIN:VTIMEZONE
TZID:Europe/Warsaw
BEGIN:DAYLIGHT
TZOFFSETFROM:+0100
TZOFFSETTO:+0200
TZNAME:CEST
DTSTART:20220327T010000
END:DAYLIGHT
BEGIN:STANDARD
TZOFFSETFROM:+0200
TZOFFSETTO:+0100
TZNAME:CET
DTSTART:20221030T010000
END:STANDARD
END:VTIMEZONE
BEGIN:VEVENT
DTSTART;TZID=Europe/Warsaw:20220130T110000
DTEND;TZID=Europe/Warsaw:20220130T130000
DTSTAMP:20260424T032452
CREATED:20220125T110720Z
LAST-MODIFIED:20220125T110800Z
UID:962-1643540400-1643547600@cekacentrum.pl
SUMMARY:Rajd Rowerowy Środa Śląska-Udanin
DESCRIPTION:Charytatywny przejazd rowerowy na trasie Środa Śląska-Udanin. \n30 stycznia grupa rowerzystów rusza spod naszego Centrum do Gminy Udanin. Jeszcze możecie dołączyć! Z rowerzystami będzie jechać Wolontariusz z puszką\, więc miejcie to na uwadze. Ze swojej strony zapewniamy ciepły posiłek „na mecie” oraz pamiątkowy – WOŚPowy – medal.
URL:https://cekacentrum.pl/event/rajd-rowerowy-sroda-slaska-udanin/
LOCATION:Powiatowe Centrum Kultury Alternatywnej\, pl. Przyszkolna 3\, Środa Śląska\, 55-300\, Poland
ATTACH;FMTTYPE=image/jpeg:https://cekacentrum.pl/wp-content/uploads/2022/01/30FINAL2022_2.jpg
END:VEVENT
BEGIN:VEVENT
DTSTART;TZID=Europe/Warsaw:20220130T180000
DTEND;TZID=Europe/Warsaw:20220130T200000
DTSTAMP:20260424T032452
CREATED:20220125T110407Z
LAST-MODIFIED:20220126T161749Z
UID:960-1643565600-1643572800@cekacentrum.pl
SUMMARY:Musicalowo-Rockowy finał WOŚPm - ODWOŁANE
DESCRIPTION:Będzie głośno\, tanecznie i… (jak zwykle z nami) zaskakująco. \nPo pierwsze: z zespołem Minęło Band zagrają i zaśpiewają Goście – Wokaliści przez wielkie „W” znani Wam choćby z musicalu „Na strunach szyn”. Pojawią się również całkiem nowe\, jeszcze nieznane Wam może głosy. Zobaczycie również fragmenty wspomnianego wyżej musicalu\, ale i… fragmenty NAJNOWSZEGO\, którego premiera będzie miała miejsce we wrześniu\, a w nim już sami Wokaliści przez wielkie „W” i Tancerki przez wielkie „T”. \nW przerwach koniecznie weźcie udział w licytacjach. Bardzo wyjątkowych! Wśród nich między innymi: postać w najnowszej książce Mieczysława Gorzki (ustaliliśmy\, że jeśli wygra kobieta\, wówczas będzie czarnym charakterem\, natomiast mężczyzna tym dobrym). Dodatkowo Małgorzata Bogucka domaluje zwycięzcę kolejnej licytacji na muralu przy ZSP nr 1. I to nie wszystko.  \nZaplanowaliśmy także nietypowe Światełko do Nieba. Oczywiście bez fajerwerków\, bo kochamy nasze zwierzaki\, ale zapewniamy\, że będzie to finał wart zapamiętania!\nZe względu na limity\, obostrzenia itd. liczba osób\, które będą mogły z nami tego dnia świętować w Centrum jest mocno ograniczona. A że i cel szczytny – wprowadziliśmy cegiełki\, których wykupienie upoważni Was do wejścia. Cegiełki można już odebrać w naszym biurze\, gdzie znajduje się również WOŚPowa puszka stacjonarna.
URL:https://cekacentrum.pl/event/musicalowo-rockowy-final-wosp/
LOCATION:Powiatowe Centrum Kultury Alternatywnej\, pl. Przyszkolna 3\, Środa Śląska\, 55-300\, Poland
ATTACH;FMTTYPE=image/jpeg:https://cekacentrum.pl/wp-content/uploads/2022/01/30FINAL2022_2.jpg
END:VEVENT
END:VCALENDAR