BEGIN:VCALENDAR
VERSION:2.0
PRODID:-//Powiatowe Centrum Kultury Alternatywnej - ECPv6.10.1.1//NONSGML v1.0//EN
CALSCALE:GREGORIAN
METHOD:PUBLISH
X-ORIGINAL-URL:https://cekacentrum.pl
X-WR-CALDESC:Wydarzenia dla Powiatowe Centrum Kultury Alternatywnej
REFRESH-INTERVAL;VALUE=DURATION:PT1H
X-Robots-Tag:noindex
X-PUBLISHED-TTL:PT1H
BEGIN:VTIMEZONE
TZID:Europe/Warsaw
BEGIN:DAYLIGHT
TZOFFSETFROM:+0100
TZOFFSETTO:+0200
TZNAME:CEST
DTSTART:20230326T010000
END:DAYLIGHT
BEGIN:STANDARD
TZOFFSETFROM:+0200
TZOFFSETTO:+0100
TZNAME:CET
DTSTART:20231029T010000
END:STANDARD
END:VTIMEZONE
BEGIN:VEVENT
DTSTART;TZID=Europe/Warsaw:20230114T180000
DTEND;TZID=Europe/Warsaw:20230114T190000
DTSTAMP:20260423T071303
CREATED:20230103T143430Z
LAST-MODIFIED:20230103T143430Z
UID:1205-1673719200-1673722800@cekacentrum.pl
SUMMARY:Przedstawienie "Last Christmas\, czyli jak Miękinia stała się miastem i co ze Środą Śląską?"
DESCRIPTION:Zapraszamy na autorski\, komediowy spektakl grupy teatralnej „Qlturalni” z Kulturalnej Stodoły w Lutyni.\nBilety do nabycia w biurze Centrum oraz na stronie: www.biletyna.pl
URL:https://cekacentrum.pl/event/przedstawienie-last-christmas-czyli-jak-miekinia-stala-sie-miastem-i-co-ze-sroda-slaska/
LOCATION:Powiatowe Centrum Kultury Alternatywnej\, pl. Przyszkolna 3\, Środa Śląska\, 55-300\, Poland
END:VEVENT
END:VCALENDAR