BEGIN:VCALENDAR
VERSION:2.0
PRODID:-//Powiatowe Centrum Kultury Alternatywnej - ECPv6.10.1.1//NONSGML v1.0//EN
CALSCALE:GREGORIAN
METHOD:PUBLISH
X-ORIGINAL-URL:https://cekacentrum.pl
X-WR-CALDESC:Wydarzenia dla Powiatowe Centrum Kultury Alternatywnej
REFRESH-INTERVAL;VALUE=DURATION:PT1H
X-Robots-Tag:noindex
X-PUBLISHED-TTL:PT1H
BEGIN:VTIMEZONE
TZID:Europe/Warsaw
BEGIN:DAYLIGHT
TZOFFSETFROM:+0100
TZOFFSETTO:+0200
TZNAME:CEST
DTSTART:20230326T010000
END:DAYLIGHT
BEGIN:STANDARD
TZOFFSETFROM:+0200
TZOFFSETTO:+0100
TZNAME:CET
DTSTART:20231029T010000
END:STANDARD
END:VTIMEZONE
BEGIN:VEVENT
DTSTART;TZID=Europe/Warsaw:20230115T170000
DTEND;TZID=Europe/Warsaw:20230115T183000
DTSTAMP:20260423T071323
CREATED:20230103T144047Z
LAST-MODIFIED:20230103T151457Z
UID:1209-1673802000-1673807400@cekacentrum.pl
SUMMARY:Niedziela z Kryminałem - gościem Mieczysława Gorzki Robert Małecki
DESCRIPTION:15 stycznia\, o godz. 17:00 odbędzie się kolejne\, długo wyczekiwane  spotkanie\, którego gościem będzie Robert Małecki – politolog\, filozof\, dziennikarz\, nauczyciel kreatywnego pisania i – co najważniejsze – autor bestselerowych powieści kryminalnych. \nWarto dodać\, że „Niedziela z Kryminałem” zainicjowana przez Powiatowe Centrum Kultury Alternatywnej oraz Mieczysława Gorzkę została wyróżniona znakiem jakości Krainy Łęgów Odrzańskich.
URL:https://cekacentrum.pl/event/niedziela-z-kryminalem-gosciem-mieczyslawa-gorzki-robert-malecki/
LOCATION:Powiatowe Centrum Kultury Alternatywnej\, pl. Przyszkolna 3\, Środa Śląska\, 55-300\, Poland
END:VEVENT
END:VCALENDAR