BEGIN:VCALENDAR
VERSION:2.0
PRODID:-//Powiatowe Centrum Kultury Alternatywnej - ECPv6.10.1.1//NONSGML v1.0//EN
CALSCALE:GREGORIAN
METHOD:PUBLISH
X-WR-CALNAME:Powiatowe Centrum Kultury Alternatywnej
X-ORIGINAL-URL:https://cekacentrum.pl
X-WR-CALDESC:Wydarzenia dla Powiatowe Centrum Kultury Alternatywnej
REFRESH-INTERVAL;VALUE=DURATION:PT1H
X-Robots-Tag:noindex
X-PUBLISHED-TTL:PT1H
BEGIN:VTIMEZONE
TZID:Europe/Warsaw
BEGIN:DAYLIGHT
TZOFFSETFROM:+0100
TZOFFSETTO:+0200
TZNAME:CEST
DTSTART:20230326T010000
END:DAYLIGHT
BEGIN:STANDARD
TZOFFSETFROM:+0200
TZOFFSETTO:+0100
TZNAME:CET
DTSTART:20231029T010000
END:STANDARD
END:VTIMEZONE
BEGIN:VEVENT
DTSTART;TZID=Europe/Warsaw:20231015T180000
DTEND;TZID=Europe/Warsaw:20231015T193000
DTSTAMP:20260422T175704
CREATED:20230208T110840Z
LAST-MODIFIED:20230420T121929Z
UID:1241-1697392800-1697398200@cekacentrum.pl
SUMMARY:Big Cyc - 35 lat - akustycznie - NOWY TERMIN
DESCRIPTION:Bez zgiełku wzmacniaczy ze skokami nastroju\, bez wściekłego jazgotu gitar\, za to z niepowtarzalnym klimatem prezentujemy nowe oblicze – Big Cyca AKUSTYCZNIE. \nBIG CYC AKUSTYCZNIE to dobrze znane przeboje zagrane miękko\, ciepło i radośnie. Akustyczne aranżacje nadają muzyce zespołu inną jakość. Zgrabne\, znane\, pomysłowe melodie w anturażu „unplugged” przenoszą muzę Big Cyca w całkiem nowy klimatyczny wymiar. \nNa koncercie oprócz starych hitów takich jak „Makumba” czy „Rudy się żeni” pojawią się przebojowe piosenki rzadziej wykonywane przez zespół tj. „Teczka” czy „Nasz PRL” oraz Mamma Mia! Wszystko okraszone zaskakującymi\, wypełnionym po brzegi dobrym humorem\, zapowiedziami przygotowanymi specjalnie na ten koncert przez Krzysztofa Skibę. Koncert to 90 minut przebojowej muzyki i pełnych humoru anegdot z życia zespołu. \nTakie oblicze Big Cyca znanego z ostrego rockowego grania może być absolutnym zaskoczeniem\, jednak dla wszystkich fanów dobrej muzyki rockowej to pozycja obowiązkowa. \nBILETY: 100 zł / W DNIU KONCERTU: 110 zł \nBILETY dostępne w biurze Centrum oraz na stronie: https://biletyna.pl/event/view/id/305889
URL:https://cekacentrum.pl/event/big-cyc-35-lat-akustycznie/
LOCATION:Powiatowe Centrum Kultury Alternatywnej\, pl. Przyszkolna 3\, Środa Śląska\, 55-300\, Poland
ATTACH;FMTTYPE=image/jpeg:https://cekacentrum.pl/wp-content/uploads/2023/02/Big-Cyc-35-lat-pocztowka-10x15cm-FRONT-Spady-3mm-logo-czerwone.jpg
END:VEVENT
END:VCALENDAR