BEGIN:VCALENDAR
VERSION:2.0
PRODID:-//Powiatowe Centrum Kultury Alternatywnej - ECPv6.10.1.1//NONSGML v1.0//EN
CALSCALE:GREGORIAN
METHOD:PUBLISH
X-ORIGINAL-URL:https://cekacentrum.pl
X-WR-CALDESC:Wydarzenia dla Powiatowe Centrum Kultury Alternatywnej
REFRESH-INTERVAL;VALUE=DURATION:PT1H
X-Robots-Tag:noindex
X-PUBLISHED-TTL:PT1H
BEGIN:VTIMEZONE
TZID:Europe/Warsaw
BEGIN:DAYLIGHT
TZOFFSETFROM:+0100
TZOFFSETTO:+0200
TZNAME:CEST
DTSTART:20230326T010000
END:DAYLIGHT
BEGIN:STANDARD
TZOFFSETFROM:+0200
TZOFFSETTO:+0100
TZNAME:CET
DTSTART:20231029T010000
END:STANDARD
END:VTIMEZONE
BEGIN:VEVENT
DTSTART;TZID=Europe/Warsaw:20231128T170000
DTEND;TZID=Europe/Warsaw:20231129T000000
DTSTAMP:20260422T144434
CREATED:20231120T133359Z
LAST-MODIFIED:20231120T133539Z
UID:1401-1701190800-1701216000@cekacentrum.pl
SUMMARY:Andrzejki dla Seniorów
DESCRIPTION:Andrzejki dla seniorów to nowa propozycja Centrum skierowana do osób starszych\, którzy chcieliby spędzić andrzejkowy wieczór w gronie rówieśników. \nKoszt 25zł/os\, w cenie przekąski\, animacje\, DJ. \nWydarzenie wyprzedane.
URL:https://cekacentrum.pl/event/andrzejki-dla-seniorow/
ATTACH;FMTTYPE=image/jpeg:https://cekacentrum.pl/wp-content/uploads/2023/11/398307281_663706832569913_789855031722216440_n.jpg
END:VEVENT
END:VCALENDAR