BEGIN:VCALENDAR
VERSION:2.0
PRODID:-//Powiatowe Centrum Kultury Alternatywnej - ECPv6.10.1.1//NONSGML v1.0//EN
CALSCALE:GREGORIAN
METHOD:PUBLISH
X-ORIGINAL-URL:https://cekacentrum.pl
X-WR-CALDESC:Wydarzenia dla Powiatowe Centrum Kultury Alternatywnej
REFRESH-INTERVAL;VALUE=DURATION:PT1H
X-Robots-Tag:noindex
X-PUBLISHED-TTL:PT1H
BEGIN:VTIMEZONE
TZID:Europe/Warsaw
BEGIN:DAYLIGHT
TZOFFSETFROM:+0100
TZOFFSETTO:+0200
TZNAME:CEST
DTSTART:20240331T010000
END:DAYLIGHT
BEGIN:STANDARD
TZOFFSETFROM:+0200
TZOFFSETTO:+0100
TZNAME:CET
DTSTART:20241027T010000
END:STANDARD
END:VTIMEZONE
BEGIN:VEVENT
DTSTART;TZID=Europe/Warsaw:20240621T193000
DTEND;TZID=Europe/Warsaw:20240622T193000
DTSTAMP:20260422T055423
CREATED:20240605T105433Z
LAST-MODIFIED:20240605T105433Z
UID:1971-1718998200-1719084600@cekacentrum.pl
SUMMARY:Noc Świętojańska na Ślęży - wspinaczka na szczyt wieczorową porą
DESCRIPTION:Razem z Klubem Turystyki Wszelakiej w Środzie Śląskiej zapraszamy Was na wieczorną wyprawę na Ślężę. Wyjazd: 21 czerwca (piątek) o g. 19.30 z parkingu przy PCeKA\, powrót po północy. Koszt: 45 zł. W cenie transport\, ubezpieczenie\, opieka przewodnika PTTK. Kiełbaski każdy organizuje sobie sam\, my zadbamy o sztućce i ketchup  Zapisy ruszają już od jutra 21 maja. Tel. +48 71 307 00 03
URL:https://cekacentrum.pl/event/noc-swietojanska-na-slezy-wspinaczka-na-szczyt-wieczorowa-pora/
ATTACH;FMTTYPE=image/jpeg:https://cekacentrum.pl/wp-content/uploads/2024/06/7558580_wschod-slonca-na-slezy.jpg
ORGANIZER;CN="Powiatowe Centrum Kultury Alternatywnej%2C ul. Przyszkolna 3%2C 55-300 %C5%9Aroda %C5%9Al%C4%85ska":MAILTO:biuro@cekacentrum.pl
END:VEVENT
END:VCALENDAR