BEGIN:VCALENDAR
VERSION:2.0
PRODID:-//Powiatowe Centrum Kultury Alternatywnej - ECPv6.10.1.1//NONSGML v1.0//EN
CALSCALE:GREGORIAN
METHOD:PUBLISH
X-ORIGINAL-URL:https://cekacentrum.pl
X-WR-CALDESC:Wydarzenia dla Powiatowe Centrum Kultury Alternatywnej
REFRESH-INTERVAL;VALUE=DURATION:PT1H
X-Robots-Tag:noindex
X-PUBLISHED-TTL:PT1H
BEGIN:VTIMEZONE
TZID:Europe/Warsaw
BEGIN:DAYLIGHT
TZOFFSETFROM:+0100
TZOFFSETTO:+0200
TZNAME:CEST
DTSTART:20240331T010000
END:DAYLIGHT
BEGIN:STANDARD
TZOFFSETFROM:+0200
TZOFFSETTO:+0100
TZNAME:CET
DTSTART:20241027T010000
END:STANDARD
END:VTIMEZONE
BEGIN:VEVENT
DTSTART;TZID=Europe/Warsaw:20241105T100000
DTEND;TZID=Europe/Warsaw:20241113T180000
DTSTAMP:20260421T231436
CREATED:20241029T130951Z
LAST-MODIFIED:20241029T130951Z
UID:2393-1730800800-1731520800@cekacentrum.pl
SUMMARY:Wystawa Pająków
DESCRIPTION:Odwiedź Wystawę Pająków i zobacz na żywo:\n legendarne CZARNE WDOWY (Latrodectus sp.) — jedne z NAJNIEBEZPIECZNIEJSZYCH pająków na Ziemi\, Theraphosa stirmi — jednego z NAJWIĘKSZYCH pająków na świecie\, skorpiony\, które zmieniają swój kolor pod wpływem… światła UV! \n\nAle to nie wszystkie atrakcje\, jakie na Ciebie czekają! \n\n Na Wystawie Pająków będziesz mieć możliwość wzięcia ptasznika na ręce i szansę na zrobienie sobie pamiątkowego zdjęcia! \n O każdej pełnej godzinie\, prowadzone są także fascynujące prelekcje\, z których dowiesz się więcej na temat interesujących Cię gatunków pajęczaków.\n Prelegenci Wystawy Pająków opowiadają o nich z niezwykłą pasją i zaangażowaniem. Dzięki ich słowom szybko pozbędziesz się arachnofobii i zapragniesz potrzymać ptasznika na ręce! \n\nCennik biletów:\n normalny: 21 zł ulgowy: 18 zł
URL:https://cekacentrum.pl/event/wystawa-pajakow/
LOCATION:Powiatowe Centrum Kultury Alternatywnej\, pl. Przyszkolna 3\, Środa Śląska\, 55-300\, Poland
ATTACH;FMTTYPE=image/jpeg:https://cekacentrum.pl/wp-content/uploads/2024/10/461870943_1117537697040484_5921295871357253980_n.jpg
END:VEVENT
END:VCALENDAR