BEGIN:VCALENDAR
VERSION:2.0
PRODID:-//Powiatowe Centrum Kultury Alternatywnej - ECPv6.10.1.1//NONSGML v1.0//EN
CALSCALE:GREGORIAN
METHOD:PUBLISH
X-WR-CALNAME:Powiatowe Centrum Kultury Alternatywnej
X-ORIGINAL-URL:https://cekacentrum.pl
X-WR-CALDESC:Wydarzenia dla Powiatowe Centrum Kultury Alternatywnej
REFRESH-INTERVAL;VALUE=DURATION:PT1H
X-Robots-Tag:noindex
X-PUBLISHED-TTL:PT1H
BEGIN:VTIMEZONE
TZID:Europe/Warsaw
BEGIN:DAYLIGHT
TZOFFSETFROM:+0100
TZOFFSETTO:+0200
TZNAME:CEST
DTSTART:20240331T010000
END:DAYLIGHT
BEGIN:STANDARD
TZOFFSETFROM:+0200
TZOFFSETTO:+0100
TZNAME:CET
DTSTART:20241027T010000
END:STANDARD
END:VTIMEZONE
BEGIN:VEVENT
DTSTART;TZID=Europe/Warsaw:20241218T083000
DTEND;TZID=Europe/Warsaw:20241218T120000
DTSTAMP:20260421T215936
CREATED:20241127T114118Z
LAST-MODIFIED:20241127T114118Z
UID:2504-1734510600-1734523200@cekacentrum.pl
SUMMARY:Zbiórka krwi
DESCRIPTION:Kolejna zbiórka krwi\, odbędzie się 18 grudnia w sali widowiskowej PCKA w godzinach 8:30-12:00
URL:https://cekacentrum.pl/event/zbiorka-krwi-9/
ATTACH;FMTTYPE=image/jpeg:https://cekacentrum.pl/wp-content/uploads/2024/05/zbiorka_krwi.jpg
END:VEVENT
END:VCALENDAR