BEGIN:VCALENDAR
VERSION:2.0
PRODID:-//Powiatowe Centrum Kultury Alternatywnej - ECPv6.10.1.1//NONSGML v1.0//EN
CALSCALE:GREGORIAN
METHOD:PUBLISH
X-ORIGINAL-URL:https://cekacentrum.pl
X-WR-CALDESC:Wydarzenia dla Powiatowe Centrum Kultury Alternatywnej
REFRESH-INTERVAL;VALUE=DURATION:PT1H
X-Robots-Tag:noindex
X-PUBLISHED-TTL:PT1H
BEGIN:VTIMEZONE
TZID:Europe/Warsaw
BEGIN:DAYLIGHT
TZOFFSETFROM:+0100
TZOFFSETTO:+0200
TZNAME:CEST
DTSTART:20250330T010000
END:DAYLIGHT
BEGIN:STANDARD
TZOFFSETFROM:+0200
TZOFFSETTO:+0100
TZNAME:CET
DTSTART:20251026T010000
END:STANDARD
END:VTIMEZONE
BEGIN:VEVENT
DTSTART;TZID=Europe/Warsaw:20250215T103000
DTEND;TZID=Europe/Warsaw:20250215T140000
DTSTAMP:20260421T203041
CREATED:20250206T092605Z
LAST-MODIFIED:20250206T092850Z
UID:2743-1739615400-1739628000@cekacentrum.pl
SUMMARY:Spacer śladami bohaterów powieści Mieczysława Gorzki
DESCRIPTION:Co powiecie na spacer po Szczepanowie i Środzie Śląskiej\, na którym przewodnikiem będzie Mieczysław Gorzka?  Kiedyś już na takim byliśmy\, także gorąco polecamy!\nZastanawiacie się gdzie i jak powstał pomysł na cykle \,\, Cienie Przeszłości” i „Wściekłe psy”? Świetnie trafiliście!  W sobotę 15 lutego\, będziecie mieli okazję poznać rodzinne strony komisarza Zakrzewskiego\, zwiedzić tytułowy martwy sad\, oraz zobaczyć miejsce narodzin Śmierciora Będą historie o Szczepanowie\, Środzie Śląskiej i okolicy\, przespacerujemy się uliczkami tych miejscowości i poszukamy miejsc związanych z bohaterami książek \nW oprowadzaniu\, Autora wspierać będzie pan Jacek B. Myszkowski – licencjonowany przewodnik turystyczny \n\n15 lutego\, godz. 10:30 zbieramy się na stacji PKP Środa Śląska i ruszmy w trasę!\nOrganizatorzy sugerują zainteresowanym z Wrocławia przyjazd pociągiem KD relacji Wrocław Główny – Lubań Śląski:Odjazd 09.46 – przyjazd do Środy Śląskiej 10.17Bilety na przejazd KD uczestnicy kupują w swoim zakresie\n\nSpacer będzie podzielony na 2 części\, pierwszą będzie spacer po Szczepanowie\, zakończony przy kościele pw. św. Szczepana w (Martwy Sad)\, skąd odbierze nas darmowy autobus i przewiezie do Środy Śląskiej na drugą część spaceru\, w planach\, której jest wizyta w Księgarni „Oświata” oraz darmowa kawa w Powiatowym Centrum Kultury Alternatywnej dla wszystkich czytelników 
URL:https://cekacentrum.pl/event/spacer-sladami-bohaterow-powiesci-mieczyslaw-gorzki/
LOCATION:Stacja kolejowa Środa Śląska\, Stacyjna 1\, Środa Śląska\, dolnośląskie\, 55-300\, Poland
ATTACH;FMTTYPE=image/jpeg:https://cekacentrum.pl/wp-content/uploads/2025/02/WhatsApp-Image-2025-02-04-at-13.01.57.jpeg
ORGANIZER;CN="Powiatowe Centrum Kultury Alternatywnej%2C ul. Przyszkolna 3%2C 55-300 %C5%9Aroda %C5%9Al%C4%85ska":MAILTO:biuro@cekacentrum.pl
END:VEVENT
BEGIN:VEVENT
DTSTART;TZID=Europe/Warsaw:20250215T160000
DTEND;TZID=Europe/Warsaw:20250215T173000
DTSTAMP:20260421T203041
CREATED:20250130T121019Z
LAST-MODIFIED:20250130T121151Z
UID:2668-1739635200-1739640600@cekacentrum.pl
SUMMARY:Pokaz Iluzji Magic Mitoraj
DESCRIPTION:MagicMitoraj\, czyli Adrian Mitoraj to jeden z najlepszych iluzjonistów. Twórca spektakli iluzji dla największych parków rozrywki w Polsce. Wielokrotnie występował w Niemczech i Szwajcarii. Podczas rodzinnego przedstawienia zobaczysz ponad 70 minut spektakularnych efektów z pogranicza dziecięcych marzeń. To show\, które łączy pokolenia. Doskonała muzyka\, gra aktorska. Wszystko po to\, aby wprowadzić widzów w inny wymiar dostarczanej rozrywki.  \nInteraktywne widowisko podczas\, którego wszyscy czarują razem z prestidigitatorem.  \nW programie będzie można zobaczyć: \n-przenikanie ciała przez dziesięć stalowych obręczy \n-liczne lewitacje \n-taniec jedwabnej chusty \n-znikanie i pojawianie się przedmiotów  \ni wiele innych niesamowitych sztuczek!  \nSalwy śmiechu\, emocje\, duże iluzje. Opad szczęki gwarantowany!  \nPokaz zarówno dla dzieci i dorosłych.  \nWiek od 5 lat do 10000000000 lat ….:)  \nObejrzyj filmy: https://youtu.be/M30LldSEX7U \nhttps://youtu.be/4gVj8KZp7Y8 \nlink do biletów poniżej. \n  \n 
URL:https://cekacentrum.pl/event/pokaz-iluzji-magic-mitoraj/
LOCATION:Powiatowe Centrum Kultury Alternatywnej\, pl. Przyszkolna 3\, Środa Śląska\, 55-300\, Poland
ATTACH;FMTTYPE=image/jpeg:https://cekacentrum.pl/wp-content/uploads/2025/01/Reklama_kwadrat_MagicMitoraj_Sroda-Slaska-scaled.jpg
END:VEVENT
END:VCALENDAR