BEGIN:VCALENDAR
VERSION:2.0
PRODID:-//Powiatowe Centrum Kultury Alternatywnej - ECPv6.10.1.1//NONSGML v1.0//EN
CALSCALE:GREGORIAN
METHOD:PUBLISH
X-WR-CALNAME:Powiatowe Centrum Kultury Alternatywnej
X-ORIGINAL-URL:https://cekacentrum.pl
X-WR-CALDESC:Wydarzenia dla Powiatowe Centrum Kultury Alternatywnej
REFRESH-INTERVAL;VALUE=DURATION:PT1H
X-Robots-Tag:noindex
X-PUBLISHED-TTL:PT1H
BEGIN:VTIMEZONE
TZID:Europe/Warsaw
BEGIN:DAYLIGHT
TZOFFSETFROM:+0100
TZOFFSETTO:+0200
TZNAME:CEST
DTSTART:20250330T010000
END:DAYLIGHT
BEGIN:STANDARD
TZOFFSETFROM:+0200
TZOFFSETTO:+0100
TZNAME:CET
DTSTART:20251026T010000
END:STANDARD
END:VTIMEZONE
BEGIN:VEVENT
DTSTART;TZID=Europe/Warsaw:20250328T170000
DTEND;TZID=Europe/Warsaw:20250328T180000
DTSTAMP:20260421T173324
CREATED:20250318T142618Z
LAST-MODIFIED:20250318T142618Z
UID:2870-1743181200-1743184800@cekacentrum.pl
SUMMARY:Przegląd teatrów: "Dziób w dziób" - Kurtyna w górę Środa Śląska
DESCRIPTION:Drugim ze spektakli\, który zostanie wystawiony w PCKA jest spektakl pt. „Dziób w dziób” młodzieżowej grupy teatralnej „Kurtyna w górę” ze Szkoły Podstawowej nr 3 w Środzie Śląskiej
URL:https://cekacentrum.pl/event/przeglad-teatrow-dziob-w-dziob-kurtyna-w-gore-sroda-slaska/
LOCATION:Powiatowe Centrum Kultury Alternatywnej\, pl. Przyszkolna 3\, Środa Śląska\, 55-300\, Poland
ATTACH;FMTTYPE=image/png:https://cekacentrum.pl/wp-content/uploads/2025/03/dziob-w-dziob.png
ORGANIZER;CN="Powiatowe Centrum Kultury Alternatywnej%2C ul. Przyszkolna 3%2C 55-300 %C5%9Aroda %C5%9Al%C4%85ska":MAILTO:biuro@cekacentrum.pl
END:VEVENT
BEGIN:VEVENT
DTSTART;TZID=Europe/Warsaw:20250328T190000
DTEND;TZID=Europe/Warsaw:20250328T203000
DTSTAMP:20260421T173324
CREATED:20250318T143014Z
LAST-MODIFIED:20250318T143014Z
UID:2873-1743188400-1743193800@cekacentrum.pl
SUMMARY:Przegląd Teatrów: „Królestwo ogrodu. Myśli”  Teatr Każdego Widza Wołów
DESCRIPTION:
URL:https://cekacentrum.pl/event/przeglad-teatrow-krolestwo-ogrodu-mysli-teatr-kazdego-widza-wolow/
LOCATION:Powiatowe Centrum Kultury Alternatywnej\, pl. Przyszkolna 3\, Środa Śląska\, 55-300\, Poland
ATTACH;FMTTYPE=image/jpeg:https://cekacentrum.pl/wp-content/uploads/2025/03/Krolestwo-ogrodu-mysli-scaled.jpg
ORGANIZER;CN="Powiatowe Centrum Kultury Alternatywnej%2C ul. Przyszkolna 3%2C 55-300 %C5%9Aroda %C5%9Al%C4%85ska":MAILTO:biuro@cekacentrum.pl
END:VEVENT
END:VCALENDAR