BEGIN:VCALENDAR
VERSION:2.0
PRODID:-//Powiatowe Centrum Kultury Alternatywnej - ECPv6.10.1.1//NONSGML v1.0//EN
CALSCALE:GREGORIAN
METHOD:PUBLISH
X-ORIGINAL-URL:https://cekacentrum.pl
X-WR-CALDESC:Wydarzenia dla Powiatowe Centrum Kultury Alternatywnej
REFRESH-INTERVAL;VALUE=DURATION:PT1H
X-Robots-Tag:noindex
X-PUBLISHED-TTL:PT1H
BEGIN:VTIMEZONE
TZID:Europe/Warsaw
BEGIN:DAYLIGHT
TZOFFSETFROM:+0100
TZOFFSETTO:+0200
TZNAME:CEST
DTSTART:20250330T010000
END:DAYLIGHT
BEGIN:STANDARD
TZOFFSETFROM:+0200
TZOFFSETTO:+0100
TZNAME:CET
DTSTART:20251026T010000
END:STANDARD
END:VTIMEZONE
BEGIN:VEVENT
DTSTART;TZID=Europe/Warsaw:20250329T160000
DTEND;TZID=Europe/Warsaw:20250329T170000
DTSTAMP:20260421T172723
CREATED:20250318T143623Z
LAST-MODIFIED:20250318T143623Z
UID:2877-1743264000-1743267600@cekacentrum.pl
SUMMARY:Przegląd teatrów: "Tajemnica Fallingford" Grupa młodzieżowa z PCKA Środa Śląska
DESCRIPTION:„Sztuka oniryczna\, pełna tajemnic i niedopowiedzeń.\n\n\nBędąca poniekąd kryminałem\, poniekąd detektywistyczną zagadką. Ukazująca obyczaje i system wychowania w XIX – wiecznej szkole z internatem w Londynie\, dominację wychowawców\, autorytarność\, dyscyplinę. W obliczu tej rzeczywistości ukazuje grupkę dziewcząt\, wrażliwych indywidualistek\, tych ambitnych\, posłusznych i tych pełnych niepokory.\nZza kurtyny wyłania się strach\, niepokój\, bezradność i ból\, ale i odwaga\, poświęcenie\, miłość\, przyjaźń i walka o zwycięstwo dobra nad złem.\nCo tak naprawdę wydarzyło się na pensji w 1899 roku ? Czy aby na pewno Fallingford to zwyczajna szkoła? Czy rzeczywistość zawsze jest tym\, czym się wydaje? „\n\n\nSerdecznie zapraszamy
URL:https://cekacentrum.pl/event/przeglad-teatrow-tajemnica-fallingford-grupa-mlodziezowa-z-pcka-sroda-slaska/
LOCATION:Powiatowe Centrum Kultury Alternatywnej\, pl. Przyszkolna 3\, Środa Śląska\, 55-300\, Poland
ATTACH;FMTTYPE=image/jpeg:https://cekacentrum.pl/wp-content/uploads/2025/03/483873436_970220601918533_5678999426165613813_n.jpg
ORGANIZER;CN="Powiatowe Centrum Kultury Alternatywnej%2C ul. Przyszkolna 3%2C 55-300 %C5%9Aroda %C5%9Al%C4%85ska":MAILTO:biuro@cekacentrum.pl
END:VEVENT
BEGIN:VEVENT
DTSTART;TZID=Europe/Warsaw:20250329T190000
DTEND;TZID=Europe/Warsaw:20250329T203000
DTSTAMP:20260421T172723
CREATED:20250318T143932Z
LAST-MODIFIED:20250318T143932Z
UID:2880-1743274800-1743280200@cekacentrum.pl
SUMMARY:Przegląd teatrów: "Ku przestrodze. Rzecz o wielkiej miłości króla do królowej. Ku zgubie występnym Paniom" grupa ATAM Malczyce
DESCRIPTION:
URL:https://cekacentrum.pl/event/przeglad-teatrow-ku-przestrodze-rzecz-o-wielkiej-milosci-krola-do-krolowej-ku-zgubie-wystepnym-paniom-grupa-atam-malczyce/
LOCATION:Powiatowe Centrum Kultury Alternatywnej\, pl. Przyszkolna 3\, Środa Śląska\, 55-300\, Poland
ATTACH;FMTTYPE=image/png:https://cekacentrum.pl/wp-content/uploads/2025/03/plakat-malczyce.png
ORGANIZER;CN="Powiatowe Centrum Kultury Alternatywnej%2C ul. Przyszkolna 3%2C 55-300 %C5%9Aroda %C5%9Al%C4%85ska":MAILTO:biuro@cekacentrum.pl
END:VEVENT
END:VCALENDAR