BEGIN:VCALENDAR
VERSION:2.0
PRODID:-//Powiatowe Centrum Kultury Alternatywnej - ECPv6.10.1.1//NONSGML v1.0//EN
CALSCALE:GREGORIAN
METHOD:PUBLISH
X-ORIGINAL-URL:https://cekacentrum.pl
X-WR-CALDESC:Wydarzenia dla Powiatowe Centrum Kultury Alternatywnej
REFRESH-INTERVAL;VALUE=DURATION:PT1H
X-Robots-Tag:noindex
X-PUBLISHED-TTL:PT1H
BEGIN:VTIMEZONE
TZID:Europe/Warsaw
BEGIN:DAYLIGHT
TZOFFSETFROM:+0100
TZOFFSETTO:+0200
TZNAME:CEST
DTSTART:20250330T010000
END:DAYLIGHT
BEGIN:STANDARD
TZOFFSETFROM:+0200
TZOFFSETTO:+0100
TZNAME:CET
DTSTART:20251026T010000
END:STANDARD
END:VTIMEZONE
BEGIN:VEVENT
DTSTART;TZID=Europe/Warsaw:20250406T100000
DTEND;TZID=Europe/Warsaw:20250406T180000
DTSTAMP:20260421T160525
CREATED:20250227T120103Z
LAST-MODIFIED:20250227T120103Z
UID:2804-1743933600-1743962400@cekacentrum.pl
SUMMARY:Jarmark Wielkanocny
DESCRIPTION:
URL:https://cekacentrum.pl/event/jarmark-wielkanocny/
LOCATION:Powiatowe Centrum Kultury Alternatywnej\, pl. Przyszkolna 3\, Środa Śląska\, 55-300\, Poland
ATTACH;FMTTYPE=image/jpeg:https://cekacentrum.pl/wp-content/uploads/2025/02/481120458_960286359578624_924479385800232660_n.jpg
ORGANIZER;CN="Powiatowe Centrum Kultury Alternatywnej%2C ul. Przyszkolna 3%2C 55-300 %C5%9Aroda %C5%9Al%C4%85ska":MAILTO:biuro@cekacentrum.pl
END:VEVENT
END:VCALENDAR