BEGIN:VCALENDAR
VERSION:2.0
PRODID:-//Powiatowe Centrum Kultury Alternatywnej - ECPv6.10.1.1//NONSGML v1.0//EN
CALSCALE:GREGORIAN
METHOD:PUBLISH
X-WR-CALNAME:Powiatowe Centrum Kultury Alternatywnej
X-ORIGINAL-URL:https://cekacentrum.pl
X-WR-CALDESC:Wydarzenia dla Powiatowe Centrum Kultury Alternatywnej
REFRESH-INTERVAL;VALUE=DURATION:PT1H
X-Robots-Tag:noindex
X-PUBLISHED-TTL:PT1H
BEGIN:VTIMEZONE
TZID:Europe/Warsaw
BEGIN:DAYLIGHT
TZOFFSETFROM:+0100
TZOFFSETTO:+0200
TZNAME:CEST
DTSTART:20250330T010000
END:DAYLIGHT
BEGIN:STANDARD
TZOFFSETFROM:+0200
TZOFFSETTO:+0100
TZNAME:CET
DTSTART:20251026T010000
END:STANDARD
END:VTIMEZONE
BEGIN:VEVENT
DTSTART;TZID=Europe/Warsaw:20250409T083000
DTEND;TZID=Europe/Warsaw:20250409T120000
DTSTAMP:20260421T160417
CREATED:20250407T115926Z
LAST-MODIFIED:20250407T115926Z
UID:3077-1744187400-1744200000@cekacentrum.pl
SUMMARY:Zbiórka Krwi
DESCRIPTION:Kolejna zbiórka krwi\, organizowana przez Regionalne Centrum Krwiodawstwa i Krwiolecznictwa odbędzie się 9 kwietnia w sali widowiskowej PCKA w godzinach 8:30-12:00
URL:https://cekacentrum.pl/event/zbiorka-krwi-11/
LOCATION:Powiatowe Centrum Kultury Alternatywnej\, pl. Przyszkolna 3\, Środa Śląska\, 55-300\, Poland
ATTACH;FMTTYPE=image/jpeg:https://cekacentrum.pl/wp-content/uploads/2024/05/zbiorka_krwi.jpg
END:VEVENT
BEGIN:VEVENT
DTSTART;TZID=Europe/Warsaw:20250409T183000
DTEND;TZID=Europe/Warsaw:20250409T200000
DTSTAMP:20260421T160417
CREATED:20250407T115421Z
LAST-MODIFIED:20250407T115421Z
UID:3074-1744223400-1744228800@cekacentrum.pl
SUMMARY:Spotkanie autorskie z Marią Kościelniak Jak turystyka odkryła polskie góry?
DESCRIPTION:Zapraszamy wszystkich miłośników turystyki razem z Klub Turystyki Wszelakiej w Środzie Śląskiej na wyjątkowe spotkanie 9.04.2025 (środa) o godzinie 18.30 w Kawiarenka Ceka – Środa Śląska z dr Marysią Kościelniak\, która będzie opowiadać o tym „Jak turystyka odkrywała polskie góry”. Maria Kościelniak jest zafascynowana tematami górskimi i turystycznymi\, prowadzi również podcast Górskie Historie\, który dostępny jest na YouTube oraz Spotify. Serdecznie zapraszamy
URL:https://cekacentrum.pl/event/spotkanie-autorskie-z-maria-koscielniak-jak-turystyka-odkryla-polskie-gory/
LOCATION:Powiatowe Centrum Kultury Alternatywnej\, pl. Przyszkolna 3\, Środa Śląska\, 55-300\, Poland
ATTACH;FMTTYPE=image/jpeg:https://cekacentrum.pl/wp-content/uploads/2025/04/487821522_985932190347374_8586348683988033543_n.jpg
ORGANIZER;CN="Powiatowe Centrum Kultury Alternatywnej%2C ul. Przyszkolna 3%2C 55-300 %C5%9Aroda %C5%9Al%C4%85ska":MAILTO:biuro@cekacentrum.pl
END:VEVENT
END:VCALENDAR