BEGIN:VCALENDAR
VERSION:2.0
PRODID:-//Powiatowe Centrum Kultury Alternatywnej - ECPv6.10.1.1//NONSGML v1.0//EN
CALSCALE:GREGORIAN
METHOD:PUBLISH
X-WR-CALNAME:Powiatowe Centrum Kultury Alternatywnej
X-ORIGINAL-URL:https://cekacentrum.pl
X-WR-CALDESC:Wydarzenia dla Powiatowe Centrum Kultury Alternatywnej
REFRESH-INTERVAL;VALUE=DURATION:PT1H
X-Robots-Tag:noindex
X-PUBLISHED-TTL:PT1H
BEGIN:VTIMEZONE
TZID:Europe/Warsaw
BEGIN:DAYLIGHT
TZOFFSETFROM:+0100
TZOFFSETTO:+0200
TZNAME:CEST
DTSTART:20250330T010000
END:DAYLIGHT
BEGIN:STANDARD
TZOFFSETFROM:+0200
TZOFFSETTO:+0100
TZNAME:CET
DTSTART:20251026T010000
END:STANDARD
END:VTIMEZONE
BEGIN:VEVENT
DTSTART;TZID=Europe/Warsaw:20250514T083000
DTEND;TZID=Europe/Warsaw:20250514T120000
DTSTAMP:20260421T143204
CREATED:20250512T095628Z
LAST-MODIFIED:20250512T095628Z
UID:3235-1747211400-1747224000@cekacentrum.pl
SUMMARY:Zbiórka Krwi
DESCRIPTION:Kolejna zbiórka krwi\, organizowana przez Regionalne Centrum Krwiodawstwa i Krwiolecznictwa odbędzie się 14 maja w sali widowiskowej PCKA w godzinach 8:30-12:00
URL:https://cekacentrum.pl/event/zbiorka-krwi-12/
LOCATION:Powiatowe Centrum Kultury Alternatywnej\, pl. Przyszkolna 3\, Środa Śląska\, 55-300\, Poland
ATTACH;FMTTYPE=image/jpeg:https://cekacentrum.pl/wp-content/uploads/2024/05/zbiorka_krwi.jpg
END:VEVENT
END:VCALENDAR