BEGIN:VCALENDAR
VERSION:2.0
PRODID:-//Powiatowe Centrum Kultury Alternatywnej - ECPv6.10.1.1//NONSGML v1.0//EN
CALSCALE:GREGORIAN
METHOD:PUBLISH
X-WR-CALNAME:Powiatowe Centrum Kultury Alternatywnej
X-ORIGINAL-URL:https://cekacentrum.pl
X-WR-CALDESC:Wydarzenia dla Powiatowe Centrum Kultury Alternatywnej
REFRESH-INTERVAL;VALUE=DURATION:PT1H
X-Robots-Tag:noindex
X-PUBLISHED-TTL:PT1H
BEGIN:VTIMEZONE
TZID:Europe/Warsaw
BEGIN:DAYLIGHT
TZOFFSETFROM:+0100
TZOFFSETTO:+0200
TZNAME:CEST
DTSTART:20250330T010000
END:DAYLIGHT
BEGIN:STANDARD
TZOFFSETFROM:+0200
TZOFFSETTO:+0100
TZNAME:CET
DTSTART:20251026T010000
END:STANDARD
END:VTIMEZONE
BEGIN:VEVENT
DTSTART;TZID=Europe/Warsaw:20250816T120000
DTEND;TZID=Europe/Warsaw:20250817T120000
DTSTAMP:20260421T100916
CREATED:20250624T102635Z
LAST-MODIFIED:20250624T102655Z
UID:3384-1755345600-1755432000@cekacentrum.pl
SUMMARY:II Średzki Maraton Rowerowy 24H "W samo południe"
DESCRIPTION:II Średzki Maraton Rowerowy 24H „W samo południe” to wydarzenie sportowe\, które odbędzie się 16-17 sierpnia 2025 roku w Środzie Śląskiej. Uczestnicy będą mieli 24 godziny na pokonanie pętli o długości 25 km\, dowolną ilość razy. Start i meta będą zlokalizowane na terenie Powiatowego Centrum Kultury Alternatywnej.\n\nSzczegóły:Data: 16-17 sierpnia 2025 r.Miejsce: Środa Śląska\, Powiatowe Centrum Kultury AlternatywnejDystans: 25 km pętlaCzas trwania: 24 godziny (start 16 sierpnia o 12:00\, meta 17 sierpnia o 12:00)\nZasady: Uczestnicy mogą jeździć kiedy chcą i ile chcą w czasie trwania maratonu. Zwycięża osoba\, która pokona jak największy dystans w jak najkrótszym czasie.\n\nZAPISY TELEFONICZNIE:w godzinach 8:00 – 15:00 w dni robocze71 307 00 03
URL:https://cekacentrum.pl/event/3384/
LOCATION:Powiatowe Centrum Kultury Alternatywnej\, pl. Przyszkolna 3\, Środa Śląska\, 55-300\, Poland
ATTACH;FMTTYPE=image/jpeg:https://cekacentrum.pl/wp-content/uploads/2025/06/511853296_1297457202387548_6651608405802338998_n.jpg
ORGANIZER;CN="OSIR %C5%9Aroda %C5%9Al%C4%85ska":MAILTO:centrum@osirsrodaslaska.pl
END:VEVENT
END:VCALENDAR