BEGIN:VCALENDAR
VERSION:2.0
PRODID:-//Powiatowe Centrum Kultury Alternatywnej - ECPv6.10.1.1//NONSGML v1.0//EN
CALSCALE:GREGORIAN
METHOD:PUBLISH
X-ORIGINAL-URL:https://cekacentrum.pl
X-WR-CALDESC:Wydarzenia dla Powiatowe Centrum Kultury Alternatywnej
REFRESH-INTERVAL;VALUE=DURATION:PT1H
X-Robots-Tag:noindex
X-PUBLISHED-TTL:PT1H
BEGIN:VTIMEZONE
TZID:Europe/Warsaw
BEGIN:DAYLIGHT
TZOFFSETFROM:+0100
TZOFFSETTO:+0200
TZNAME:CEST
DTSTART:20260329T010000
END:DAYLIGHT
BEGIN:STANDARD
TZOFFSETFROM:+0200
TZOFFSETTO:+0100
TZNAME:CET
DTSTART:20261025T010000
END:STANDARD
END:VTIMEZONE
BEGIN:VEVENT
DTSTART;TZID=Europe/Warsaw:20260211T083000
DTEND;TZID=Europe/Warsaw:20260211T120000
DTSTAMP:20260421T004132
CREATED:20260122T121921Z
LAST-MODIFIED:20260122T121921Z
UID:4037-1770798600-1770811200@cekacentrum.pl
SUMMARY:zbiórka krwi
DESCRIPTION:
URL:https://cekacentrum.pl/event/zbiorka-krwi-14/
LOCATION:Powiatowe Centrum Kultury Alternatywnej\, pl. Przyszkolna 3\, Środa Śląska\, 55-300\, Poland
ATTACH;FMTTYPE=image/jpeg:https://cekacentrum.pl/wp-content/uploads/2024/05/zbiorka_krwi.jpg
END:VEVENT
END:VCALENDAR