BEGIN:VCALENDAR
VERSION:2.0
PRODID:-//Powiatowe Centrum Kultury Alternatywnej - ECPv6.10.1.1//NONSGML v1.0//EN
CALSCALE:GREGORIAN
METHOD:PUBLISH
X-WR-CALNAME:Powiatowe Centrum Kultury Alternatywnej
X-ORIGINAL-URL:https://cekacentrum.pl
X-WR-CALDESC:Wydarzenia dla Powiatowe Centrum Kultury Alternatywnej
REFRESH-INTERVAL;VALUE=DURATION:PT1H
X-Robots-Tag:noindex
X-PUBLISHED-TTL:PT1H
BEGIN:VTIMEZONE
TZID:Europe/Warsaw
BEGIN:DAYLIGHT
TZOFFSETFROM:+0100
TZOFFSETTO:+0200
TZNAME:CEST
DTSTART:20260329T010000
END:DAYLIGHT
BEGIN:STANDARD
TZOFFSETFROM:+0200
TZOFFSETTO:+0100
TZNAME:CET
DTSTART:20261025T010000
END:STANDARD
END:VTIMEZONE
BEGIN:VEVENT
DTSTART;TZID=Europe/Warsaw:20260311T083000
DTEND;TZID=Europe/Warsaw:20260311T120000
DTSTAMP:20260421T004018
CREATED:20260310T082355Z
LAST-MODIFIED:20260310T082447Z
UID:4239-1773217800-1773230400@cekacentrum.pl
SUMMARY:ZBIÓRKA KRWI
DESCRIPTION:Już 11 marca 2026 r. (środa) zapraszamy wszystkich chętnych do udziału w zbiórce krwi\, która odbędzie się w:\n\n\n Sala widowiskowa PCKA\nul. Przyszkolna 3\, Środa Śląska\,\n Godziny: 8:30 – 12:00\n\n\nTwoja krew może uratować życie drugiego człowieka. To tylko chwila\, a dla kogoś może oznaczać drugą szansę.\n\n\n Jeśli jesteś zdrowy i masz ukończone 18 lat – przyjdź i podziel się tym\, co najcenniejsze.\n\n\n Zachęcamy do udostępniania i zapraszania znajomych!\n\n\n\n\n\n\n\n\n\n\n\n\n\n\n\n\n\n\nRegionalne Centrum Krwiodawstwa i Krwiolecznictwa we Wrocławiu
URL:https://cekacentrum.pl/event/zbiorka-krwi-15/
ATTACH;FMTTYPE=image/png:https://cekacentrum.pl/wp-content/uploads/2026/03/krewka.png
END:VEVENT
END:VCALENDAR