BEGIN:VCALENDAR
VERSION:2.0
PRODID:-//Powiatowe Centrum Kultury Alternatywnej - ECPv6.10.1.1//NONSGML v1.0//EN
CALSCALE:GREGORIAN
METHOD:PUBLISH
X-WR-CALNAME:Powiatowe Centrum Kultury Alternatywnej
X-ORIGINAL-URL:https://cekacentrum.pl
X-WR-CALDESC:Wydarzenia dla Powiatowe Centrum Kultury Alternatywnej
REFRESH-INTERVAL;VALUE=DURATION:PT1H
X-Robots-Tag:noindex
X-PUBLISHED-TTL:PT1H
BEGIN:VTIMEZONE
TZID:Europe/Warsaw
BEGIN:DAYLIGHT
TZOFFSETFROM:+0100
TZOFFSETTO:+0200
TZNAME:CEST
DTSTART:20250330T010000
END:DAYLIGHT
BEGIN:STANDARD
TZOFFSETFROM:+0200
TZOFFSETTO:+0100
TZNAME:CET
DTSTART:20251026T010000
END:STANDARD
BEGIN:DAYLIGHT
TZOFFSETFROM:+0100
TZOFFSETTO:+0200
TZNAME:CEST
DTSTART:20260329T010000
END:DAYLIGHT
BEGIN:STANDARD
TZOFFSETFROM:+0200
TZOFFSETTO:+0100
TZNAME:CET
DTSTART:20261025T010000
END:STANDARD
END:VTIMEZONE
BEGIN:VEVENT
DTSTART;TZID=Europe/Warsaw:20251004T180000
DTEND;TZID=Europe/Warsaw:20251004T200000
DTSTAMP:20260421T070742
CREATED:20250818T084746Z
LAST-MODIFIED:20250821T131510Z
UID:3523-1759600800-1759608000@cekacentrum.pl
SUMMARY:La Vie Boheme III – Średzka Scena Musicalowa
DESCRIPTION:Musical La Vie Bohème to opowieść o pasji\, miłości i wolności\, osadzona w świecie artystycznej bohemy. Głównymi bohaterami są ekscentryczni przyjaciele – malarze\, muzycy\, poeci i myśliciele – którzy postanawiają wspólnie zamieszkać\, tworząc swoistą komunę artystyczną. Każde z nich pochodzi z innego środowiska\, ma inną historię i odmienne spojrzenie na życie\, lecz łączy ich jedno: pragnienie autentyczności\, potrzeba tworzenia i bunt wobec konformizmu współczesnego świata. \nRazem kształtują mikrospołeczność\, w której priorytetem nie są pieniądze czy sława\, lecz sztuka\, przyjaźń i nieograniczona wolność. Przeciwstawiają się globalizacji\, komercjalizacji i szaleńczemu pędowi cywilizacji\, próbując odnaleźć własną drogę\, niezależną od narzuconych schematów. Ich życie jest pełne wzlotów i upadków\, ale dzięki wzajemnemu wsparciu i nieustannej radości z chwil\, które przeżywają\, udaje im się trwać w tym niezwykłym świecie. \nWszystko zmienia się\, gdy pojawia się Mimi – tajemnicza\, pełna życia młoda kobieta\, która nieświadomie wywraca do góry nogami świat bohemy. Jej wizyta\, choć początkowo wydaje się przypadkowa\, okazuje się mieć ogromny wpływ na losy całej grupy. Mimi wnosi do ich życia nowe spojrzenie na świat\, inspiruje\, a swoją pogodą ducha i odwagą\, często nieświadomie\, pomaga im stawić czoła lękom\, zwłaszcza temu największemu – strachowi przed przemijaniem i śmiercią. \nCzy bohema pozostanie wierna swoim ideałom? Czy Mimi okaże się katalizatorem zmian\, których nikt się nie spodziewał? La Vie Bohème to historia o tym\, jak sztuka\, przyjaźń i miłość potrafią przełamać wszelkie bariery i sprawić\, że każda chwila może trwać wiecznie.
URL:https://cekacentrum.pl/event/la-vie-boheme-iii-sredzka-scena-musicalowa/
LOCATION:Powiatowe Centrum Kultury Alternatywnej\, pl. Przyszkolna 3\, Środa Śląska\, 55-300\, Poland
ATTACH;FMTTYPE=image/png:https://cekacentrum.pl/wp-content/uploads/2025/08/sredzka-bohema-1.png
ORGANIZER;CN="Powiatowe Centrum Kultury Alternatywnej%2C ul. Przyszkolna 3%2C 55-300 %C5%9Aroda %C5%9Al%C4%85ska":MAILTO:biuro@cekacentrum.pl
END:VEVENT
BEGIN:VEVENT
DTSTART;TZID=Europe/Warsaw:20251005T180000
DTEND;TZID=Europe/Warsaw:20251005T200000
DTSTAMP:20260421T070742
CREATED:20250818T084841Z
LAST-MODIFIED:20250821T131626Z
UID:3525-1759687200-1759694400@cekacentrum.pl
SUMMARY:La Vie Boheme IV – Średzka Scena Musicalowa
DESCRIPTION:Musical La Vie Bohème to opowieść o pasji\, miłości i wolności\, osadzona w świecie artystycznej bohemy. Głównymi bohaterami są ekscentryczni przyjaciele – malarze\, muzycy\, poeci i myśliciele – którzy postanawiają wspólnie zamieszkać\, tworząc swoistą komunę artystyczną. Każde z nich pochodzi z innego środowiska\, ma inną historię i odmienne spojrzenie na życie\, lecz łączy ich jedno: pragnienie autentyczności\, potrzeba tworzenia i bunt wobec konformizmu współczesnego świata. \nRazem kształtują mikrospołeczność\, w której priorytetem nie są pieniądze czy sława\, lecz sztuka\, przyjaźń i nieograniczona wolność. Przeciwstawiają się globalizacji\, komercjalizacji i szaleńczemu pędowi cywilizacji\, próbując odnaleźć własną drogę\, niezależną od narzuconych schematów. Ich życie jest pełne wzlotów i upadków\, ale dzięki wzajemnemu wsparciu i nieustannej radości z chwil\, które przeżywają\, udaje im się trwać w tym niezwykłym świecie. \nWszystko zmienia się\, gdy pojawia się Mimi – tajemnicza\, pełna życia młoda kobieta\, która nieświadomie wywraca do góry nogami świat bohemy. Jej wizyta\, choć początkowo wydaje się przypadkowa\, okazuje się mieć ogromny wpływ na losy całej grupy. Mimi wnosi do ich życia nowe spojrzenie na świat\, inspiruje\, a swoją pogodą ducha i odwagą\, często nieświadomie\, pomaga im stawić czoła lękom\, zwłaszcza temu największemu – strachowi przed przemijaniem i śmiercią. \nCzy bohema pozostanie wierna swoim ideałom? Czy Mimi okaże się katalizatorem zmian\, których nikt się nie spodziewał? La Vie Bohème to historia o tym\, jak sztuka\, przyjaźń i miłość potrafią przełamać wszelkie bariery i sprawić\, że każda chwila może trwać wiecznie.
URL:https://cekacentrum.pl/event/la-vie-boheme-iv-sredzka-scena-musicalowa/
LOCATION:Powiatowe Centrum Kultury Alternatywnej\, pl. Przyszkolna 3\, Środa Śląska\, 55-300\, Poland
ATTACH;FMTTYPE=image/png:https://cekacentrum.pl/wp-content/uploads/2025/08/sredzka-bohema-1.png
ORGANIZER;CN="Powiatowe Centrum Kultury Alternatywnej%2C ul. Przyszkolna 3%2C 55-300 %C5%9Aroda %C5%9Al%C4%85ska":MAILTO:biuro@cekacentrum.pl
END:VEVENT
BEGIN:VEVENT
DTSTART;TZID=Europe/Warsaw:20251010T190000
DTEND;TZID=Europe/Warsaw:20251010T210000
DTSTAMP:20260421T070742
CREATED:20250818T085019Z
LAST-MODIFIED:20250821T131717Z
UID:3527-1760122800-1760130000@cekacentrum.pl
SUMMARY:La Vie Boheme V – Średzka Scena Musicalowa
DESCRIPTION:Musical La Vie Bohème to opowieść o pasji\, miłości i wolności\, osadzona w świecie artystycznej bohemy. Głównymi bohaterami są ekscentryczni przyjaciele – malarze\, muzycy\, poeci i myśliciele – którzy postanawiają wspólnie zamieszkać\, tworząc swoistą komunę artystyczną. Każde z nich pochodzi z innego środowiska\, ma inną historię i odmienne spojrzenie na życie\, lecz łączy ich jedno: pragnienie autentyczności\, potrzeba tworzenia i bunt wobec konformizmu współczesnego świata. \nRazem kształtują mikrospołeczność\, w której priorytetem nie są pieniądze czy sława\, lecz sztuka\, przyjaźń i nieograniczona wolność. Przeciwstawiają się globalizacji\, komercjalizacji i szaleńczemu pędowi cywilizacji\, próbując odnaleźć własną drogę\, niezależną od narzuconych schematów. Ich życie jest pełne wzlotów i upadków\, ale dzięki wzajemnemu wsparciu i nieustannej radości z chwil\, które przeżywają\, udaje im się trwać w tym niezwykłym świecie. \nWszystko zmienia się\, gdy pojawia się Mimi – tajemnicza\, pełna życia młoda kobieta\, która nieświadomie wywraca do góry nogami świat bohemy. Jej wizyta\, choć początkowo wydaje się przypadkowa\, okazuje się mieć ogromny wpływ na losy całej grupy. Mimi wnosi do ich życia nowe spojrzenie na świat\, inspiruje\, a swoją pogodą ducha i odwagą\, często nieświadomie\, pomaga im stawić czoła lękom\, zwłaszcza temu największemu – strachowi przed przemijaniem i śmiercią. \nCzy bohema pozostanie wierna swoim ideałom? Czy Mimi okaże się katalizatorem zmian\, których nikt się nie spodziewał? La Vie Bohème to historia o tym\, jak sztuka\, przyjaźń i miłość potrafią przełamać wszelkie bariery i sprawić\, że każda chwila może trwać wiecznie.
URL:https://cekacentrum.pl/event/la-vie-boheme-v-sredzka-scena-musicalowa/
LOCATION:Powiatowe Centrum Kultury Alternatywnej\, pl. Przyszkolna 3\, Środa Śląska\, 55-300\, Poland
ATTACH;FMTTYPE=image/png:https://cekacentrum.pl/wp-content/uploads/2025/08/sredzka-bohema-1.png
ORGANIZER;CN="Powiatowe Centrum Kultury Alternatywnej%2C ul. Przyszkolna 3%2C 55-300 %C5%9Aroda %C5%9Al%C4%85ska":MAILTO:biuro@cekacentrum.pl
END:VEVENT
BEGIN:VEVENT
DTSTART;TZID=Europe/Warsaw:20251012T180000
DTEND;TZID=Europe/Warsaw:20251012T200000
DTSTAMP:20260421T070742
CREATED:20250818T085113Z
LAST-MODIFIED:20250821T131833Z
UID:3529-1760292000-1760299200@cekacentrum.pl
SUMMARY:La Vie Boheme VI – Średzka Scena Musicalowa
DESCRIPTION:Musical La Vie Bohème to opowieść o pasji\, miłości i wolności\, osadzona w świecie artystycznej bohemy. Głównymi bohaterami są ekscentryczni przyjaciele – malarze\, muzycy\, poeci i myśliciele – którzy postanawiają wspólnie zamieszkać\, tworząc swoistą komunę artystyczną. Każde z nich pochodzi z innego środowiska\, ma inną historię i odmienne spojrzenie na życie\, lecz łączy ich jedno: pragnienie autentyczności\, potrzeba tworzenia i bunt wobec konformizmu współczesnego świata. \nRazem kształtują mikrospołeczność\, w której priorytetem nie są pieniądze czy sława\, lecz sztuka\, przyjaźń i nieograniczona wolność. Przeciwstawiają się globalizacji\, komercjalizacji i szaleńczemu pędowi cywilizacji\, próbując odnaleźć własną drogę\, niezależną od narzuconych schematów. Ich życie jest pełne wzlotów i upadków\, ale dzięki wzajemnemu wsparciu i nieustannej radości z chwil\, które przeżywają\, udaje im się trwać w tym niezwykłym świecie. \nWszystko zmienia się\, gdy pojawia się Mimi – tajemnicza\, pełna życia młoda kobieta\, która nieświadomie wywraca do góry nogami świat bohemy. Jej wizyta\, choć początkowo wydaje się przypadkowa\, okazuje się mieć ogromny wpływ na losy całej grupy. Mimi wnosi do ich życia nowe spojrzenie na świat\, inspiruje\, a swoją pogodą ducha i odwagą\, często nieświadomie\, pomaga im stawić czoła lękom\, zwłaszcza temu największemu – strachowi przed przemijaniem i śmiercią. \nCzy bohema pozostanie wierna swoim ideałom? Czy Mimi okaże się katalizatorem zmian\, których nikt się nie spodziewał? La Vie Bohème to historia o tym\, jak sztuka\, przyjaźń i miłość potrafią przełamać wszelkie bariery i sprawić\, że każda chwila może trwać wiecznie.
URL:https://cekacentrum.pl/event/la-vie-boheme-vi-sredzka-scena-musicalowa/
LOCATION:Powiatowe Centrum Kultury Alternatywnej\, pl. Przyszkolna 3\, Środa Śląska\, 55-300\, Poland
ATTACH;FMTTYPE=image/png:https://cekacentrum.pl/wp-content/uploads/2025/08/sredzka-bohema-1.png
ORGANIZER;CN="Powiatowe Centrum Kultury Alternatywnej%2C ul. Przyszkolna 3%2C 55-300 %C5%9Aroda %C5%9Al%C4%85ska":MAILTO:biuro@cekacentrum.pl
END:VEVENT
BEGIN:VEVENT
DTSTART;TZID=Europe/Warsaw:20251018T180000
DTEND;TZID=Europe/Warsaw:20251018T200000
DTSTAMP:20260421T070742
CREATED:20250818T085214Z
LAST-MODIFIED:20250821T131900Z
UID:3531-1760810400-1760817600@cekacentrum.pl
SUMMARY:La Vie Boheme VII – Średzka Scena Musicalowa
DESCRIPTION:Musical La Vie Bohème to opowieść o pasji\, miłości i wolności\, osadzona w świecie artystycznej bohemy. Głównymi bohaterami są ekscentryczni przyjaciele – malarze\, muzycy\, poeci i myśliciele – którzy postanawiają wspólnie zamieszkać\, tworząc swoistą komunę artystyczną. Każde z nich pochodzi z innego środowiska\, ma inną historię i odmienne spojrzenie na życie\, lecz łączy ich jedno: pragnienie autentyczności\, potrzeba tworzenia i bunt wobec konformizmu współczesnego świata. \nRazem kształtują mikrospołeczność\, w której priorytetem nie są pieniądze czy sława\, lecz sztuka\, przyjaźń i nieograniczona wolność. Przeciwstawiają się globalizacji\, komercjalizacji i szaleńczemu pędowi cywilizacji\, próbując odnaleźć własną drogę\, niezależną od narzuconych schematów. Ich życie jest pełne wzlotów i upadków\, ale dzięki wzajemnemu wsparciu i nieustannej radości z chwil\, które przeżywają\, udaje im się trwać w tym niezwykłym świecie. \nWszystko zmienia się\, gdy pojawia się Mimi – tajemnicza\, pełna życia młoda kobieta\, która nieświadomie wywraca do góry nogami świat bohemy. Jej wizyta\, choć początkowo wydaje się przypadkowa\, okazuje się mieć ogromny wpływ na losy całej grupy. Mimi wnosi do ich życia nowe spojrzenie na świat\, inspiruje\, a swoją pogodą ducha i odwagą\, często nieświadomie\, pomaga im stawić czoła lękom\, zwłaszcza temu największemu – strachowi przed przemijaniem i śmiercią. \nCzy bohema pozostanie wierna swoim ideałom? Czy Mimi okaże się katalizatorem zmian\, których nikt się nie spodziewał? La Vie Bohème to historia o tym\, jak sztuka\, przyjaźń i miłość potrafią przełamać wszelkie bariery i sprawić\, że każda chwila może trwać wiecznie.
URL:https://cekacentrum.pl/event/la-vie-boheme-vii-sredzka-scena-musicalowa/
LOCATION:Powiatowe Centrum Kultury Alternatywnej\, pl. Przyszkolna 3\, Środa Śląska\, 55-300\, Poland
ATTACH;FMTTYPE=image/png:https://cekacentrum.pl/wp-content/uploads/2025/08/sredzka-bohema-1.png
ORGANIZER;CN="Powiatowe Centrum Kultury Alternatywnej%2C ul. Przyszkolna 3%2C 55-300 %C5%9Aroda %C5%9Al%C4%85ska":MAILTO:biuro@cekacentrum.pl
END:VEVENT
BEGIN:VEVENT
DTSTART;TZID=Europe/Warsaw:20251019T180000
DTEND;TZID=Europe/Warsaw:20251019T200000
DTSTAMP:20260421T070742
CREATED:20250818T085301Z
LAST-MODIFIED:20250821T131937Z
UID:3533-1760896800-1760904000@cekacentrum.pl
SUMMARY:La Vie Boheme VIII – Średzka Scena Musicalowa
DESCRIPTION:Musical La Vie Bohème to opowieść o pasji\, miłości i wolności\, osadzona w świecie artystycznej bohemy. Głównymi bohaterami są ekscentryczni przyjaciele – malarze\, muzycy\, poeci i myśliciele – którzy postanawiają wspólnie zamieszkać\, tworząc swoistą komunę artystyczną. Każde z nich pochodzi z innego środowiska\, ma inną historię i odmienne spojrzenie na życie\, lecz łączy ich jedno: pragnienie autentyczności\, potrzeba tworzenia i bunt wobec konformizmu współczesnego świata. \nRazem kształtują mikrospołeczność\, w której priorytetem nie są pieniądze czy sława\, lecz sztuka\, przyjaźń i nieograniczona wolność. Przeciwstawiają się globalizacji\, komercjalizacji i szaleńczemu pędowi cywilizacji\, próbując odnaleźć własną drogę\, niezależną od narzuconych schematów. Ich życie jest pełne wzlotów i upadków\, ale dzięki wzajemnemu wsparciu i nieustannej radości z chwil\, które przeżywają\, udaje im się trwać w tym niezwykłym świecie. \nWszystko zmienia się\, gdy pojawia się Mimi – tajemnicza\, pełna życia młoda kobieta\, która nieświadomie wywraca do góry nogami świat bohemy. Jej wizyta\, choć początkowo wydaje się przypadkowa\, okazuje się mieć ogromny wpływ na losy całej grupy. Mimi wnosi do ich życia nowe spojrzenie na świat\, inspiruje\, a swoją pogodą ducha i odwagą\, często nieświadomie\, pomaga im stawić czoła lękom\, zwłaszcza temu największemu – strachowi przed przemijaniem i śmiercią. \nCzy bohema pozostanie wierna swoim ideałom? Czy Mimi okaże się katalizatorem zmian\, których nikt się nie spodziewał? La Vie Bohème to historia o tym\, jak sztuka\, przyjaźń i miłość potrafią przełamać wszelkie bariery i sprawić\, że każda chwila może trwać wiecznie.
URL:https://cekacentrum.pl/event/la-vie-boheme-viii-sredzka-scena-musicalowa/
LOCATION:Powiatowe Centrum Kultury Alternatywnej\, pl. Przyszkolna 3\, Środa Śląska\, 55-300\, Poland
ATTACH;FMTTYPE=image/png:https://cekacentrum.pl/wp-content/uploads/2025/08/sredzka-bohema-1.png
ORGANIZER;CN="Powiatowe Centrum Kultury Alternatywnej%2C ul. Przyszkolna 3%2C 55-300 %C5%9Aroda %C5%9Al%C4%85ska":MAILTO:biuro@cekacentrum.pl
END:VEVENT
BEGIN:VEVENT
DTSTART;TZID=Europe/Warsaw:20251024T170000
DTEND;TZID=Europe/Warsaw:20251024T190000
DTSTAMP:20260421T070742
CREATED:20251013T103443Z
LAST-MODIFIED:20251013T103443Z
UID:3840-1761325200-1761332400@cekacentrum.pl
SUMMARY:5-lecie Średzkiej Sceny Musicalowej
DESCRIPTION:Średzka Scena Musicalowa to wyjątkowy projekt artystyczny działający przy Powiatowym Centrum Kultury Alternatywnej w Środzie Śląskiej. Pomysłodawcami i założycielami Średzkiej Sceny Musicalowej są Piotr Sapieja – reżyser\, autor scenariuszy i dusza całego przedsięwzięcia\, oraz Elena Miś\, pierwsza instruktorka śpiewu. W 2020 r\, wspólnie stworzyli zespół\, który dał początek muzycznej przygodzie\, łączącej pasję\, młodość i lokalny talent. \nWkrótce do drużyny dołączyła Małgorzata Mania\, odpowiedzialna za choreografię. To właśnie ta trójka – Piotr\, Elena i Gosia – zrekrutowała pierwsze grupy wokalne i taneczne\, które w 2021 roku wystawiły debiutancki musical „Na strunach szyn”\, inspirowany legendarnym „Metrem” teatru Buffo. \nRok później ten sam zespół twórczy zaprezentował widzom musical „Muzeum osobliwości Barnuma”\, czerpiący inspirację z filmu The Greatest Showman. Spektakl spotkał się z ogromnym uznaniem publiczności i umocnił pozycję średzkiego zespołu na kulturalnej mapie regionu. \nKolejny etap rozwoju przyniósł zmiany personalne – opiekę nad grupą wokalną przejęła Małgorzata Pauka\, finalistka The Voice of Poland\, a choreografię objął Piotr Małecki. W nowym składzie powstał musical „Więzienne tango”\, inspirowany broadwayowskim hitem Chicago. Spektakl był wystawiany nie tylko w Środzie Śląskiej\, ale także gościnnie w Ząbkowicach Śląskich\, co stanowiło ważny krok w rozwoju zespołu. \nW kolejnym roku Piotra Małeckiego zastąpiła Natalia Pasek\, która objęła kierownictwo choreograficzne. Wspólnie z Piotrem Sapieją i Małgorzatą Pauką stworzyli widowisko „Carpe Noctem – Tryumf Nocy”\, w którym taniec\, muzyka i symbolika nocy połączyły się w niezwykle emocjonalną całość. \nNajświeższym projektem zespołu jest musical „La Vie Bohème – Życie Bohemy” – autorski scenariusz Piotra Sapiei\, przygotowany przez stały już zespół: Piotra\, Gosię i Natalię. Spektakl\, podobnie jak poprzednie\, łączy w sobie muzykę na żywo\, taniec\, grę aktorską i silne emocje\, a jego premiera stała się jednym z najważniejszych wydarzeń kulturalnych roku w Środzie Śląskiej. \nŚredzka Scena Musicalowa to nie tylko teatr – to wspólnota ludzi\, których łączy pasja tworzenia\, potrzeba wyrażania siebie i chęć dzielenia się emocjami z publicznością. Z każdym rokiem zespół udowadnia\, że lokalna scena może brzmieć naprawdę światowo. \nZ okazji jubileuszu powstania ŚSM zapraszamy na wyjątkowe wydarzenie\, podczas którego wokaliści i tancerki zaprezentują swoje ulubione hity ze wszystkich musicali\, które powstały w ciągu ostatnich pięciu lat.\nTo będzie pełen emocji\, wspomnień i muzycznej energii wieczór – podróż przez najpiękniejsze momenty naszej scenicznej historii!
URL:https://cekacentrum.pl/event/5-lecie-sredzkiej-sceny-musicalowej/
LOCATION:Powiatowe Centrum Kultury Alternatywnej\, pl. Przyszkolna 3\, Środa Śląska\, 55-300\, Poland
ATTACH;FMTTYPE=image/png:https://cekacentrum.pl/wp-content/uploads/2025/10/Colorful-Black-Bold-Colors-Pride-Parade-Poster.png
ORGANIZER;CN="Powiatowe Centrum Kultury Alternatywnej%2C ul. Przyszkolna 3%2C 55-300 %C5%9Aroda %C5%9Al%C4%85ska":MAILTO:biuro@cekacentrum.pl
END:VEVENT
BEGIN:VEVENT
DTSTART;TZID=Europe/Warsaw:20251026T180000
DTEND;TZID=Europe/Warsaw:20251026T200000
DTSTAMP:20260421T070742
CREATED:20250818T085403Z
LAST-MODIFIED:20250821T132002Z
UID:3535-1761501600-1761508800@cekacentrum.pl
SUMMARY:La Vie Boheme IX – Średzka Scena Musicalowa
DESCRIPTION:Musical La Vie Bohème to opowieść o pasji\, miłości i wolności\, osadzona w świecie artystycznej bohemy. Głównymi bohaterami są ekscentryczni przyjaciele – malarze\, muzycy\, poeci i myśliciele – którzy postanawiają wspólnie zamieszkać\, tworząc swoistą komunę artystyczną. Każde z nich pochodzi z innego środowiska\, ma inną historię i odmienne spojrzenie na życie\, lecz łączy ich jedno: pragnienie autentyczności\, potrzeba tworzenia i bunt wobec konformizmu współczesnego świata. \nRazem kształtują mikrospołeczność\, w której priorytetem nie są pieniądze czy sława\, lecz sztuka\, przyjaźń i nieograniczona wolność. Przeciwstawiają się globalizacji\, komercjalizacji i szaleńczemu pędowi cywilizacji\, próbując odnaleźć własną drogę\, niezależną od narzuconych schematów. Ich życie jest pełne wzlotów i upadków\, ale dzięki wzajemnemu wsparciu i nieustannej radości z chwil\, które przeżywają\, udaje im się trwać w tym niezwykłym świecie. \nWszystko zmienia się\, gdy pojawia się Mimi – tajemnicza\, pełna życia młoda kobieta\, która nieświadomie wywraca do góry nogami świat bohemy. Jej wizyta\, choć początkowo wydaje się przypadkowa\, okazuje się mieć ogromny wpływ na losy całej grupy. Mimi wnosi do ich życia nowe spojrzenie na świat\, inspiruje\, a swoją pogodą ducha i odwagą\, często nieświadomie\, pomaga im stawić czoła lękom\, zwłaszcza temu największemu – strachowi przed przemijaniem i śmiercią. \nCzy bohema pozostanie wierna swoim ideałom? Czy Mimi okaże się katalizatorem zmian\, których nikt się nie spodziewał? La Vie Bohème to historia o tym\, jak sztuka\, przyjaźń i miłość potrafią przełamać wszelkie bariery i sprawić\, że każda chwila może trwać wiecznie.
URL:https://cekacentrum.pl/event/la-vie-boheme-ix-sredzka-scena-musicalowa/
LOCATION:Powiatowe Centrum Kultury Alternatywnej\, pl. Przyszkolna 3\, Środa Śląska\, 55-300\, Poland
ATTACH;FMTTYPE=image/png:https://cekacentrum.pl/wp-content/uploads/2025/08/sredzka-bohema-1.png
ORGANIZER;CN="Powiatowe Centrum Kultury Alternatywnej%2C ul. Przyszkolna 3%2C 55-300 %C5%9Aroda %C5%9Al%C4%85ska":MAILTO:biuro@cekacentrum.pl
END:VEVENT
BEGIN:VEVENT
DTSTART;TZID=Europe/Warsaw:20260124T130000
DTEND;TZID=Europe/Warsaw:20260124T220000
DTSTAMP:20260421T070742
CREATED:20260122T120528Z
LAST-MODIFIED:20260122T120528Z
UID:4034-1769259600-1769292000@cekacentrum.pl
SUMMARY:34 finał WOŚP - 24 stycznia 2026!!
DESCRIPTION:Już w SOBOTĘ gramy razem podczas 34. Finału WOŚP !  Zaczęliśmy już wczoraj z Zakręcona Szkoła Tańca i Zumba Środa Śląska \nBędzie się działo… i to jak! \n koncerty Kompoot Średzka Scena Musicalowa Minęło Band\n licytacje na sali widowiskowej Powiat Średzki\n kiermasz książek i  ciast (bo bez ciasta się nie liczy ) 2 Średzki Szczep Harcerski „Cztery Strony Świata”\n ognisko Kawiarenka Ceka – Środa Śląska\n odwiedzą nas klasyki Klasyki Miasta Skarbów\n pokaz tańca Artia Akademia Artystyczna\n kulinarne szaleństwo w kawiarence z KGW\n turniej piłki nożnej MLKS Polonia Środa Śląska\n warsztaty dla dzieci Placówka Opiekuńczo – Wychowawcza Typu Socjalizacyjnego w Środzie Śląskiej\n zajęcia ruchowe dla najmłodszych Uczniowski Klub Sportowy Skarby\nKrótko mówiąc: każdy znajdzie coś dla siebie! \nZapraszamy — gramy do końca świata i jeden dzień dłużej!
URL:https://cekacentrum.pl/event/34-final-wosp-24-stycznia-2026/
LOCATION:Powiatowe Centrum Kultury Alternatywnej\, pl. Przyszkolna 3\, Środa Śląska\, 55-300\, Poland
ATTACH;FMTTYPE=image/jpeg:https://cekacentrum.pl/wp-content/uploads/2026/01/611162496_1200959625511295_947625822250176486_n.jpg
ORGANIZER;CN="Powiatowe Centrum Kultury Alternatywnej%2C ul. Przyszkolna 3%2C 55-300 %C5%9Aroda %C5%9Al%C4%85ska":MAILTO:biuro@cekacentrum.pl
END:VEVENT
BEGIN:VEVENT
DTSTART;TZID=Europe/Warsaw:20260211T083000
DTEND;TZID=Europe/Warsaw:20260211T120000
DTSTAMP:20260421T070742
CREATED:20260122T121921Z
LAST-MODIFIED:20260122T121921Z
UID:4037-1770798600-1770811200@cekacentrum.pl
SUMMARY:zbiórka krwi
DESCRIPTION:
URL:https://cekacentrum.pl/event/zbiorka-krwi-14/
LOCATION:Powiatowe Centrum Kultury Alternatywnej\, pl. Przyszkolna 3\, Środa Śląska\, 55-300\, Poland
ATTACH;FMTTYPE=image/jpeg:https://cekacentrum.pl/wp-content/uploads/2024/05/zbiorka_krwi.jpg
END:VEVENT
BEGIN:VEVENT
DTSTART;TZID=Europe/Warsaw:20260311T083000
DTEND;TZID=Europe/Warsaw:20260311T120000
DTSTAMP:20260421T070742
CREATED:20260310T082355Z
LAST-MODIFIED:20260310T082447Z
UID:4239-1773217800-1773230400@cekacentrum.pl
SUMMARY:ZBIÓRKA KRWI
DESCRIPTION:Już 11 marca 2026 r. (środa) zapraszamy wszystkich chętnych do udziału w zbiórce krwi\, która odbędzie się w:\n\n\n Sala widowiskowa PCKA\nul. Przyszkolna 3\, Środa Śląska\,\n Godziny: 8:30 – 12:00\n\n\nTwoja krew może uratować życie drugiego człowieka. To tylko chwila\, a dla kogoś może oznaczać drugą szansę.\n\n\n Jeśli jesteś zdrowy i masz ukończone 18 lat – przyjdź i podziel się tym\, co najcenniejsze.\n\n\n Zachęcamy do udostępniania i zapraszania znajomych!\n\n\n\n\n\n\n\n\n\n\n\n\n\n\n\n\n\n\nRegionalne Centrum Krwiodawstwa i Krwiolecznictwa we Wrocławiu
URL:https://cekacentrum.pl/event/zbiorka-krwi-15/
ATTACH;FMTTYPE=image/png:https://cekacentrum.pl/wp-content/uploads/2026/03/krewka.png
END:VEVENT
BEGIN:VEVENT
DTSTART;TZID=Europe/Warsaw:20260328T120000
DTEND;TZID=Europe/Warsaw:20260328T140000
DTSTAMP:20260421T070742
CREATED:20260311T122834Z
LAST-MODIFIED:20260311T122834Z
UID:4245-1774699200-1774706400@cekacentrum.pl
SUMMARY:"Sto pytań o autyzm" - spotkanie z Joanną Izabelą Klagą
DESCRIPTION:Spotkanie „Sto pytań o autyzm”\nStowarzyszenie Włączeni zaprasza na otwarte spotkanie z Joanną Izabelą Klagą – edukatorką\, terapeutką i wiceprezeską Fundacji Autika\, która od wielu lat wspiera osoby w spektrum autyzmu oraz ich rodziny.\n\n\n 28 marca\n 12:00–14:00\n Powiatowe Centrum Kultury Alternatywnej\n\n\nTo spotkanie dla wszystkich\, którzy chcą lepiej zrozumieć autyzm – rodziców\, opiekunów\, młodzieży\, osób w spektrum oraz wszystkich zainteresowanych tematem.\nBędzie to rozmowa o autyzmie oparta na wiedzy naukowej i doświadczeniu pracy z osobami neuroróżnorodnymi.\n\n\nPorozmawiamy m.in. o:\n* różnicach w komunikacji i postrzeganiu świata\n* maskowaniu i społecznych oczekiwaniach\n* terapii i schorzeniach współistniejących\n* mitach\, które często utrudniają zrozumienie osób w spektrum\n\n\nSpotkanie będzie miało formę otwartej rozmowy\, przestrzeni na pytania\, refleksje i wymianę doświadczeń. Chcemy stworzyć miejsce dialogu\, w którym każdy może przyjść i dowiedzieć się więcej.\n\n\n Wstęp: 10 zł\nCały dochód przeznaczamy na wsparcie Filipa Rodzika\, który zbiera środki na roczną terapię lekową w leczeniu glejaka.\nBiletem wstępu jest potwierdzenie wpłaty na zbiórkę Filipa.\n\n\nPo spotkaniu zapraszamy także na:\n 14:30 – oprowadzanie kuratorskie wystawy „Neuroczułość”\n Muzeum Regionalne\nNa wystawie można zobaczyć prace kolektywu artystycznego 4 WYmiary.\n\n\nBędzie nam bardzo miło Was spotkać \nZapraszamy do wspólnej rozmowy i budowania bardziej włączającej społeczności.
URL:https://cekacentrum.pl/event/sto-pytan-o-autyzm-spotkanie-z-joanna-izabela-klaga/
ATTACH;FMTTYPE=image/jpeg:https://cekacentrum.pl/wp-content/uploads/2026/03/8f8331a2-f92c-44c9-bc97-e2616950ab44.jpg
END:VEVENT
BEGIN:VEVENT
DTSTART;TZID=Europe/Warsaw:20260412T080000
DTEND;TZID=Europe/Warsaw:20260419T170000
DTSTAMP:20260421T070742
CREATED:20260313T144127Z
LAST-MODIFIED:20260401T122307Z
UID:4271-1775980800-1776618000@cekacentrum.pl
SUMMARY:2 Przegląd Teatrów Amatorskich PCKA
DESCRIPTION:Już 12\, 14 oraz 17–19 kwietnia 2026 r. odbędzie się 2 Przegląd Teatrów Amatorskich PCKA.\n\n\nTo kilka dni pełnych pasji\, emocji i niezwykłych historii opowiadanych przez lokalne zespoły teatralne.\n\n\nNa scenie zobaczycie różnorodne spektakle przygotowane przez amatorów\, którzy udowadniają\, że miłość do teatru potrafi tworzyć prawdziwą magię.\n\n\n Bilety trafią do sprzedaży od 25 marca \nDochód ze sprzedaży biletów w całości zostanie przekazany na wybrany cel charytatywny.\n\n\n Zapiszcie terminy w kalendarzu i bądźcie z nami!\nDo zobaczenia na widowni!
URL:https://cekacentrum.pl/event/2-przeglad-teatrow-amatorskich-pcka/
ATTACH;FMTTYPE=image/png:https://cekacentrum.pl/wp-content/uploads/2026/03/plakat-duzy.png
END:VEVENT
BEGIN:VEVENT
DTSTART;TZID=Europe/Warsaw:20260426T180000
DTEND;TZID=Europe/Warsaw:20260426T200000
DTSTAMP:20260421T070742
CREATED:20260413T111814Z
LAST-MODIFIED:20260413T111814Z
UID:4544-1777226400-1777233600@cekacentrum.pl
SUMMARY:Niedziela z Kryminałem - Mieczysław Gorzka
DESCRIPTION:Wielki powrót Niedzieli z Kryminałem! \n\n\nJuż 26.04.2026 (niedziela) o godz. 18:00 zapraszamy do sali widowiskowej w PCKA na wyjątkowe spotkanie z kryminałem ! \n\n\nTego wieczoru:\n Gościem będzie Mieczysław Gorzka strona autorska – więc jak dobrze wiemy… będzie się działo!\n Przesłuchanie poprowadzi Małgorzata Bogucka Sztuka \n\n\nPorozmawiamy o nowej książce „Spadek po mojemu”\, nie zabraknie dreszczyku emocji\, kryminalnej atmosfery i śmiechu\n\n\n Wstęp wolny!\n\n\nNie przegapcie – zapowiada się wieczór pełen napięcia i zagadek!
URL:https://cekacentrum.pl/event/niedziela-z-kryminalem-mieczyslaw-gorzka/
ATTACH;FMTTYPE=image/png:https://cekacentrum.pl/wp-content/uploads/2026/04/Nzk-PNG.png
END:VEVENT
BEGIN:VEVENT
DTSTART;TZID=Europe/Warsaw:20260517T100000
DTEND;TZID=Europe/Warsaw:20260517T180000
DTSTAMP:20260421T070742
CREATED:20260319T113855Z
LAST-MODIFIED:20260319T113855Z
UID:4305-1779012000-1779040800@cekacentrum.pl
SUMMARY:Święto Skarbów Średzkich 2. edycja
DESCRIPTION:17 maja 2026 r.  niedziela\nPark Miejski przy fontannie\nŚroda Śląska\n\n(9) Święto Skarbów Średzkich 2. edycja Środa Śląska | Facebook\n\n\n\n\n\n\n\nŚwięto Skarbów Średzkich to impreza łącząca prezentację lokalnego dziedzictwa z rodzinną zabawą! Jej częścią są pokazy rekonstrukcyjne\, warsztaty rzemiosł dawnych\, klimatyczne koncerty\, kiermasz rękodzieła oraz wydarzenia edukacyjne przybliżające historię Skarbu Średzkiego i Środy Śląskiej.\n\nOrganizatorzy:\n\n\n\n\n\n\nPowiat Średzki\, Powiatowe Centrum Kultury Alternatywnej – Środa Śląska i Muzeum Regionalne w Środzie Śląskiej
URL:https://cekacentrum.pl/event/swieto-skarbow-sredzkich-2-edycja/
ATTACH;FMTTYPE=image/jpeg:https://cekacentrum.pl/wp-content/uploads/2026/03/648316699_1776441663340104_125656396444860255_n.jpg
END:VEVENT
END:VCALENDAR