BEGIN:VCALENDAR
VERSION:2.0
PRODID:-//Powiatowe Centrum Kultury Alternatywnej - ECPv6.10.1.1//NONSGML v1.0//EN
CALSCALE:GREGORIAN
METHOD:PUBLISH
X-WR-CALNAME:Powiatowe Centrum Kultury Alternatywnej
X-ORIGINAL-URL:https://cekacentrum.pl
X-WR-CALDESC:Wydarzenia dla Powiatowe Centrum Kultury Alternatywnej
REFRESH-INTERVAL;VALUE=DURATION:PT1H
X-Robots-Tag:noindex
X-PUBLISHED-TTL:PT1H
BEGIN:VTIMEZONE
TZID:Europe/Warsaw
BEGIN:DAYLIGHT
TZOFFSETFROM:+0100
TZOFFSETTO:+0200
TZNAME:CEST
DTSTART:20210328T010000
END:DAYLIGHT
BEGIN:STANDARD
TZOFFSETFROM:+0200
TZOFFSETTO:+0100
TZNAME:CET
DTSTART:20211031T010000
END:STANDARD
BEGIN:DAYLIGHT
TZOFFSETFROM:+0100
TZOFFSETTO:+0200
TZNAME:CEST
DTSTART:20220327T010000
END:DAYLIGHT
BEGIN:STANDARD
TZOFFSETFROM:+0200
TZOFFSETTO:+0100
TZNAME:CET
DTSTART:20221030T010000
END:STANDARD
END:VTIMEZONE
BEGIN:VEVENT
DTSTART;TZID=Europe/Warsaw:20220709T190000
DTEND;TZID=Europe/Warsaw:20220709T203000
DTSTAMP:20260421T115135
CREATED:20220708T115506Z
LAST-MODIFIED:20220708T115506Z
UID:1114-1657393200-1657398600@cekacentrum.pl
SUMMARY:Kacper Ruciński w programie Uwaga na łosie
DESCRIPTION:W sobotę 9 lipca zapraszamy na występ Kacper Ruciński – prekursora polskiego stand-upu\, człowieka który od dekady czynnie jeździ ze swoimi solowymi programami komediowymi. Poprzedni program zobaczyło ponad 40.000 ludzi\, trasę BANG2 w której Kacper brał udział zobaczyło na żywo prawie 100.000 ludzi. Nowy program\, nowe spostrzeżenia. Program UWAGA NA ŁOSIE \nBilety do nabycia: www.kupbilecik.pl
URL:https://cekacentrum.pl/event/kacper-rucinski-w-programie-uwaga-na-losie/
LOCATION:Powiatowe Centrum Kultury Alternatywnej\, pl. Przyszkolna 3\, Środa Śląska\, 55-300\, Poland
ATTACH;FMTTYPE=image/jpeg:https://cekacentrum.pl/wp-content/uploads/2022/07/fb2.jpg
END:VEVENT
BEGIN:VEVENT
DTSTART;TZID=Europe/Warsaw:20220424T170000
DTEND;TZID=Europe/Warsaw:20220424T183000
DTSTAMP:20260421T115135
CREATED:20220330T134455Z
LAST-MODIFIED:20220330T134455Z
UID:1040-1650819600-1650825000@cekacentrum.pl
SUMMARY:Niedziela z Kryminałem: spotkanie autorskie z Mieczysławem Gorzką
DESCRIPTION:Zapraszamy na spotkanie autorskie z Mieczysławem Gorzką poświęcone jego najnowszej książce zatytułowanej „Krwawnica”.  \nWydarzeniu towarzyszyć będą liczne konkursy z nagrodami oraz muzyka na żywo zespołu 4HEADS. \nZapraszamy 24 kwietnia o godzinie 17.00
URL:https://cekacentrum.pl/event/niedziela-z-kryminalem-spotkanie-autorskie-z-mieczyslawem-gorzka/
LOCATION:Powiatowe Centrum Kultury Alternatywnej\, pl. Przyszkolna 3\, Środa Śląska\, 55-300\, Poland
ATTACH;FMTTYPE=image/jpeg:https://cekacentrum.pl/wp-content/uploads/2022/03/275915945_628069631598686_3681339741433896884_n.jpg
END:VEVENT
BEGIN:VEVENT
DTSTART;TZID=Europe/Warsaw:20220423T180000
DTEND;TZID=Europe/Warsaw:20220423T193000
DTSTAMP:20260421T115135
CREATED:20220330T133820Z
LAST-MODIFIED:20220330T134015Z
UID:1034-1650736800-1650742200@cekacentrum.pl
SUMMARY:Stand up - Radiowcy Bez Cenzury
DESCRIPTION:Przemysław Skowron i Tomasz Olbratowski bez cenzury. \nMikrofoniarze. Zawodowcy. Radiowcy. Znają ich miliony\, bo codziennie budzą i są z Wami w pracy. Towarzysze z radia wychodzą na scenę i mówią to czego na antenie nie wypada.  Czy tak w ogóle przystoi? Zobaczcie radiowców. Będzie bezkompromisowo\, ostro\, a czasami niegrzecznie! \nBILETY: 50 zł https://biletyna.pl/stand-up/Stand-up-Radiowcy-Bez-Cenzury/Sroda-Slaska
URL:https://cekacentrum.pl/event/stand-up-radiowcy-bez-cenzury/
LOCATION:Powiatowe Centrum Kultury Alternatywnej\, pl. Przyszkolna 3\, Środa Śląska\, 55-300\, Poland
ATTACH;FMTTYPE=image/jpeg:https://cekacentrum.pl/wp-content/uploads/2022/03/271812474_602777737368465_755104157094326422_n.jpg
END:VEVENT
BEGIN:VEVENT
DTSTART;TZID=Europe/Warsaw:20220305T200000
DTEND;TZID=Europe/Warsaw:20220305T220000
DTSTAMP:20260421T115135
CREATED:20220215T150440Z
LAST-MODIFIED:20220215T153450Z
UID:1010-1646510400-1646517600@cekacentrum.pl
SUMMARY:Dzień Kobiet: O północy w Paryżu
DESCRIPTION:Francuski wieczór w Powiatowym Centrum Kultury Alternatywnej.\nW tym roku przenosimy się do stolicy Francji i cofamy tam w czasie do lat 20′ ubiegłego wieku. Gwarantujemy: przeboje muzyki francuskiej\, w tym musicalowe ballady\, paryskie akcenty z domieszką klimatycznych niespodzianek w filmowym stylu. Wieczór muzyczny skierowany tym razem do Pań.   \nO oprawę muzyczną wieczoru zadbają: Andrzej Bielski – piano\, Paweł Kozioł – perkusja\, Marek Popów – gitara\, Sebastian Ragiel – gitara basowa. Zaśpiewają dla Was: Marta Michalec\, Oliwia Bachowska\, Katarzyna Ćwiąkalska\, Julia Jaros\, Marta Kunecka\, Justyna Czarniecka\, Martyna Maniak\, Paulina Szmit\, Julia Chichłowska\, Martyna Ostropolska\,  Zofia Ziółkowska\, Eliza Łabędzka\, Kornelia Wójcik\, Weronika Kasprzyk\, Zuzanna Herra\, Szymon Majkrzak\, Marcel Potrzeba\, Norbert Manowski\,  Mykola Lykhobaba\, Piotr Sapieja. Zatańczą: Ania Czyżewska\, Ladies. \nBilety w cenie 50 zł do nabycia w biurze Centrum w godzinach od 8 do 18. od poniedziałku do piątku. Liczba miejsc ograniczona.
URL:https://cekacentrum.pl/event/dzien-kobiet-o-polnocy-w-paryzu/
LOCATION:Powiatowe Centrum Kultury Alternatywnej\, pl. Przyszkolna 3\, Środa Śląska\, 55-300\, Poland
ATTACH;FMTTYPE=image/jpeg:https://cekacentrum.pl/wp-content/uploads/2022/02/20211001_210646-scaled.jpg
END:VEVENT
BEGIN:VEVENT
DTSTART;TZID=Europe/Warsaw:20220214T190000
DTEND;TZID=Europe/Warsaw:20220214T210000
DTSTAMP:20260421T115135
CREATED:20220125T114113Z
LAST-MODIFIED:20220125T114327Z
UID:964-1644865200-1644872400@cekacentrum.pl
SUMMARY:Walentynki w PCKA: Rubinowe Gody
DESCRIPTION:W spektaklu reżyserowanym przez Wojciecha Dąbrowskiego widownia przeżywać będzie przygody i rozterki Grażyny i Mariana\, którzy po raz pierwszy w życiu wyjeżdżają do luksusowego hotelu aby świętować 40 rocznicę ślubu. Nie znają jednak praktycznego znaczenia słowa „luksus”\, co powoduje choćby problem z dostaniem się do pokoju\, czy awersję do egzotycznego – jak na ich gusta – menu w tutejszej restauracji. Wydawałoby się – standardowa sytuacja małżeństwa z prowincji\, do której z czasem można by się przyzwyczaić i ten luksus „przecierpieć”\, gdyby nie fakt\, że do wspólnego weekendu dołącza nagle pewien młody poseł – gość spod łóżka\, oraz portier\, który zależność pomiędzy państwem z- i spod łóżka definiuje jako erotyczny trójkąt\, będący odskocznią od szarej\, małżeńskiej codzienności… \nBILETY (osoby z certyfikatem COVID-19) DOSTĘPNE NA STRONIE: Biletyna.pl\nOsoby BEZ CERTYFIKATU: prosimy o rezerwację pod numerem tel. 71 307 00 03.
URL:https://cekacentrum.pl/event/walentynki-w-pcka-rubinowe-gody/
LOCATION:Powiatowe Centrum Kultury Alternatywnej\, pl. Przyszkolna 3\, Środa Śląska\, 55-300\, Poland
ATTACH;FMTTYPE=image/jpeg:https://cekacentrum.pl/wp-content/uploads/2022/01/pz-6483.jpg
END:VEVENT
BEGIN:VEVENT
DTSTART;TZID=Europe/Warsaw:20220130T180000
DTEND;TZID=Europe/Warsaw:20220130T200000
DTSTAMP:20260421T115135
CREATED:20220125T110407Z
LAST-MODIFIED:20220126T161749Z
UID:960-1643565600-1643572800@cekacentrum.pl
SUMMARY:Musicalowo-Rockowy finał WOŚPm - ODWOŁANE
DESCRIPTION:Będzie głośno\, tanecznie i… (jak zwykle z nami) zaskakująco. \nPo pierwsze: z zespołem Minęło Band zagrają i zaśpiewają Goście – Wokaliści przez wielkie „W” znani Wam choćby z musicalu „Na strunach szyn”. Pojawią się również całkiem nowe\, jeszcze nieznane Wam może głosy. Zobaczycie również fragmenty wspomnianego wyżej musicalu\, ale i… fragmenty NAJNOWSZEGO\, którego premiera będzie miała miejsce we wrześniu\, a w nim już sami Wokaliści przez wielkie „W” i Tancerki przez wielkie „T”. \nW przerwach koniecznie weźcie udział w licytacjach. Bardzo wyjątkowych! Wśród nich między innymi: postać w najnowszej książce Mieczysława Gorzki (ustaliliśmy\, że jeśli wygra kobieta\, wówczas będzie czarnym charakterem\, natomiast mężczyzna tym dobrym). Dodatkowo Małgorzata Bogucka domaluje zwycięzcę kolejnej licytacji na muralu przy ZSP nr 1. I to nie wszystko.  \nZaplanowaliśmy także nietypowe Światełko do Nieba. Oczywiście bez fajerwerków\, bo kochamy nasze zwierzaki\, ale zapewniamy\, że będzie to finał wart zapamiętania!\nZe względu na limity\, obostrzenia itd. liczba osób\, które będą mogły z nami tego dnia świętować w Centrum jest mocno ograniczona. A że i cel szczytny – wprowadziliśmy cegiełki\, których wykupienie upoważni Was do wejścia. Cegiełki można już odebrać w naszym biurze\, gdzie znajduje się również WOŚPowa puszka stacjonarna.
URL:https://cekacentrum.pl/event/musicalowo-rockowy-final-wosp/
LOCATION:Powiatowe Centrum Kultury Alternatywnej\, pl. Przyszkolna 3\, Środa Śląska\, 55-300\, Poland
ATTACH;FMTTYPE=image/jpeg:https://cekacentrum.pl/wp-content/uploads/2022/01/30FINAL2022_2.jpg
END:VEVENT
BEGIN:VEVENT
DTSTART;TZID=Europe/Warsaw:20220130T110000
DTEND;TZID=Europe/Warsaw:20220130T130000
DTSTAMP:20260421T115135
CREATED:20220125T110720Z
LAST-MODIFIED:20220125T110800Z
UID:962-1643540400-1643547600@cekacentrum.pl
SUMMARY:Rajd Rowerowy Środa Śląska-Udanin
DESCRIPTION:Charytatywny przejazd rowerowy na trasie Środa Śląska-Udanin. \n30 stycznia grupa rowerzystów rusza spod naszego Centrum do Gminy Udanin. Jeszcze możecie dołączyć! Z rowerzystami będzie jechać Wolontariusz z puszką\, więc miejcie to na uwadze. Ze swojej strony zapewniamy ciepły posiłek „na mecie” oraz pamiątkowy – WOŚPowy – medal.
URL:https://cekacentrum.pl/event/rajd-rowerowy-sroda-slaska-udanin/
LOCATION:Powiatowe Centrum Kultury Alternatywnej\, pl. Przyszkolna 3\, Środa Śląska\, 55-300\, Poland
ATTACH;FMTTYPE=image/jpeg:https://cekacentrum.pl/wp-content/uploads/2022/01/30FINAL2022_2.jpg
END:VEVENT
BEGIN:VEVENT
DTSTART;TZID=Europe/Warsaw:20220129T170000
DTEND;TZID=Europe/Warsaw:20220129T200000
DTSTAMP:20260421T115135
CREATED:20211119T072843Z
LAST-MODIFIED:20220118T104052Z
UID:773-1643475600-1643486400@cekacentrum.pl
SUMMARY:Spektakl "Śpiąca królewna" - gramy dla WOŚP
DESCRIPTION:Zapraszamy na spektakl „Śpiąca królewna” grupy teatralno-kabaretowej TeKa ze Środy Śląskiej. Członkami formacji są mieszkańcy powiatu średzkiego\, a prowadzi ich Małgorzata Bogucka.  \nPrzedstawienie dzieli się na dwie części. Pierwsza stanowi nawiązanie do baśni „Śpiąca królewna” autorstwa Charles’a Perraulta\, a druga… Ale o tym sza!.  \n29 stycznia wystąpią przed Wami: Marta Prymas\, Anna Nawałka\, Honorata Krawczyk\, Małgorzata Pauka\, Marta Matuszewska\, Piotr Sapieja\, Artur Bogucki\, Zbigniew Wyrwisz\, Sebastian Burdzy\, Andrzej Bielski. O oświetlenie i nagłośnienie zadba Paweł Kozioł. \nCałkowity dochód ze sprzedaży wejściówek-cegiełek zostanie przeznaczony na rzecz WOŚP.\nSpektakl skierowany jest do osób dorosłych. Cegiełki będzie można nabyć w biurze CeKA w godzinach pracy biura od poniedziałku do piątku w godzinach od 8.00 do 17.00. Jest możliwa wcześniejsza rezerwacja pod numerem: 71 307 00 03.  \nUWAGA! Po spektaklu przeprowadzimy licytacje:\n1. książki Hrabi z podpisami członków Kabaret Hrabi\,\n2. kompleksowego\, ręcznego mycia auta przez Wicestarostę Średzkiego Sebastiana Burdzego aka „wróżka Ziółko”\,\n3. obrazu Małgorzaty Boguckiej – reżyserki spektaklu – „Strażnik duszy”.\nLicytacje będą również prowadzone w niedzielę\, w trakcie wielkiego Finału\, w godzinach od 18 do 20.00! Jeśli chcecie i możecie przekazać przedmioty na licytacje – zapraszamy do kontaktu z nami
URL:https://cekacentrum.pl/event/premiera-spektaklu-spiaca-krolewna/
LOCATION:Powiatowe Centrum Kultury Alternatywnej\, pl. Przyszkolna 3\, Środa Śląska\, 55-300\, Poland
ATTACH;FMTTYPE=image/jpeg:https://cekacentrum.pl/wp-content/uploads/2021/11/EM0_4078.jpg
END:VEVENT
BEGIN:VEVENT
DTSTART;TZID=Europe/Warsaw:20220123T170000
DTEND;TZID=Europe/Warsaw:20220123T190000
DTSTAMP:20260421T115135
CREATED:20211118T102734Z
LAST-MODIFIED:20220122T153146Z
UID:725-1642957200-1642964400@cekacentrum.pl
SUMMARY:Spotkanie autorskie z Mieczysławem Gorzką - ODWOŁANE
DESCRIPTION:Szanowni Państwo\, z przykrością informujemy\, że jesteśmy zmuszeni odwołać zaplanowane na niedzielę spotkanie z Mieczysławem Gorzką. O nowym terminie poinformujemy niebawem.\n—————————- \nZapraszamy na spotkanie autorskie z Mieczysławem Gorzką poświęcone jego najnowszej książce z cyklu „Wściekłe Psy” zatytułowanej „Dziewięć”.  \nWydarzeniu towarzyszyć będą liczne konkursy z nagrodami. \nZapraszamy 23 stycznia o godzinie 17.00 \n \nWydawca o książce „Dziewięć”: \nPorwanie\, wyścig z czasem\, walka o okup i nieobliczalny zabójca. Komu naprawdę zależy na ocaleniu ofiary?\nPorwana zostaje Karolina\, nastoletnia córka znanej wrocławskiej milionerki Doroty Nowackiej\, która wynajmuje do pomocy agencję detektywistyczną Adama Markiewicza i ze znanych tylko sobie powodów nie chce współpracować z policją. Prywatnie prosi o pomoc swojego dawnego przyjaciela ze studiów nadkomisarza Marcina Zakrzewskiego. Ten odmawia\, ale dręczony wyrzutami sumienia zaczyna interesować się porwaniem. Bardzo szybko odkrywa całą skomplikowaną siatkę podejrzanych powiązań Nowackiej\, nieczystą grę policji\, niezbyt przejrzyste motywacje i podejrzane interesy Markiewicza. Wkrótce dochodzi do wniosku\, że jest jedyną osobą\, której naprawdę zależy na uratowaniu Karoliny.\nRównocześnie odkrywa\, że okoliczności porwania dziewczyny są dokładnie takie same jak te sprzed ośmiu lat\, kiedy na Dolnym Śląsku grasował zabójca nastolatek. Tylko że tamta sprawa została przez policję rozwiązana. Czy jednak na pewno? W miarę zapoznawania się ze szczegółami tamtego śledztwa Zakrzewski ma coraz większe wątpliwości.\nTymczasem czas płynie nieubłagalnie. Czy uda mu się odnaleźć sprawców porwania i ocalić Karolinę?
URL:https://cekacentrum.pl/event/premiera-ksiazki-mieczyslawa-gorzki/
LOCATION:Powiatowe Centrum Kultury Alternatywnej\, pl. Przyszkolna 3\, Środa Śląska\, 55-300\, Poland
CATEGORIES:Spotkanie autorskie
ATTACH;FMTTYPE=image/jpeg:https://cekacentrum.pl/wp-content/uploads/2021/11/www.jpg
END:VEVENT
BEGIN:VEVENT
DTSTART;TZID=Europe/Warsaw:20220115T190000
DTEND;TZID=Europe/Warsaw:20220115T203000
DTSTAMP:20260421T115135
CREATED:20211215T161359Z
LAST-MODIFIED:20211223T114040Z
UID:794-1642273200-1642278600@cekacentrum.pl
SUMMARY:Kabaret Hrabi - Wady i Waszki - 19.00
DESCRIPTION:15 stycznia 2022 roku o godzinie 19.00 na naszej scenie z programem Wady i Waszki wystąpi Kabaret Hrabi w składzie: Joanna Kołaczkowska\, Dariusz Kamol Kamys\, Tomasz Bajer Majer oraz Łukasz Lopez Pietsch. \nNikt nie jest idealny. Każdy ma jakieś wady. Mniej lub bardziej upierdliwe. Wszystko zależy od tego\, po której stronie się jest. MY mamy wady\, które dodają nam uroku\, czynią nas bardziej interesującymi. Ale ONI mają wady nie do zniesienia.\nMY nie jesteśmy leniwi\, my tylko dostrzegamy\, że fajnie jest leżeć na kanapie. To ONI są leniwi. Tak zwyczajnie\, w sposób prosty\, upierdliwy. Dlatego MY nie mamy wad\, MY mamy WASZKI. \nBilety w cenie 110 zł / sztuka do nabycia: \n\nw biurze Centrum w godzinach otwarcia biura (od poniedziałku do piątku\, od 8 do 16.00)\, ul. Przyszkolna 3\, Środa Śląska W tym przypadku zakupiony bilet zostanie wydrukowany bez ceny oraz zapakowany jako prezent\nonline: BILETYNA.PL
URL:https://cekacentrum.pl/event/kabaret-hrabi-w-programie-wady-i-waszki/
LOCATION:Powiatowe Centrum Kultury Alternatywnej\, pl. Przyszkolna 3\, Środa Śląska\, 55-300\, Poland
ATTACH;FMTTYPE=image/jpeg:https://cekacentrum.pl/wp-content/uploads/2021/12/wydarzenie.jpg
END:VEVENT
BEGIN:VEVENT
DTSTART;TZID=Europe/Warsaw:20220115T160000
DTEND;TZID=Europe/Warsaw:20220115T180000
DTSTAMP:20260421T115135
CREATED:20211223T113724Z
LAST-MODIFIED:20211223T113831Z
UID:832-1642262400-1642269600@cekacentrum.pl
SUMMARY:Kabaret Hrabi - Wady i Waszki - 16.00
DESCRIPTION:15 stycznia 2022 roku o godzinie 16.00 na naszej scenie z programem Wady i Waszki wystąpi Kabaret Hrabi w składzie: Joanna Kołaczkowska\, Dariusz Kamol Kamys\, Tomasz Bajer Majer oraz Łukasz Lopez Pietsch. \nNikt nie jest idealny. Każdy ma jakieś wady. Mniej lub bardziej upierdliwe. Wszystko zależy od tego\, po której stronie się jest. MY mamy wady\, które dodają nam uroku\, czynią nas bardziej interesującymi. Ale ONI mają wady nie do zniesienia.\nMY nie jesteśmy leniwi\, my tylko dostrzegamy\, że fajnie jest leżeć na kanapie. To ONI są leniwi. Tak zwyczajnie\, w sposób prosty\, upierdliwy. Dlatego MY nie mamy wad\, MY mamy WASZKI. \nBilety w cenie 110 zł / sztuka do nabycia: \n\nonline: BILETYNA.PL
URL:https://cekacentrum.pl/event/kabaret-hrabi-wady-i-waszki-16-00/
LOCATION:Powiatowe Centrum Kultury Alternatywnej\, pl. Przyszkolna 3\, Środa Śląska\, 55-300\, Poland
ATTACH;FMTTYPE=image/jpeg:https://cekacentrum.pl/wp-content/uploads/2021/12/wydarzenie.jpg
END:VEVENT
BEGIN:VEVENT
DTSTART;TZID=Europe/Warsaw:20211210T180000
DTEND;TZID=Europe/Warsaw:20211210T193000
DTSTAMP:20260421T115135
CREATED:20211119T071202Z
LAST-MODIFIED:20211119T071619Z
UID:762-1639159200-1639164600@cekacentrum.pl
SUMMARY:Gala kalendarzowa
DESCRIPTION:Zapraszamy Panie\, które wzięły udział w sesji zdjęciowej na potrzeby wystawy z okazji Dnia Kobiet 2019 do wzięcia udziału w Gali Kalendarzowej. W jej trakcie zostaną wręczone kalendarze na rok 2022 z wykonanymi wcześniej fotografiami.  \nSpotkaniu towarzyszyć będzie muzyka na żywo w wykonaniu zespołu Minęło Band.
URL:https://cekacentrum.pl/event/gala-kalendarzowa/
LOCATION:Powiatowe Centrum Kultury Alternatywnej\, pl. Przyszkolna 3\, Środa Śląska\, 55-300\, Poland
CATEGORIES:dzień kobiet,gala
ATTACH;FMTTYPE=image/jpeg:https://cekacentrum.pl/wp-content/uploads/2021/11/kalendarz_ceka-front-small.jpg
END:VEVENT
BEGIN:VEVENT
DTSTART;TZID=Europe/Warsaw:20211205T170000
DTEND;TZID=Europe/Warsaw:20211205T183000
DTSTAMP:20260421T115135
CREATED:20211118T130851Z
LAST-MODIFIED:20211118T131045Z
UID:759-1638723600-1638729000@cekacentrum.pl
SUMMARY:Mikołaj dla Seniorów
DESCRIPTION:Zapraszamy Seniorów na wyjątkowy\, mikołajkowy koncert w wykonaniu chóru Apasjonata\, działającego w ramach Uniwersytetu Trzeciego Wieku przy Uniwersytecie Ekonomicznym we Wrocławiu. \nW programie między innymi słodki poczęstunek oraz drobiazgi od Mikołaja. \nWstęp bezpłatny. Obowiązuje rezerwacja miejsc: tel. 71 307 00 03.
URL:https://cekacentrum.pl/event/mikolaj-dla-seniorow/
LOCATION:Powiatowe Centrum Kultury Alternatywnej\, pl. Przyszkolna 3\, Środa Śląska\, 55-300\, Poland
CATEGORIES:chór,senior
ATTACH;FMTTYPE=image/jpeg:https://cekacentrum.pl/wp-content/uploads/2021/11/apasjonata-forum-z-boku.jpg
END:VEVENT
END:VCALENDAR