BEGIN:VCALENDAR
VERSION:2.0
PRODID:-//Powiatowe Centrum Kultury Alternatywnej - ECPv6.10.1.1//NONSGML v1.0//EN
CALSCALE:GREGORIAN
METHOD:PUBLISH
X-WR-CALNAME:Powiatowe Centrum Kultury Alternatywnej
X-ORIGINAL-URL:https://cekacentrum.pl
X-WR-CALDESC:Wydarzenia dla Powiatowe Centrum Kultury Alternatywnej
REFRESH-INTERVAL;VALUE=DURATION:PT1H
X-Robots-Tag:noindex
X-PUBLISHED-TTL:PT1H
BEGIN:VTIMEZONE
TZID:Europe/Warsaw
BEGIN:DAYLIGHT
TZOFFSETFROM:+0100
TZOFFSETTO:+0200
TZNAME:CEST
DTSTART:20240331T010000
END:DAYLIGHT
BEGIN:STANDARD
TZOFFSETFROM:+0200
TZOFFSETTO:+0100
TZNAME:CET
DTSTART:20241027T010000
END:STANDARD
END:VTIMEZONE
BEGIN:VEVENT
DTSTART;TZID=Europe/Warsaw:20241111T093000
DTEND;TZID=Europe/Warsaw:20241111T150000
DTSTAMP:20260421T021108
CREATED:20241016T194625Z
LAST-MODIFIED:20241016T194741Z
UID:2311-1731317400-1731337200@cekacentrum.pl
SUMMARY:Rajd w rocznicę Święta Niepodległości
DESCRIPTION:Jak co roku – wspólnie z Klubem Turystyki Wszelakiej – planujemy rowerowy Rajd w rocznicę Święta Niepodległości. \n\nRajd odbędzie się na dwóch dystansach:\n 45 km dla osób mniej zaawansowanych\,\n 80 – 100 km dla osób bardziej zaawansowanych.\n\n\nStart: 11 listopada o godz. 9:30 z placu przed PCeKA (ul. Przyszkolna 3).\nObie grupy spotkają się w Klubie Seniora w Gmina Udanin \, gdzie na uczestników będzie czekać jak zwykle coś bardzo\, bardzo smacznego  Na mecie z kolei uczestnicy będą mieli okazję posmakować pysznego bigosu oraz otrzymają pamiątkowy medal \n\n\n\n Zapisy: osobiście w biurze Powiatowym Centrum Kultury Alternatywnej ul. Przyszkolna 3 lub telefonicznie pod nr telefonu: 71 307 00 03 w dni robocze w godzinach 8:00 – 18:00 od dnia 17.10.2024 do dnia 08.11.2024 włącznie.\n\n\n\nJazda planowana szosą\, dopuszczamy każdy rodzaj roweru. \n\n\nREGULAMIN RAJDU\n\n\n\n\nRajd organizują:\nKlub Turystyki Wszelakiej w Środzie Śląskiej wraz z Powiatowe Centrum Kultury Alternatywnej – Środa Śląska\n\n\nprzy współpracy:\nPowiat Średzki\nBank Spółdzielczy w Środzie Śląskiej\n@Klub Seniora w Udaninie\n@Cukiernia Janiak Środa Śląska
URL:https://cekacentrum.pl/event/rajd-w-rocznice-swieta-niepodleglosci/
LOCATION:Powiatowe Centrum Kultury Alternatywnej\, pl. Przyszkolna 3\, Środa Śląska\, 55-300\, Poland
END:VEVENT
BEGIN:VEVENT
DTSTART;TZID=Europe/Warsaw:20241106T083000
DTEND;TZID=Europe/Warsaw:20241106T120000
DTSTAMP:20260421T021108
CREATED:20241029T131407Z
LAST-MODIFIED:20241029T131407Z
UID:2396-1730881800-1730894400@cekacentrum.pl
SUMMARY:Zbiórka Krwi
DESCRIPTION:Zapraszamy wszystkich na kolejną zbiórkę krwi\, która odbędzie się 6 listopada w sali widowiskowej PCKA w godzinach 8:30-12:00
URL:https://cekacentrum.pl/event/zbiorka-krwi-8/
LOCATION:Powiatowe Centrum Kultury Alternatywnej\, pl. Przyszkolna 3\, Środa Śląska\, 55-300\, Poland
ATTACH;FMTTYPE=image/jpeg:https://cekacentrum.pl/wp-content/uploads/2024/05/zbiorka_krwi.jpg
END:VEVENT
BEGIN:VEVENT
DTSTART;TZID=Europe/Warsaw:20241105T100000
DTEND;TZID=Europe/Warsaw:20241113T180000
DTSTAMP:20260421T021108
CREATED:20241029T130951Z
LAST-MODIFIED:20241029T130951Z
UID:2393-1730800800-1731520800@cekacentrum.pl
SUMMARY:Wystawa Pająków
DESCRIPTION:Odwiedź Wystawę Pająków i zobacz na żywo:\n legendarne CZARNE WDOWY (Latrodectus sp.) — jedne z NAJNIEBEZPIECZNIEJSZYCH pająków na Ziemi\, Theraphosa stirmi — jednego z NAJWIĘKSZYCH pająków na świecie\, skorpiony\, które zmieniają swój kolor pod wpływem… światła UV! \n\nAle to nie wszystkie atrakcje\, jakie na Ciebie czekają! \n\n Na Wystawie Pająków będziesz mieć możliwość wzięcia ptasznika na ręce i szansę na zrobienie sobie pamiątkowego zdjęcia! \n O każdej pełnej godzinie\, prowadzone są także fascynujące prelekcje\, z których dowiesz się więcej na temat interesujących Cię gatunków pajęczaków.\n Prelegenci Wystawy Pająków opowiadają o nich z niezwykłą pasją i zaangażowaniem. Dzięki ich słowom szybko pozbędziesz się arachnofobii i zapragniesz potrzymać ptasznika na ręce! \n\nCennik biletów:\n normalny: 21 zł ulgowy: 18 zł
URL:https://cekacentrum.pl/event/wystawa-pajakow/
LOCATION:Powiatowe Centrum Kultury Alternatywnej\, pl. Przyszkolna 3\, Środa Śląska\, 55-300\, Poland
ATTACH;FMTTYPE=image/jpeg:https://cekacentrum.pl/wp-content/uploads/2024/10/461870943_1117537697040484_5921295871357253980_n.jpg
END:VEVENT
BEGIN:VEVENT
DTSTART;TZID=Europe/Warsaw:20241018T190000
DTEND;TZID=Europe/Warsaw:20241018T210000
DTSTAMP:20260421T021108
CREATED:20240910T093602Z
LAST-MODIFIED:20240910T093602Z
UID:2275-1729278000-1729285200@cekacentrum.pl
SUMMARY:Carpe Noctem\, Triumf Nocy - VII Musical w Środzie Śląskiej
DESCRIPTION:
URL:https://cekacentrum.pl/event/carpe-noctem-triumf-nocy-vii-musical-w-srodzie-slaskiej/
LOCATION:Powiatowe Centrum Kultury Alternatywnej\, pl. Przyszkolna 3\, Środa Śląska\, 55-300\, Poland
ATTACH;FMTTYPE=image/jpeg:https://cekacentrum.pl/wp-content/uploads/2024/09/458943381_842366898037238_5159783603290228742_n.jpg
ORGANIZER;CN="Powiatowe Centrum Kultury Alternatywnej%2C ul. Przyszkolna 3%2C 55-300 %C5%9Aroda %C5%9Al%C4%85ska":MAILTO:biuro@cekacentrum.pl
END:VEVENT
BEGIN:VEVENT
DTSTART;TZID=Europe/Warsaw:20241013T170000
DTEND;TZID=Europe/Warsaw:20241013T190000
DTSTAMP:20260421T021108
CREATED:20240910T093423Z
LAST-MODIFIED:20240910T093728Z
UID:2273-1728838800-1728846000@cekacentrum.pl
SUMMARY:Carpe Noctem\, Triumf Nocy - VI Musical w Środzie Śląskiej
DESCRIPTION:
URL:https://cekacentrum.pl/event/carpe-noctem-triumf-nocy-vi-musical-w-srodzie-slaskiej/
LOCATION:Powiatowe Centrum Kultury Alternatywnej\, pl. Przyszkolna 3\, Środa Śląska\, 55-300\, Poland
ATTACH;FMTTYPE=image/jpeg:https://cekacentrum.pl/wp-content/uploads/2024/09/458943381_842366898037238_5159783603290228742_n.jpg
ORGANIZER;CN="Powiatowe Centrum Kultury Alternatywnej%2C ul. Przyszkolna 3%2C 55-300 %C5%9Aroda %C5%9Al%C4%85ska":MAILTO:biuro@cekacentrum.pl
END:VEVENT
BEGIN:VEVENT
DTSTART;TZID=Europe/Warsaw:20241011T190000
DTEND;TZID=Europe/Warsaw:20241011T210000
DTSTAMP:20260421T021108
CREATED:20240910T093204Z
LAST-MODIFIED:20240910T094105Z
UID:2270-1728673200-1728680400@cekacentrum.pl
SUMMARY:Carpe Noctem\, Triumf Nocy - V Musical w Środzie Śląskiej
DESCRIPTION:
URL:https://cekacentrum.pl/event/carpe-noctem-triumf-nocy-v-musical-w-srodzie-slaskiej/
LOCATION:Powiatowe Centrum Kultury Alternatywnej\, pl. Przyszkolna 3\, Środa Śląska\, 55-300\, Poland
ATTACH;FMTTYPE=image/jpeg:https://cekacentrum.pl/wp-content/uploads/2024/09/458943381_842366898037238_5159783603290228742_n.jpg
ORGANIZER;CN="Powiatowe Centrum Kultury Alternatywnej%2C ul. Przyszkolna 3%2C 55-300 %C5%9Aroda %C5%9Al%C4%85ska":MAILTO:biuro@cekacentrum.pl
END:VEVENT
BEGIN:VEVENT
DTSTART;TZID=Europe/Warsaw:20241006T170000
DTEND;TZID=Europe/Warsaw:20241006T190000
DTSTAMP:20260421T021108
CREATED:20240910T093007Z
LAST-MODIFIED:20240910T094033Z
UID:2268-1728234000-1728241200@cekacentrum.pl
SUMMARY:Carpe Noctem\, Triumf Nocy - IV Musical w Środzie Śląskiej
DESCRIPTION:
URL:https://cekacentrum.pl/event/carpe-noctem-triumf-nocy-iv-musical-w-srodzie-slaskiej/
LOCATION:Powiatowe Centrum Kultury Alternatywnej\, pl. Przyszkolna 3\, Środa Śląska\, 55-300\, Poland
ATTACH;FMTTYPE=image/jpeg:https://cekacentrum.pl/wp-content/uploads/2024/07/458943381_842366898037238_5159783603290228742_n.jpg
ORGANIZER;CN="Powiatowe Centrum Kultury Alternatywnej%2C ul. Przyszkolna 3%2C 55-300 %C5%9Aroda %C5%9Al%C4%85ska":MAILTO:biuro@cekacentrum.pl
END:VEVENT
BEGIN:VEVENT
DTSTART;TZID=Europe/Warsaw:20241001T190000
DTEND;TZID=Europe/Warsaw:20241001T210000
DTSTAMP:20260421T021108
CREATED:20240730T092717Z
LAST-MODIFIED:20240910T092716Z
UID:2154-1727809200-1727816400@cekacentrum.pl
SUMMARY:Carpe Noctem\, Triumf Nocy - III Musical w Środzie Śląskiej
DESCRIPTION:
URL:https://cekacentrum.pl/event/carpe-noctem-triumf-nocy-iii-musical-w-srodzie-slaskiej/
LOCATION:Powiatowe Centrum Kultury Alternatywnej\, pl. Przyszkolna 3\, Środa Śląska\, 55-300\, Poland
ATTACH;FMTTYPE=image/jpeg:https://cekacentrum.pl/wp-content/uploads/2024/07/458943381_842366898037238_5159783603290228742_n.jpg
ORGANIZER;CN="Powiatowe Centrum Kultury Alternatywnej%2C ul. Przyszkolna 3%2C 55-300 %C5%9Aroda %C5%9Al%C4%85ska":MAILTO:biuro@cekacentrum.pl
END:VEVENT
BEGIN:VEVENT
DTSTART;TZID=Europe/Warsaw:20240929T170000
DTEND;TZID=Europe/Warsaw:20240929T190000
DTSTAMP:20260421T021108
CREATED:20240730T092421Z
LAST-MODIFIED:20240910T092627Z
UID:2151-1727629200-1727636400@cekacentrum.pl
SUMMARY:Carpe Noctem\, Triumf Nocy - II Musical w Środzie Śląskiej
DESCRIPTION:
URL:https://cekacentrum.pl/event/carpe-noctem-triumf-nocy-ii-musical-w-srodzie-slaskiej/
LOCATION:Powiatowe Centrum Kultury Alternatywnej\, pl. Przyszkolna 3\, Środa Śląska\, 55-300\, Poland
ATTACH;FMTTYPE=image/jpeg:https://cekacentrum.pl/wp-content/uploads/2024/07/458943381_842366898037238_5159783603290228742_n.jpg
ORGANIZER;CN="Powiatowe Centrum Kultury Alternatywnej%2C ul. Przyszkolna 3%2C 55-300 %C5%9Aroda %C5%9Al%C4%85ska":MAILTO:biuro@cekacentrum.pl
END:VEVENT
BEGIN:VEVENT
DTSTART;TZID=Europe/Warsaw:20240928T170000
DTEND;TZID=Europe/Warsaw:20240928T190000
DTSTAMP:20260421T021108
CREATED:20240730T072353Z
LAST-MODIFIED:20240904T081358Z
UID:2137-1727542800-1727550000@cekacentrum.pl
SUMMARY:Carpe Noctem\, Triumf Nocy - Musical w Środzie Śląskiej
DESCRIPTION:Przygotowania do naszego największego muzycznego wydarzenia trwają! Do premiery musicalu coraz mniej czasu. Prosimy zatem\, aby skontaktowały się z nami WSZYSTKIE osoby\, które posiadają vouchery zdobyte podczas różnego typu konkursów w celu rezerwacji miejsc. Sprzedaż ruszy niebawem
URL:https://cekacentrum.pl/event/carpe-noctem-triumf-nocy-musical-w-pcka/
LOCATION:Powiatowe Centrum Kultury Alternatywnej\, pl. Przyszkolna 3\, Środa Śląska\, 55-300\, Poland
ATTACH;FMTTYPE=image/jpeg:https://cekacentrum.pl/wp-content/uploads/2024/07/453217824_816429597297635_3465612409604802554_n.jpg
ORGANIZER;CN="Powiatowe Centrum Kultury Alternatywnej%2C ul. Przyszkolna 3%2C 55-300 %C5%9Aroda %C5%9Al%C4%85ska":MAILTO:biuro@cekacentrum.pl
END:VEVENT
BEGIN:VEVENT
DTSTART;VALUE=DATE:20240921
DTEND;VALUE=DATE:20240922
DTSTAMP:20260421T021108
CREATED:20240902T125934Z
LAST-MODIFIED:20240902T125934Z
UID:2243-1726876800-1726963199@cekacentrum.pl
SUMMARY:Najwyższa para Dolnego Śląska - Śnieżnik
DESCRIPTION:21 września odbędzie się druga z dwóch wycieczek w ramach projektu pn. „Najwyższa Para Dolnego Śląska” jest realizowanego w ramach Dolnośląskiego Funduszu Małych Inicjatyw  i finansowanego przez Narodowy Instytut Wolności – Centrum Rozwoju Społeczeństwa Obywatelskiego ze środków Rządowego Programu Fundusz Inicjatyw Obywatelskich na lata 2021-2030″ Organizatorem wydarzenia jest Klub Turystyki Wszelakiej w Środzie Śląskiej.
URL:https://cekacentrum.pl/event/najwyzsza-para-dolnego-slaska-snieznik/
END:VEVENT
BEGIN:VEVENT
DTSTART;TZID=Europe/Warsaw:20240824T120000
DTEND;TZID=Europe/Warsaw:20240825T120000
DTSTAMP:20260421T021108
CREATED:20240730T065646Z
LAST-MODIFIED:20240730T065646Z
UID:2128-1724500800-1724587200@cekacentrum.pl
SUMMARY:Rowerowy Maraton 24 - w samo południe
DESCRIPTION:Klub Turystyki Wszelakiej wraz z Powiatowym Centrum Kultury Alternatywnej w Środzie Śląskiej\, zapraszają do zapisów na I Średzki Maraton Rowerowy 24H „W samo południe”\, który odbędzie się w dniach 24-25.08.2024 r. Na tym maratonie jedziesz kiedy chcesz i ile chcesz!\nMaraton 24H odbywać się będzie w pętli 25\,7 km. Jest to dystans\, który pokona nawet „niedzielny” rowerzysta. Warto się zmierzyć z pytaniem… ile dam radę przejechać kilometrów w ciągu doby? Po pokonaniu każdej pętli można spokojnie odpocząć\, na punkcie start/meta posilić się pyszną kawą lub herbatką\, odpocząć na leżaku\, a potem podjąć decyzję… jadę jeszcze jedną pętlę… lub zgłosić organizatorom… na tym kończę.\n\nREGULAMIN: https://sites.google.com/…/ktw…/strona-g%C5%82%C3%B3wna\n\nZAPISY: https://docs.google.com/…/1FAIpQLSen…/viewform
URL:https://cekacentrum.pl/event/rowerowy-maraton-24-w-samo-poludnie/
LOCATION:Powiatowe Centrum Kultury Alternatywnej\, pl. Przyszkolna 3\, Środa Śląska\, 55-300\, Poland
ATTACH;FMTTYPE=image/jpeg:https://cekacentrum.pl/wp-content/uploads/2024/07/451019597_807861031487825_4992853348225267085_n.jpg
ORGANIZER;CN="Powiatowe Centrum Kultury Alternatywnej%2C ul. Przyszkolna 3%2C 55-300 %C5%9Aroda %C5%9Al%C4%85ska":MAILTO:biuro@cekacentrum.pl
END:VEVENT
BEGIN:VEVENT
DTSTART;TZID=Europe/Warsaw:20240804T190000
DTEND;TZID=Europe/Warsaw:20240804T210000
DTSTAMP:20260421T021108
CREATED:20240730T064820Z
LAST-MODIFIED:20240730T064820Z
UID:2125-1722798000-1722805200@cekacentrum.pl
SUMMARY:Stand up\, Rafał Pacześ - WYPRZEDANO
DESCRIPTION:
URL:https://cekacentrum.pl/event/stand-up-rafal-paczes-wyprzedano/
LOCATION:Powiatowe Centrum Kultury Alternatywnej\, pl. Przyszkolna 3\, Środa Śląska\, 55-300\, Poland
ATTACH;FMTTYPE=image/jpeg:https://cekacentrum.pl/wp-content/uploads/2024/07/452635069_813605944246667_6517953527867837491_n.jpg
END:VEVENT
BEGIN:VEVENT
DTSTART;TZID=Europe/Warsaw:20240709T083000
DTEND;TZID=Europe/Warsaw:20240709T120000
DTSTAMP:20260421T021108
CREATED:20240703T110434Z
LAST-MODIFIED:20240703T110434Z
UID:2071-1720513800-1720526400@cekacentrum.pl
SUMMARY:Zbiórka Krwi
DESCRIPTION:Zapraszamy wszystkich na kolejną zbiórkę krwi\, która odbędzie się 9 lipca w sali widowiskowej PCKA w godzinach 8:30-12:00
URL:https://cekacentrum.pl/event/zbiorka-krwi-7/
ATTACH;FMTTYPE=image/jpeg:https://cekacentrum.pl/wp-content/uploads/2024/05/zbiorka_krwi.jpg
END:VEVENT
BEGIN:VEVENT
DTSTART;TZID=Europe/Warsaw:20240706T120000
DTEND;TZID=Europe/Warsaw:20240706T150000
DTSTAMP:20260421T021108
CREATED:20240703T105822Z
LAST-MODIFIED:20240703T105940Z
UID:2066-1720267200-1720278000@cekacentrum.pl
SUMMARY:Piknik integracyjny w Maciejowym Sadzie
DESCRIPTION:Zapraszamy do wzięcia udziału w rodzinnym pikniku\, podczas którego odbędzie się konkurs kulinarny „Najlepsze w powiecie średzkim”. Tematem przewodnim konkursu będzie danie z miodem.  Dla najmłodszych przygotowane zostaną warsztaty ceramiczne\, oraz plastyczne. Będzie również możliwość zwiedzenia sadu\, a na koniec zaprosimy wszystkich na ognisko z kiełbaskami 😉
URL:https://cekacentrum.pl/event/piknik-integracyjny-w-maciejowym-sadzie/
LOCATION:Maciejowy Sad\, ul Wiśniowa\, Lutynia\, Dolnośląskie\, 55-330\, Poland
ATTACH;FMTTYPE=image/jpeg:https://cekacentrum.pl/wp-content/uploads/2024/07/8bada840-54dc-4acf-af8c-b32456c11993.jpeg
ORGANIZER;CN="Powiat %C5%9Aredzki%2C ul. Wroc%C5%82awska 2%2C 55-300 %C5%9Aroda %C5%9Al%C4%85ska":MAILTO:sekretariat@powiat-sredzki.pl
END:VEVENT
BEGIN:VEVENT
DTSTART;TZID=Europe/Warsaw:20240705T180000
DTEND;TZID=Europe/Warsaw:20240705T193000
DTSTAMP:20260421T021108
CREATED:20240703T104225Z
LAST-MODIFIED:20240703T104255Z
UID:2062-1720202400-1720207800@cekacentrum.pl
SUMMARY:Wernisaż prac malarskich Lidii Misiuny "Wolność w twórczości"
DESCRIPTION:Wystawa ta w wyjątkowy sposób ukazuje cykl obrazów abstrakcyjnych\, mówiących o czasie\, trwaniu i przemijaniu\, a także o tym\, jak ważne są kolory w naszym życiu… Jest to także niezwykła opowieść autorki jako Matki\, Kobiety i Twórczyni.\n\n\nGorąco zapraszamy na wernisaż! Wolność w twórczości – wystawa prac Lidii Misiuny
URL:https://cekacentrum.pl/event/wernisaz-prac-malarskich-lidii-misiuny-wolnosc-w-tworczosci/
LOCATION:Powiatowe Centrum Kultury Alternatywnej\, pl. Przyszkolna 3\, Środa Śląska\, 55-300\, Poland
ATTACH;FMTTYPE=image/jpeg:https://cekacentrum.pl/wp-content/uploads/2024/07/448308764_800579968882598_8350314127904492534_n.jpg
ORGANIZER;CN="Powiatowe Centrum Kultury Alternatywnej%2C ul. Przyszkolna 3%2C 55-300 %C5%9Aroda %C5%9Al%C4%85ska":MAILTO:biuro@cekacentrum.pl
END:VEVENT
BEGIN:VEVENT
DTSTART;TZID=Europe/Warsaw:20240625T180000
DTEND;TZID=Europe/Warsaw:20240625T220000
DTSTAMP:20260421T021108
CREATED:20240605T103541Z
LAST-MODIFIED:20240605T103541Z
UID:1967-1719338400-1719352800@cekacentrum.pl
SUMMARY:ŚREDZKA STREFA KIBICA:  POLSKA-FRANCJA - mecze polskiej reprezentacji w PCeKA
DESCRIPTION:Wraz z Domem Kultury w Środzie Śląskiej zapraszamy mieszkańców na mecze reprezentacji Polski w Mistrzostwach Europy w Piłce Nożnej. Wydarzeniu towarzyszyć będzie zlot starych aut\, zlot motocyklowy oraz piknik wakacyjny. Ponadto strefa gastro\, strefa dla dzieci i konkursy z nagrodami.
URL:https://cekacentrum.pl/event/sredzka-strefa-kibica-polska-francja-mecze-polskiej-reprezentacji-w-pceka/
LOCATION:Powiatowe Centrum Kultury Alternatywnej\, pl. Przyszkolna 3\, Środa Śląska\, 55-300\, Poland
ATTACH;FMTTYPE=image/jpeg:https://cekacentrum.pl/wp-content/uploads/2024/06/447239409_780676627539599_309397623683360014_n.jpg
ORGANIZER;CN="Powiatowe Centrum Kultury Alternatywnej%2C ul. Przyszkolna 3%2C 55-300 %C5%9Aroda %C5%9Al%C4%85ska":MAILTO:biuro@cekacentrum.pl
END:VEVENT
BEGIN:VEVENT
DTSTART;TZID=Europe/Warsaw:20240621T193000
DTEND;TZID=Europe/Warsaw:20240622T193000
DTSTAMP:20260421T021108
CREATED:20240605T105433Z
LAST-MODIFIED:20240605T105433Z
UID:1971-1718998200-1719084600@cekacentrum.pl
SUMMARY:Noc Świętojańska na Ślęży - wspinaczka na szczyt wieczorową porą
DESCRIPTION:Razem z Klubem Turystyki Wszelakiej w Środzie Śląskiej zapraszamy Was na wieczorną wyprawę na Ślężę. Wyjazd: 21 czerwca (piątek) o g. 19.30 z parkingu przy PCeKA\, powrót po północy. Koszt: 45 zł. W cenie transport\, ubezpieczenie\, opieka przewodnika PTTK. Kiełbaski każdy organizuje sobie sam\, my zadbamy o sztućce i ketchup  Zapisy ruszają już od jutra 21 maja. Tel. +48 71 307 00 03
URL:https://cekacentrum.pl/event/noc-swietojanska-na-slezy-wspinaczka-na-szczyt-wieczorowa-pora/
ATTACH;FMTTYPE=image/jpeg:https://cekacentrum.pl/wp-content/uploads/2024/06/7558580_wschod-slonca-na-slezy.jpg
ORGANIZER;CN="Powiatowe Centrum Kultury Alternatywnej%2C ul. Przyszkolna 3%2C 55-300 %C5%9Aroda %C5%9Al%C4%85ska":MAILTO:biuro@cekacentrum.pl
END:VEVENT
BEGIN:VEVENT
DTSTART;TZID=Europe/Warsaw:20240621T180000
DTEND;TZID=Europe/Warsaw:20240621T200000
DTSTAMP:20260421T021108
CREATED:20240605T103143Z
LAST-MODIFIED:20240605T103143Z
UID:1963-1718992800-1719000000@cekacentrum.pl
SUMMARY:ŚREDZKA STREFA KIBICA:  POLSKA-AUSTRIA - mecze polskiej reprezentacji w PCeKA
DESCRIPTION:Wraz z Domem Kultury w Środzie Śląskiej zapraszamy mieszkańców na mecze reprezentacji Polski w Mistrzostwach Europy w Piłce Nożnej. Wydarzeniu towarzyszyć będzie zlot starych aut\, zlot motocyklowy oraz piknik wakacyjny. Ponadto strefa gastro\, strefa dla dzieci i konkursy z nagrodami.
URL:https://cekacentrum.pl/event/sredzka-strefa-kibica-polska-austria-mecze-polskiej-reprezentacji-w-pceka/
LOCATION:Powiatowe Centrum Kultury Alternatywnej\, pl. Przyszkolna 3\, Środa Śląska\, 55-300\, Poland
ATTACH;FMTTYPE=image/jpeg:https://cekacentrum.pl/wp-content/uploads/2024/06/447239409_780676627539599_309397623683360014_n.jpg
ORGANIZER;CN="Powiatowe Centrum Kultury Alternatywnej%2C ul. Przyszkolna 3%2C 55-300 %C5%9Aroda %C5%9Al%C4%85ska":MAILTO:biuro@cekacentrum.pl
END:VEVENT
BEGIN:VEVENT
DTSTART;TZID=Europe/Warsaw:20240616T150000
DTEND;TZID=Europe/Warsaw:20240616T170000
DTSTAMP:20260421T021108
CREATED:20240605T100526Z
LAST-MODIFIED:20240605T102159Z
UID:1957-1718550000-1718557200@cekacentrum.pl
SUMMARY:ŚREDZKA STREFA KIBICA: POLSKA HOLANDIA - mecze polskiej reprezentacji w PCeKA
DESCRIPTION:Wraz z Domem Kultury w Środzie Śląskiej zapraszamy mieszkańców na mecze reprezentacji Polski w Mistrzostwach Europy w Piłce Nożnej. Wydarzeniu towarzyszyć będzie zlot starych aut\, zlot motocyklowy oraz piknik wakacyjny. Ponadto strefa gastro\, strefa dla dzieci i konkursy z nagrodami.
URL:https://cekacentrum.pl/event/sredzka-strefa-kibica-mecze-polskiej-reprezentacji-w-pceka/
ATTACH;FMTTYPE=image/jpeg:https://cekacentrum.pl/wp-content/uploads/2024/06/447239409_780676627539599_309397623683360014_n.jpg
ORGANIZER;CN="Powiatowe Centrum Kultury Alternatywnej%2C ul. Przyszkolna 3%2C 55-300 %C5%9Aroda %C5%9Al%C4%85ska":MAILTO:biuro@cekacentrum.pl
END:VEVENT
BEGIN:VEVENT
DTSTART;TZID=Europe/Warsaw:20240615T160000
DTEND;TZID=Europe/Warsaw:20240615T183000
DTSTAMP:20260421T021108
CREATED:20240613T071508Z
LAST-MODIFIED:20240613T071508Z
UID:2003-1718467200-1718476200@cekacentrum.pl
SUMMARY:Piknik Literacki w Zamku na Wodzie w Wojnowicach z Klubem Turystyki Wszelakiej Ceka
DESCRIPTION:w Imieniu Klubu Turystyki Wszelakiej\, zapraszamy na pierwszy z serii piknik integracyjny\, który odbędzie się w najbliższą sobotę w Zamku na wodzie w Wojnowicach. Możecie dojechać we własnym zakresie\, ale i – dzięki wsparciu Miasto i Gmina Środa Śląska – busem Średzkiej Komunikacji Publicznej (DZIĘKUJEMY!). UWAGA: liczba miejsc w autobusie ograniczona! Na miejscu czeka na nas sporo atrakcji: zwiedzanie zamku\, ognisko z kiełbaskami\, ale i piknik literacki organizowany przez Zamek wraz z koncertem. Do tego warsztaty przygotowane przez 2 Średzki Szczep Harcerski „Cztery Strony Świata” \nOrganizacyjnie wspiera nas Fundacja Eudajmonia oraz Stowarzyszenie Włączeni\n\n\nA to wszystko w ramach grantu Działaj Lokalnie przy wsparciu Kraina Łęgów Odrzańskich \n\n\n\nDofinansowano ze środków Programu „Działaj Lokalnie IX” Polsko-Amerykańskiej Fundacji Wolności realizowanego przez Akademię Rozwoju Filantropii w Polsce.\n\n\n#dzialajlokalnie #lgdkrainalegosodrzanskich
URL:https://cekacentrum.pl/event/piknik-literacki-w-zamku-na-wodzie-w-wojnowicach-z-klubem-turystyki-wszelakiej-ceka/
LOCATION:Zamek na Wodzie Wojnowice\, ul. Zamkowa 2\, Wojnowice\, dolnośląskie
ATTACH;FMTTYPE=image/jpeg:https://cekacentrum.pl/wp-content/uploads/2024/06/448177002_430619153274097_968992525581653679_n.jpg
END:VEVENT
BEGIN:VEVENT
DTSTART;TZID=Europe/Warsaw:20240610T190000
DTEND;TZID=Europe/Warsaw:20240610T203000
DTSTAMP:20260421T021108
CREATED:20240604T115400Z
LAST-MODIFIED:20240604T115400Z
UID:1948-1718046000-1718051400@cekacentrum.pl
SUMMARY:Spektakl teatralny "Kto się boi pani Eś"
DESCRIPTION:Zapraszamy na spektakl komediowy zaprzyjaźnionego Wołowskiego Teatru Każdego Widza\, wstęp bezpłatny 😉
URL:https://cekacentrum.pl/event/spektakl-teatralny-kto-sie-boi-pani-es/
LOCATION:Powiatowe Centrum Kultury Alternatywnej\, pl. Przyszkolna 3\, Środa Śląska\, 55-300\, Poland
ATTACH;FMTTYPE=image/jpeg:https://cekacentrum.pl/wp-content/uploads/2024/06/PlakatPremieraDruk-A3-scaled.jpg
ORGANIZER;CN="Powiatowe Centrum Kultury Alternatywnej%2C ul. Przyszkolna 3%2C 55-300 %C5%9Aroda %C5%9Al%C4%85ska":MAILTO:biuro@cekacentrum.pl
END:VEVENT
BEGIN:VEVENT
DTSTART;TZID=Europe/Warsaw:20240610T083000
DTEND;TZID=Europe/Warsaw:20240610T091500
DTSTAMP:20260421T021108
CREATED:20240605T093300Z
LAST-MODIFIED:20240605T093300Z
UID:1954-1718008200-1718010900@cekacentrum.pl
SUMMARY:Teatr Piaskowa Magia - spektakl dla szkół\, widowisko biletowane\, zamknięte
DESCRIPTION:Teatr Piaskowa Magia jest unikatowym pokazem malowania piaskiem na żywo\, wzbogaconym muzyką. Artystki przedstawiają innowacyjną i nieznaną szerzej formę sztuki\, dzięki której odbiorcy przeniosą się w magiczny świat teatru. Oglądając „Kopciuszka” oraz inne spektakle malowane piaskiem\, będziemy obcować z żywą kulturą i sztuką.
URL:https://cekacentrum.pl/event/teatr-piaskowa-magia-spektakl-dla-szkol-widowisko-biletowane-zamkniete/
LOCATION:Powiatowe Centrum Kultury Alternatywnej\, pl. Przyszkolna 3\, Środa Śląska\, 55-300\, Poland
ATTACH;FMTTYPE=image/webp:https://cekacentrum.pl/wp-content/uploads/2024/06/photo-about-us-content-1-1.webp
ORGANIZER;CN="Powiatowe Centrum Kultury Alternatywnej%2C ul. Przyszkolna 3%2C 55-300 %C5%9Aroda %C5%9Al%C4%85ska":MAILTO:biuro@cekacentrum.pl
END:VEVENT
BEGIN:VEVENT
DTSTART;TZID=Europe/Warsaw:20240607T083000
DTEND;TZID=Europe/Warsaw:20240607T120000
DTSTAMP:20260421T021108
CREATED:20240527T102431Z
LAST-MODIFIED:20240527T102431Z
UID:1911-1717749000-1717761600@cekacentrum.pl
SUMMARY:Zbiórka Krwi
DESCRIPTION:Kolejka zbiórka Krwi w tym miesiącu odbędzie się wyjątkowo w piątek 7 czerwca w godzinach 8:30-12:00. Zapraszamy wszystkich zdrowych i chętnych do wzięcia udziału w akcji\, która odbędzie się w sali widowiskowej PCKA
URL:https://cekacentrum.pl/event/zbiorka-krwi-6/
LOCATION:Powiatowe Centrum Kultury Alternatywnej\, pl. Przyszkolna 3\, Środa Śląska\, 55-300\, Poland
ATTACH;FMTTYPE=image/jpeg:https://cekacentrum.pl/wp-content/uploads/2024/05/zbiorka_krwi.jpg
END:VEVENT
BEGIN:VEVENT
DTSTART;TZID=Europe/Warsaw:20240606T180000
DTEND;TZID=Europe/Warsaw:20240606T193000
DTSTAMP:20260421T021108
CREATED:20240527T095835Z
LAST-MODIFIED:20240603T075003Z
UID:1906-1717696800-1717702200@cekacentrum.pl
SUMMARY:WYDARZENIE ODWOŁANE - Piękne stopy na lato - spotkanie z podologiem
DESCRIPTION:Zdrowe i piękne stopy to marzenie każdej z pań. Szczególnie u progu lata warto zwrócić uwagę na nie uwagę i zasięgnąć porady u specjalisty. Dla wszystkich zainteresowanych mamy niespodziankę – warsztaty z podologiem (podolożką?)\, który/a opowie o prawidłowej i bezpiecznej pielęgnacji. \nDrogie Panie\, już 6 czerwca o godz. 18:00 zapraszamy Was na spotkanie z Agnieszką Bednarską-Frisinghelli\, specjalistką w zakresie diagnostyki\, doradztwa i leczenia stóp. \nDo zobaczenia w kawiarence Powiatowego Centrum Kultury Alternatywnej.
URL:https://cekacentrum.pl/event/piekne-stopy-na-lato-spotkanie-z-podologiem/
ATTACH;FMTTYPE=image/png:https://cekacentrum.pl/wp-content/uploads/2024/05/ODWOLANE-1.png
END:VEVENT
BEGIN:VEVENT
DTSTART;TZID=Europe/Warsaw:20240528T180000
DTEND;TZID=Europe/Warsaw:20240528T193000
DTSTAMP:20260421T021108
CREATED:20240527T094129Z
LAST-MODIFIED:20240527T094129Z
UID:1902-1716919200-1716924600@cekacentrum.pl
SUMMARY:Dzień Krwiodawcy w PCeKA
DESCRIPTION:Zapraszamy wszystkich Honorowych Dawców Krwi do sali widowiskowej PCKA na godz. 18:00
URL:https://cekacentrum.pl/event/dzien-krwiodawcy-w-pceka/
ATTACH;FMTTYPE=image/png:https://cekacentrum.pl/wp-content/uploads/2024/05/images.png
END:VEVENT
BEGIN:VEVENT
DTSTART;TZID=Europe/Warsaw:20240526T170000
DTEND;TZID=Europe/Warsaw:20240526T190000
DTSTAMP:20260421T021108
CREATED:20240517T073733Z
LAST-MODIFIED:20240517T073859Z
UID:1863-1716742800-1716750000@cekacentrum.pl
SUMMARY:Dzień mamy w rytmach przebojów Tiny Turner
DESCRIPTION:Zapraszamy wszystkie mamy wraz ze swoimi pociechami\, na koncert przebojów Tiny Turner w wykonaniu Średzkiej Sceny Musicalowej ;]  \nW programie oprócz koncertu:\n– słodki poczęstunek\n-konkurencje z nagrodami\n-fotobudka 360\n– inne ścianki do zdjęć\n– przebrania mile widziane 😉
URL:https://cekacentrum.pl/event/dzien-mamy-w-rytmach-przebojow-tiny-turner/
LOCATION:Powiatowe Centrum Kultury Alternatywnej\, pl. Przyszkolna 3\, Środa Śląska\, 55-300\, Poland
ATTACH;FMTTYPE=image/jpeg:https://cekacentrum.pl/wp-content/uploads/2024/05/438082809_757589983181597_3586909804262276381_n.jpg
ORGANIZER;CN="Powiatowe Centrum Kultury Alternatywnej%2C ul. Przyszkolna 3%2C 55-300 %C5%9Aroda %C5%9Al%C4%85ska":MAILTO:biuro@cekacentrum.pl
END:VEVENT
BEGIN:VEVENT
DTSTART;TZID=Europe/Warsaw:20240518T080000
DTEND;TZID=Europe/Warsaw:20240518T180000
DTSTAMP:20260421T021108
CREATED:20240517T070752Z
LAST-MODIFIED:20240517T070825Z
UID:1855-1716019200-1716055200@cekacentrum.pl
SUMMARY:Zdobywamy Koronę Gór Polski - Wyprawa na Wielką Sowę
DESCRIPTION:Wraz z Klubem Turystyki Wszelakiej w Środzie Śląskiej zapraszamy wszystkich zdrowych\, sprawnych i chętnych\, do wzięcia udziału w wycieczce na Wielką Sowę. Zapewniamy przejazd autokarem\, opiekę przewodnika oraz ubezpieczenie. Weźcie ze sobą ulubione jedzenie\, po zakończeniu wyprawy ognisko 😉
URL:https://cekacentrum.pl/event/zdobywamy-korone-gor-polski-wyprawa-na-wielka-sowe/
ATTACH;FMTTYPE=image/jpeg:https://cekacentrum.pl/wp-content/uploads/2024/05/IMG20230820092155-1.jpg
END:VEVENT
BEGIN:VEVENT
DTSTART;VALUE=DATE:20240518
DTEND;VALUE=DATE:20240519
DTSTAMP:20260421T021108
CREATED:20240517T072313Z
LAST-MODIFIED:20240517T072313Z
UID:1860-1715990400-1716076799@cekacentrum.pl
SUMMARY:2 Średzki brevet "O złotego florena"
DESCRIPTION:Maraton odbędzie się w dniu 18.05.2024 r.\nStart i meta: parking ul. Przyszkolna 3\, 55-300 Środa Śląska \nStart w dniu 18.05.2024 r. o godz.08.00\n– godz.06:30 – 07:50 – rejestracja zawodników w biurze maratonu\n– godz. 07:50 – odprawa techniczna dla zawodników\n– godz. 08:00 – start\, w zależności od ilości zawodników\, start w grupach\ngodz. 21:30 – zakończenie Maratonu zostanie przesunięte o minuty o których wystartowała ostatnia grupa startowa \nDYSTANS: Pętla 200 km
URL:https://cekacentrum.pl/event/2-sredzki-brevet-o-zlotego-florena/
LOCATION:Powiatowe Centrum Kultury Alternatywnej\, pl. Przyszkolna 3\, Środa Śląska\, 55-300\, Poland
ATTACH;FMTTYPE=image/jpeg:https://cekacentrum.pl/wp-content/uploads/2024/05/cropped-img-20230527-wa0051.jpg
END:VEVENT
BEGIN:VEVENT
DTSTART;TZID=Europe/Warsaw:20240512T083000
DTEND;TZID=Europe/Warsaw:20240512T180000
DTSTAMP:20260421T021108
CREATED:20240517T064913Z
LAST-MODIFIED:20240517T065025Z
UID:1850-1715502600-1715536800@cekacentrum.pl
SUMMARY:Rzeka aktywności na dźwiękowym szlaku Odry
DESCRIPTION:Impreza plelerowa współorganizowana z LGD Kraina Łęgów Odrzańskich:)  Spod PCKA ruszamy rowerami do Głoski\, tam przesiadamy się do kajaków i rzeką ruszamy w stronę GOKiS Malczyce\, gdzie czekać na nas będą niespodzianki 😉 Pamiętajcie\, aby wziąć ze sobą prowiant na drogę i napoje! Trochę czasu  spędzimy w kajaku 😉
URL:https://cekacentrum.pl/event/rzeka-aktywnosci-na-dzwiekowym-szlaku-odry/
LOCATION:Powiatowe Centrum Kultury Alternatywnej\, pl. Przyszkolna 3\, Środa Śląska\, 55-300\, Poland
ATTACH;FMTTYPE=image/jpeg:https://cekacentrum.pl/wp-content/uploads/2024/05/441166888_767646375509291_6107385026574012853_n.jpg
ORGANIZER;CN="Powiatowe Centrum Kultury Alternatywnej%2C ul. Przyszkolna 3%2C 55-300 %C5%9Aroda %C5%9Al%C4%85ska":MAILTO:biuro@cekacentrum.pl
END:VEVENT
END:VCALENDAR