BEGIN:VCALENDAR
VERSION:2.0
PRODID:-//Powiatowe Centrum Kultury Alternatywnej - ECPv6.10.1.1//NONSGML v1.0//EN
CALSCALE:GREGORIAN
METHOD:PUBLISH
X-ORIGINAL-URL:https://cekacentrum.pl
X-WR-CALDESC:Wydarzenia dla Powiatowe Centrum Kultury Alternatywnej
REFRESH-INTERVAL;VALUE=DURATION:PT1H
X-Robots-Tag:noindex
X-PUBLISHED-TTL:PT1H
BEGIN:VTIMEZONE
TZID:Europe/Warsaw
BEGIN:DAYLIGHT
TZOFFSETFROM:+0100
TZOFFSETTO:+0200
TZNAME:CEST
DTSTART:20230326T010000
END:DAYLIGHT
BEGIN:STANDARD
TZOFFSETFROM:+0200
TZOFFSETTO:+0100
TZNAME:CET
DTSTART:20231029T010000
END:STANDARD
BEGIN:DAYLIGHT
TZOFFSETFROM:+0100
TZOFFSETTO:+0200
TZNAME:CEST
DTSTART:20240331T010000
END:DAYLIGHT
BEGIN:STANDARD
TZOFFSETFROM:+0200
TZOFFSETTO:+0100
TZNAME:CET
DTSTART:20241027T010000
END:STANDARD
END:VTIMEZONE
BEGIN:VEVENT
DTSTART;TZID=Europe/Warsaw:20240606T180000
DTEND;TZID=Europe/Warsaw:20240606T193000
DTSTAMP:20260421T052706
CREATED:20240527T095835Z
LAST-MODIFIED:20240603T075003Z
UID:1906-1717696800-1717702200@cekacentrum.pl
SUMMARY:WYDARZENIE ODWOŁANE - Piękne stopy na lato - spotkanie z podologiem
DESCRIPTION:Zdrowe i piękne stopy to marzenie każdej z pań. Szczególnie u progu lata warto zwrócić uwagę na nie uwagę i zasięgnąć porady u specjalisty. Dla wszystkich zainteresowanych mamy niespodziankę – warsztaty z podologiem (podolożką?)\, który/a opowie o prawidłowej i bezpiecznej pielęgnacji. \nDrogie Panie\, już 6 czerwca o godz. 18:00 zapraszamy Was na spotkanie z Agnieszką Bednarską-Frisinghelli\, specjalistką w zakresie diagnostyki\, doradztwa i leczenia stóp. \nDo zobaczenia w kawiarence Powiatowego Centrum Kultury Alternatywnej.
URL:https://cekacentrum.pl/event/piekne-stopy-na-lato-spotkanie-z-podologiem/
ATTACH;FMTTYPE=image/png:https://cekacentrum.pl/wp-content/uploads/2024/05/ODWOLANE-1.png
END:VEVENT
BEGIN:VEVENT
DTSTART;TZID=Europe/Warsaw:20240528T180000
DTEND;TZID=Europe/Warsaw:20240528T193000
DTSTAMP:20260421T052706
CREATED:20240527T094129Z
LAST-MODIFIED:20240527T094129Z
UID:1902-1716919200-1716924600@cekacentrum.pl
SUMMARY:Dzień Krwiodawcy w PCeKA
DESCRIPTION:Zapraszamy wszystkich Honorowych Dawców Krwi do sali widowiskowej PCKA na godz. 18:00
URL:https://cekacentrum.pl/event/dzien-krwiodawcy-w-pceka/
ATTACH;FMTTYPE=image/png:https://cekacentrum.pl/wp-content/uploads/2024/05/images.png
END:VEVENT
BEGIN:VEVENT
DTSTART;TZID=Europe/Warsaw:20240526T170000
DTEND;TZID=Europe/Warsaw:20240526T190000
DTSTAMP:20260421T052706
CREATED:20240517T073733Z
LAST-MODIFIED:20240517T073859Z
UID:1863-1716742800-1716750000@cekacentrum.pl
SUMMARY:Dzień mamy w rytmach przebojów Tiny Turner
DESCRIPTION:Zapraszamy wszystkie mamy wraz ze swoimi pociechami\, na koncert przebojów Tiny Turner w wykonaniu Średzkiej Sceny Musicalowej ;]  \nW programie oprócz koncertu:\n– słodki poczęstunek\n-konkurencje z nagrodami\n-fotobudka 360\n– inne ścianki do zdjęć\n– przebrania mile widziane 😉
URL:https://cekacentrum.pl/event/dzien-mamy-w-rytmach-przebojow-tiny-turner/
LOCATION:Powiatowe Centrum Kultury Alternatywnej\, pl. Przyszkolna 3\, Środa Śląska\, 55-300\, Poland
ATTACH;FMTTYPE=image/jpeg:https://cekacentrum.pl/wp-content/uploads/2024/05/438082809_757589983181597_3586909804262276381_n.jpg
ORGANIZER;CN="Powiatowe Centrum Kultury Alternatywnej%2C ul. Przyszkolna 3%2C 55-300 %C5%9Aroda %C5%9Al%C4%85ska":MAILTO:biuro@cekacentrum.pl
END:VEVENT
BEGIN:VEVENT
DTSTART;TZID=Europe/Warsaw:20240518T080000
DTEND;TZID=Europe/Warsaw:20240518T180000
DTSTAMP:20260421T052706
CREATED:20240517T070752Z
LAST-MODIFIED:20240517T070825Z
UID:1855-1716019200-1716055200@cekacentrum.pl
SUMMARY:Zdobywamy Koronę Gór Polski - Wyprawa na Wielką Sowę
DESCRIPTION:Wraz z Klubem Turystyki Wszelakiej w Środzie Śląskiej zapraszamy wszystkich zdrowych\, sprawnych i chętnych\, do wzięcia udziału w wycieczce na Wielką Sowę. Zapewniamy przejazd autokarem\, opiekę przewodnika oraz ubezpieczenie. Weźcie ze sobą ulubione jedzenie\, po zakończeniu wyprawy ognisko 😉
URL:https://cekacentrum.pl/event/zdobywamy-korone-gor-polski-wyprawa-na-wielka-sowe/
ATTACH;FMTTYPE=image/jpeg:https://cekacentrum.pl/wp-content/uploads/2024/05/IMG20230820092155-1.jpg
END:VEVENT
BEGIN:VEVENT
DTSTART;VALUE=DATE:20240518
DTEND;VALUE=DATE:20240519
DTSTAMP:20260421T052706
CREATED:20240517T072313Z
LAST-MODIFIED:20240517T072313Z
UID:1860-1715990400-1716076799@cekacentrum.pl
SUMMARY:2 Średzki brevet "O złotego florena"
DESCRIPTION:Maraton odbędzie się w dniu 18.05.2024 r.\nStart i meta: parking ul. Przyszkolna 3\, 55-300 Środa Śląska \nStart w dniu 18.05.2024 r. o godz.08.00\n– godz.06:30 – 07:50 – rejestracja zawodników w biurze maratonu\n– godz. 07:50 – odprawa techniczna dla zawodników\n– godz. 08:00 – start\, w zależności od ilości zawodników\, start w grupach\ngodz. 21:30 – zakończenie Maratonu zostanie przesunięte o minuty o których wystartowała ostatnia grupa startowa \nDYSTANS: Pętla 200 km
URL:https://cekacentrum.pl/event/2-sredzki-brevet-o-zlotego-florena/
LOCATION:Powiatowe Centrum Kultury Alternatywnej\, pl. Przyszkolna 3\, Środa Śląska\, 55-300\, Poland
ATTACH;FMTTYPE=image/jpeg:https://cekacentrum.pl/wp-content/uploads/2024/05/cropped-img-20230527-wa0051.jpg
END:VEVENT
BEGIN:VEVENT
DTSTART;TZID=Europe/Warsaw:20240512T083000
DTEND;TZID=Europe/Warsaw:20240512T180000
DTSTAMP:20260421T052706
CREATED:20240517T064913Z
LAST-MODIFIED:20240517T065025Z
UID:1850-1715502600-1715536800@cekacentrum.pl
SUMMARY:Rzeka aktywności na dźwiękowym szlaku Odry
DESCRIPTION:Impreza plelerowa współorganizowana z LGD Kraina Łęgów Odrzańskich:)  Spod PCKA ruszamy rowerami do Głoski\, tam przesiadamy się do kajaków i rzeką ruszamy w stronę GOKiS Malczyce\, gdzie czekać na nas będą niespodzianki 😉 Pamiętajcie\, aby wziąć ze sobą prowiant na drogę i napoje! Trochę czasu  spędzimy w kajaku 😉
URL:https://cekacentrum.pl/event/rzeka-aktywnosci-na-dzwiekowym-szlaku-odry/
LOCATION:Powiatowe Centrum Kultury Alternatywnej\, pl. Przyszkolna 3\, Środa Śląska\, 55-300\, Poland
ATTACH;FMTTYPE=image/jpeg:https://cekacentrum.pl/wp-content/uploads/2024/05/441166888_767646375509291_6107385026574012853_n.jpg
ORGANIZER;CN="Powiatowe Centrum Kultury Alternatywnej%2C ul. Przyszkolna 3%2C 55-300 %C5%9Aroda %C5%9Al%C4%85ska":MAILTO:biuro@cekacentrum.pl
END:VEVENT
BEGIN:VEVENT
DTSTART;TZID=Europe/Warsaw:20240508T083000
DTEND;TZID=Europe/Warsaw:20240508T123000
DTSTAMP:20260421T052706
CREATED:20240507T070806Z
LAST-MODIFIED:20240507T070806Z
UID:1842-1715157000-1715171400@cekacentrum.pl
SUMMARY:Zbiórka Krwi
DESCRIPTION:8 maja (środa)\, w godzinach 8:30-12:00 zapraszamy wszystkich zdrowych i chętnych do wzięcia udziału w akcji zbiórki krwi i jej składników\, która odbędzie się w sali widowiskowej PCKA
URL:https://cekacentrum.pl/event/zbiorka-krwi-5/
LOCATION:Powiatowe Centrum Kultury Alternatywnej\, pl. Przyszkolna 3\, Środa Śląska\, 55-300\, Poland
ATTACH;FMTTYPE=image/jpeg:https://cekacentrum.pl/wp-content/uploads/2024/05/zbiorka_krwi.jpg
END:VEVENT
BEGIN:VEVENT
DTSTART;TZID=Europe/Warsaw:20240418T170000
DTEND;TZID=Europe/Warsaw:20240418T210000
DTSTAMP:20260421T052706
CREATED:20240328T084308Z
LAST-MODIFIED:20240328T084308Z
UID:1728-1713459600-1713474000@cekacentrum.pl
SUMMARY:Dzień Ziemi w PCKA
DESCRIPTION:Zapraszamy do udziału w Dniu Ziemi\, który odbędzie się w ogrodzie sensorycznym przy Centrum. W programie warsztaty ogrodnicze\, wystawa\, konstruowanie kompostownika\, nasadzenia drzewek\, ognisko z kiełbaskami\, strefa gier i warsztatów\, plenerowy koncert i długo wyczekiwane przez wszystkich otwarcie bramki 😀
URL:https://cekacentrum.pl/event/dzien-ziemi-w-pcka/
LOCATION:Powiatowe Centrum Kultury Alternatywnej\, pl. Przyszkolna 3\, Środa Śląska\, 55-300\, Poland
ATTACH;FMTTYPE=image/jpeg:https://cekacentrum.pl/wp-content/uploads/2024/03/dzien-ziemi.jpg
ORGANIZER;CN="Powiatowe Centrum Kultury Alternatywnej%2C ul. Przyszkolna 3%2C 55-300 %C5%9Aroda %C5%9Al%C4%85ska":MAILTO:biuro@cekacentrum.pl
END:VEVENT
BEGIN:VEVENT
DTSTART;TZID=Europe/Warsaw:20240413T080000
DTEND;TZID=Europe/Warsaw:20240413T170000
DTSTAMP:20260421T052706
CREATED:20240410T073432Z
LAST-MODIFIED:20240410T073505Z
UID:1762-1712995200-1713027600@cekacentrum.pl
SUMMARY:Spektakl 'Bajeczny suvival'
DESCRIPTION:Zapraszamy na spektakl w wykonaniu naszej najmłodszej grupy teatralnej. Wstęp wolny.
URL:https://cekacentrum.pl/event/spektakl-bajeczny-suvival/
LOCATION:Powiatowe Centrum Kultury Alternatywnej\, pl. Przyszkolna 3\, Środa Śląska\, 55-300\, Poland
END:VEVENT
BEGIN:VEVENT
DTSTART;TZID=Europe/Warsaw:20240412T183000
DTEND;TZID=Europe/Warsaw:20240412T200000
DTSTAMP:20260421T052706
CREATED:20240328T083750Z
LAST-MODIFIED:20240328T083750Z
UID:1719-1712946600-1712952000@cekacentrum.pl
SUMMARY:Wernisaż prac Gabrieli Maziarz pt. "W poszukiwaniu siebie"
DESCRIPTION:
URL:https://cekacentrum.pl/event/wernisaz-prac-gabrieli-maziarz-pt-w-poszukiwaniu-siebie/
ATTACH;FMTTYPE=image/jpeg:https://cekacentrum.pl/wp-content/uploads/2024/03/plakat-Maziarz-a3-scaled.jpg
ORGANIZER;CN="Powiatowe Centrum Kultury Alternatywnej%2C ul. Przyszkolna 3%2C 55-300 %C5%9Aroda %C5%9Al%C4%85ska":MAILTO:biuro@cekacentrum.pl
END:VEVENT
BEGIN:VEVENT
DTSTART;TZID=Europe/Warsaw:20240410T080000
DTEND;TZID=Europe/Warsaw:20240410T123000
DTSTAMP:20260421T052706
CREATED:20240328T074020Z
LAST-MODIFIED:20240328T074020Z
UID:1717-1712736000-1712752200@cekacentrum.pl
SUMMARY:Zbiórka Krwi
DESCRIPTION:10 kwietnia (środa)\, w godzinach 8:30-12:00 kolejny raz będziemy gospodarzami akcji wyjazdowej zbiórki krwi RCKiK na terenie Środy Śląskiej ❤ Wszystkich zdrowych chętnych do wzięcia udziału w akcji\, która odbędzie się w kawiarence PCKA
URL:https://cekacentrum.pl/event/zbiorka-krwi-4/
LOCATION:Powiatowe Centrum Kultury Alternatywnej\, pl. Przyszkolna 3\, Środa Śląska\, 55-300\, Poland
ATTACH;FMTTYPE=image/jpeg:https://cekacentrum.pl/wp-content/uploads/2024/01/zbiorka_krwi.jpg
END:VEVENT
BEGIN:VEVENT
DTSTART;TZID=Europe/Warsaw:20240405T180000
DTEND;TZID=Europe/Warsaw:20240405T193000
DTSTAMP:20260421T052706
CREATED:20240328T072848Z
LAST-MODIFIED:20240328T072848Z
UID:1714-1712340000-1712345400@cekacentrum.pl
SUMMARY:Wernisaż prac Dagmary Rybak pt. Hello Love
DESCRIPTION:Dagmara Rybak ur. 30.09.1985 z wykształcenia jest projektantem szkła\, ale malarstwo od zawsze zajmowało w jej sercu wyjątkowe miejsce . Absolwentka Akademii Sztuk Pięknych we Wrocławiu Wydział Ceramiki i Szkła. Studiowała również w Wenecji na dwóch uczelniach Accademia di Belle Arti di Venezia na kierunku Decorazione oraz La Scuola del Vetro Abate Zanetti na wyspie Murano. Od 2003 swoje prace prezentuje na licznych wystawach indywidualnych i zbiorowych w Polsce i za granicą \, w wielu Galeriach\, na aukcjach i innych przestrzeniach wystawienniczych\, współtworzyła scenografię do krótkometrażowego filmu „Diament Olgi”\, serialu „Tancerze”. Jej prace można również zobaczyć w serialu „Klangor” dla Canal+ \, „Luksusowe Domy z Omeną” dla Domo+\, a już wkrótce w filmie „Fuks 2”. Od wielu lat robi to co kocha \, konsekwentnie i całym sercem.
URL:https://cekacentrum.pl/event/wernisaz-prac-dagmary-rybak-pt-hello-love-2/
LOCATION:Powiatowe Centrum Kultury Alternatywnej\, pl. Przyszkolna 3\, Środa Śląska\, 55-300\, Poland
ATTACH;FMTTYPE=image/jpeg:https://cekacentrum.pl/wp-content/uploads/2024/03/WhatsApp-Image-2024-03-19-at-12.44.50.jpeg
ORGANIZER;CN="Powiatowe Centrum Kultury Alternatywnej%2C ul. Przyszkolna 3%2C 55-300 %C5%9Aroda %C5%9Al%C4%85ska":MAILTO:biuro@cekacentrum.pl
END:VEVENT
BEGIN:VEVENT
DTSTART;TZID=Europe/Warsaw:20240311T080000
DTEND;TZID=Europe/Warsaw:20240311T170000
DTSTAMP:20260421T052706
CREATED:20240311T102751Z
LAST-MODIFIED:20240311T113329Z
UID:1670-1710144000-1710176400@cekacentrum.pl
SUMMARY:ZBIÓRKA KRWI
DESCRIPTION:12 marca (wtorek)\, w godzinach 8:30-12:00 kolejny raz będziemy gospodarzami akcji wyjazdowej zbiórki krwi RCKiK na terenie Środy Śląskiej ❤ Wszystkich zdrowych chętnych do wzięcia udziału w akcji\, która odbędzie się w sali widowiskowej PCKA
URL:https://cekacentrum.pl/event/zbiorka-krwi-3/
ATTACH;FMTTYPE=image/jpeg:https://cekacentrum.pl/wp-content/uploads/2024/01/zbiorka_krwi.jpg
END:VEVENT
BEGIN:VEVENT
DTSTART;TZID=Europe/Warsaw:20240310T170000
DTEND;TZID=Europe/Warsaw:20240310T190000
DTSTAMP:20260421T052706
CREATED:20240226T103438Z
LAST-MODIFIED:20240226T103438Z
UID:1658-1710090000-1710097200@cekacentrum.pl
SUMMARY:Niedziela z Kryminałem
DESCRIPTION:Zapraszamy na pierwszą w tym roku Niedzielę z Kryminałem\, której gośćmi będą Marek Stelar i Michał Śmielak. Prowadzący – niezmiennie Mieczysław Gorzka 🙂 Wstęp bezpłatny.
URL:https://cekacentrum.pl/event/niedziela-z-kryminalem/
ATTACH;FMTTYPE=image/png:https://cekacentrum.pl/wp-content/uploads/2024/02/Projekt-bez-nazwy-17.png
ORGANIZER;CN="Powiatowe Centrum Kultury Alternatywnej%2C ul. Przyszkolna 3%2C 55-300 %C5%9Aroda %C5%9Al%C4%85ska":MAILTO:biuro@cekacentrum.pl
END:VEVENT
BEGIN:VEVENT
DTSTART;TZID=Europe/Warsaw:20240309T170000
DTEND;TZID=Europe/Warsaw:20240309T220000
DTSTAMP:20260421T052706
CREATED:20240226T094726Z
LAST-MODIFIED:20240226T094726Z
UID:1654-1710003600-1710021600@cekacentrum.pl
SUMMARY:Integracja Grup Warsztatowych PCKA
DESCRIPTION:Spotkanie integracyjne dla dorosłych członków grup warsztatowych Powiatowego Centrum Kultury Alternatywnej\, potwierdzenie obecności na wydarzeniu pod nrem. 713070003.
URL:https://cekacentrum.pl/event/integracja-grup-warsztatowych-pcka/
LOCATION:Powiatowe Centrum Kultury Alternatywnej\, pl. Przyszkolna 3\, Środa Śląska\, 55-300\, Poland
ATTACH;FMTTYPE=image/jpeg:https://cekacentrum.pl/wp-content/uploads/2024/02/351156881_214496351476683_8585755951173751025_n.jpg
ORGANIZER;CN="Powiatowe Centrum Kultury Alternatywnej%2C ul. Przyszkolna 3%2C 55-300 %C5%9Aroda %C5%9Al%C4%85ska":MAILTO:biuro@cekacentrum.pl
END:VEVENT
BEGIN:VEVENT
DTSTART;TZID=Europe/Warsaw:20240308T180000
DTEND;TZID=Europe/Warsaw:20240308T193000
DTSTAMP:20260421T052706
CREATED:20240226T091352Z
LAST-MODIFIED:20240226T091352Z
UID:1651-1709920800-1709926200@cekacentrum.pl
SUMMARY:Koncert Zespołu Czarno Czarni
DESCRIPTION:Drugi dzień Weekendu Cudów – darmowy koncert Czarno Czarnych z okazji Dnia Kobiet. Mężczyźni również mile widziani 😉
URL:https://cekacentrum.pl/event/koncert-zespolu-czarno-czarni/
LOCATION:Powiatowe Centrum Kultury Alternatywnej\, pl. Przyszkolna 3\, Środa Śląska\, 55-300\, Poland
ATTACH;FMTTYPE=image/jpeg:https://cekacentrum.pl/wp-content/uploads/2024/02/czarnoczarni.jpg
ORGANIZER;CN="Powiat %C5%9Aredzki%2C ul. Wroc%C5%82awska 2%2C 55-300 %C5%9Aroda %C5%9Al%C4%85ska":MAILTO:sekretariat@powiat-sredzki.pl
END:VEVENT
BEGIN:VEVENT
DTSTART;TZID=Europe/Warsaw:20240307T180000
DTEND;TZID=Europe/Warsaw:20240307T200000
DTSTAMP:20260421T052706
CREATED:20240223T134553Z
LAST-MODIFIED:20240223T134553Z
UID:1643-1709834400-1709841600@cekacentrum.pl
SUMMARY:Wernisaż prac Małgorzaty Boguckiej
DESCRIPTION:Od czwartku 7 marca rozpoczynamy Weekend Cudów. Pierwszym wydarzeniem otwierającym weekend będzie wystawa prac – malarskich i ceramicznych Małgorzaty Boguckiej. Wydarzeniu towarzyszyć będzie muzyka na żywo\, start godz. 18:00
URL:https://cekacentrum.pl/event/wernisaz-prac-malgorzaty-boguckiej/
ATTACH;FMTTYPE=image/jpeg:https://cekacentrum.pl/wp-content/uploads/2024/02/WhatsApp-Image-2024-02-23-at-14.44.21.jpeg
END:VEVENT
BEGIN:VEVENT
DTSTART;TZID=Europe/Warsaw:20240229T180000
DTEND;TZID=Europe/Warsaw:20240229T200000
DTSTAMP:20260421T052706
CREATED:20240223T123828Z
LAST-MODIFIED:20240223T123828Z
UID:1640-1709229600-1709236800@cekacentrum.pl
SUMMARY:Zdrowe Macanki
DESCRIPTION:Wpadajcie do Kawiarenki Ceka\, gdzie na fantomach nauczycie się samodzielnie badać piersi lub jądra. Dla uczestników wydarzenia\, grupa kulinarna przygotuje zdrowe koktajle 🙂
URL:https://cekacentrum.pl/event/zdrowe-macanki/
ATTACH;FMTTYPE=image/jpeg:https://cekacentrum.pl/wp-content/uploads/2024/02/WhatsApp-Image-2024-02-23-at-13.28.45-1.jpeg
END:VEVENT
BEGIN:VEVENT
DTSTART;TZID=Europe/Warsaw:20240227T180000
DTEND;TZID=Europe/Warsaw:20240227T200000
DTSTAMP:20260421T052706
CREATED:20240223T122129Z
LAST-MODIFIED:20240223T122129Z
UID:1634-1709056800-1709064000@cekacentrum.pl
SUMMARY:Jubileusz 25-lecia Powiatu
DESCRIPTION:Zapraszamy obecnych i byłych pracowników starostwa powiatowego w Środzie Śląskiej\, a także wszystkich mieszkańców\, którzy chcieliby wziąć udział w obchodach 25-lecia Powiatu Średzkiego do sali widowiskowej PCKA. W programie podsumowanie działalności urzędu\, wręczenie podziękowań dla najbardziej zasłużonych samorządowców\, prezentacje multimedialne i poczęstunek dla gości 🙂
URL:https://cekacentrum.pl/event/jubileusz-25-lecia-powiatu/
LOCATION:Powiatowe Centrum Kultury Alternatywnej\, pl. Przyszkolna 3\, Środa Śląska\, 55-300\, Poland
ATTACH;FMTTYPE=image/png:https://cekacentrum.pl/wp-content/uploads/2024/02/powiat.png
ORGANIZER;CN="Powiat %C5%9Aredzki%2C ul. Wroc%C5%82awska 2%2C 55-300 %C5%9Aroda %C5%9Al%C4%85ska":MAILTO:sekretariat@powiat-sredzki.pl
END:VEVENT
BEGIN:VEVENT
DTSTART;TZID=Europe/Warsaw:20240222T190000
DTEND;TZID=Europe/Warsaw:20240222T203000
DTSTAMP:20260421T052706
CREATED:20240209T142542Z
LAST-MODIFIED:20240209T143119Z
UID:1605-1708628400-1708633800@cekacentrum.pl
SUMMARY:Stand-up Pawła Chałupki "Widzę to inaczej"
DESCRIPTION:Paweł Chałupka powraca z nowym programem „Widzę to inaczej” Paweł Chałupka – Zdobył serca widzów prawdziwymi historiami z życia z czasów pracy w gastronomii\, jednak pod maską frustrata skrywa skrzydlatą duszę i pięknie pokręcony umysł. Nie zdziwcie się\, jeśli jego występ nagle zacznie wykraczać znacznie poza ramy tradycyjnego stand-upu. \nbilety: https://www.kupbilecik.pl/imprezy/112938/%C5%9Aroda+%C5%9Al%C4%85ska/Pawe%C5%82+Cha%C5%82upka/
URL:https://cekacentrum.pl/event/stand-up-pawla-chalupki-widze-to-inaczej/
LOCATION:Powiatowe Centrum Kultury Alternatywnej\, pl. Przyszkolna 3\, Środa Śląska\, 55-300\, Poland
ATTACH;FMTTYPE=image/png:https://cekacentrum.pl/wp-content/uploads/2024/02/chalupka.png
END:VEVENT
BEGIN:VEVENT
DTSTART;TZID=Europe/Warsaw:20240213T170000
DTEND;TZID=Europe/Warsaw:20240214T000000
DTSTAMP:20260421T052706
CREATED:20240108T123437Z
LAST-MODIFIED:20240108T123437Z
UID:1543-1707843600-1707868800@cekacentrum.pl
SUMMARY:Bal Karnawałowy Seniora
DESCRIPTION:Zapraszamy na dyskotekę karnawałową dla seniorów\, której organizatorem jest Powiat Średzki. Dla gości przygotowany będzie poczęstunek\, a o oprawę muzyczną wydarzenia zadba dj AICO 🙂  Zapisy pod nrem tel.: 71 307 00 03. Rezerwacje obowiązują max 24h.
URL:https://cekacentrum.pl/event/bal-karnawalowy-seniora/
ATTACH;FMTTYPE=image/jpeg:https://cekacentrum.pl/wp-content/uploads/2024/01/seniorzy.jpg
END:VEVENT
BEGIN:VEVENT
DTSTART;TZID=Europe/Warsaw:20240207T083000
DTEND;TZID=Europe/Warsaw:20240207T120000
DTSTAMP:20260421T052706
CREATED:20240109T142157Z
LAST-MODIFIED:20240109T142157Z
UID:1566-1707294600-1707307200@cekacentrum.pl
SUMMARY:Zbiórka Krwi
DESCRIPTION:7 lutego\, w godzinach 8:30-12:00 po raz drugi będziemy gospodarzami akcji wyjazdowej zbiórki krwi RCKiK na terenie Środy Śląskiej ❤ Wszystkich zdrowych chętnych do wzięcia udziału w akcji\, która odbędzie się w kawiarni PCKA ( boczne wejście do budynku)
URL:https://cekacentrum.pl/event/zbiorka-krwi-2/
LOCATION:Powiatowe Centrum Kultury Alternatywnej\, pl. Przyszkolna 3\, Środa Śląska\, 55-300\, Poland
ATTACH;FMTTYPE=image/jpeg:https://cekacentrum.pl/wp-content/uploads/2024/01/zbiorka_krwi.jpg
END:VEVENT
BEGIN:VEVENT
DTSTART;VALUE=DATE:20240127
DTEND;VALUE=DATE:20240129
DTSTAMP:20260421T052706
CREATED:20240108T111823Z
LAST-MODIFIED:20240108T111823Z
UID:1539-1706313600-1706486399@cekacentrum.pl
SUMMARY:32 Finał Wielkiej Orkiestry Świątecznej Pomocy w PCKA
DESCRIPTION:Zapraszamy do wzięcia udziału w 32 finale WOŚP\, wydarzenie odbędzie się zarówno w sobotę jak i w niedzielę. W programie m.in.: charytatywne warsztaty zumby\, latino solo\, rękodzielnicze\, licytacje\, turniej piłkarski\, koncerty\, kiermasz książek\, kiermasz ciast oraz ostatni już  musical w wykonaniu Średzkiej Sceny Musicalowej pt. „Więzienne Tango”. Więcej informacji wkrótce 🙂
URL:https://cekacentrum.pl/event/32-final-wielkiej-orkiestry-swiatecznej-pomocy-w-pcka/
ATTACH;FMTTYPE=image/jpeg:https://cekacentrum.pl/wp-content/uploads/2024/01/gf-sMQr-xZjb-VunX_wosp-2024-994x828-1.jpg
END:VEVENT
BEGIN:VEVENT
DTSTART;TZID=Europe/Warsaw:20240119T183000
DTEND;TZID=Europe/Warsaw:20240119T200000
DTSTAMP:20260421T052706
CREATED:20240108T090917Z
LAST-MODIFIED:20240118T172230Z
UID:1536-1705689000-1705694400@cekacentrum.pl
SUMMARY:WYDARZENIE ANULOWANE - Spotkanie Średzkich Turystów
DESCRIPTION:Wraz z Klubem Turystyki Wszelakiej zapraszamy wszystkich sympatyków turystyki\, na spotkanie integracyjne\, podczas którego wspólnie ustalimy plan imprez turystycznych Klubu na nadchodzący rok (przy kawie i ciastku) oraz wysłuchamy relacji z egzotycznych wojaży średzianina Leszka Pióro
URL:https://cekacentrum.pl/event/spotkanie-sredzkich-turystow/
ATTACH;FMTTYPE=image/png:https://cekacentrum.pl/wp-content/uploads/2024/01/ODWOLANE.png
END:VEVENT
BEGIN:VEVENT
DTSTART;TZID=Europe/Warsaw:20240119T180000
DTEND;TZID=Europe/Warsaw:20240119T190000
DTSTAMP:20260421T052706
CREATED:20240108T140334Z
LAST-MODIFIED:20240118T172150Z
UID:1557-1705687200-1705690800@cekacentrum.pl
SUMMARY:WYDARZENIE ANULOWANE  - Wernisaż prac Dagmary Rybak pt   "Hello Love"
DESCRIPTION:Dagmara Rybak ur. 30.09.1985 z wykształcenia jest projektantem szkła\, ale malarstwo od zawsze zajmowało w jej sercu wyjątkowe miejsce . Absolwentka Akademii Sztuk Pięknych we Wrocławiu Wydział Ceramiki i Szkła. Studiowała również w Wenecji na dwóch uczelniach Accademia di Belle Arti di Venezia na kierunku Decorazione oraz La Scuola del Vetro Abate Zanetti na wyspie Murano. Od 2003 swoje prace prezentuje na licznych wystawach indywidualnych i zbiorowych w Polsce i za granicą \, w wielu Galeriach\, na aukcjach i innych przestrzeniach wystawienniczych\, współtworzyła scenografię do krótkometrażowego filmu „Diament Olgi”\, serialu „Tancerze”. Jej prace można również zobaczyć w serialu „Klangor” dla Canal+ \, „Luksusowe Domy z Omeną” dla Domo+\, a już wkrótce w filmie „Fuks 2”. Od wielu lat robi to co kocha \, konsekwentnie i całym sercem.
URL:https://cekacentrum.pl/event/wernisaz-prac-dagmary-rybak-pt-hello-love/
ATTACH;FMTTYPE=image/png:https://cekacentrum.pl/wp-content/uploads/2024/01/Projekt-bez-nazwy-15.png
END:VEVENT
BEGIN:VEVENT
DTSTART;TZID=Europe/Warsaw:20240112T080000
DTEND;TZID=Europe/Warsaw:20240112T150000
DTSTAMP:20260421T052706
CREATED:20240110T111847Z
LAST-MODIFIED:20240110T111847Z
UID:1573-1705046400-1705071600@cekacentrum.pl
SUMMARY:Spektakl teatralny dla dzieci "Nasz Shrek" - baśń o tolerancji
DESCRIPTION:Najnowsza propozycja Teatru Profilaktycznego ALERT\, to baśń na motywach znanej i lubianej na całym świecie książeczki „Shrek” Wiliama Steiga. \nSpektakl dedykowany jest dla szkół\, brak możliwości wykupienia biletu indywidualnego.
URL:https://cekacentrum.pl/event/spektakl-teatralny-dla-dzieci-nasz-shrek-basn-o-tolerancji/
ATTACH;FMTTYPE=image/jpeg:https://cekacentrum.pl/wp-content/uploads/2024/01/Szrek-1.jpg
END:VEVENT
BEGIN:VEVENT
DTSTART;TZID=Europe/Warsaw:20240110T083000
DTEND;TZID=Europe/Warsaw:20240110T120000
DTSTAMP:20260421T052706
CREATED:20240108T085555Z
LAST-MODIFIED:20240109T142247Z
UID:1533-1704875400-1704888000@cekacentrum.pl
SUMMARY:Zbiórka Krwi
DESCRIPTION:Pierwsza zbiórka w nowym roku\, w nowym miejscu!  Wszystkich honorowych dawców krwi zapraszamy do naszego centrum\, zbiórka odbędzie się w części kawiarnianej 10 stycznia\, w godzinach 8:30 – 12:00. Dla każdego dawcy przewidziano ceramiczny upominek 🙂
URL:https://cekacentrum.pl/event/zbiorka-krwi/
LOCATION:Powiatowe Centrum Kultury Alternatywnej\, pl. Przyszkolna 3\, Środa Śląska\, 55-300\, Poland
ATTACH;FMTTYPE=image/jpeg:https://cekacentrum.pl/wp-content/uploads/2024/01/414568317_695770242696905_3048811503415826969_n.jpg
END:VEVENT
BEGIN:VEVENT
DTSTART;TZID=Europe/Warsaw:20231216T180000
DTEND;TZID=Europe/Warsaw:20231216T180000
DTSTAMP:20260421T052706
CREATED:20231120T103309Z
LAST-MODIFIED:20231120T120948Z
UID:1350-1702749600-1702749600@cekacentrum.pl
SUMMARY:"Szkoła Niedostateczna" - spektakl grupy teatralnej Qlturalni
DESCRIPTION:Zapraszamy na spektakl teatralny w wykonaniu mieszkańców gminy Miękinia\, pt. Szkoła Niedostateczna”. Bilety dostępne w naszym Centrum w godzinach pracy biura lub na stronie: www.biletyna.pl 
URL:https://cekacentrum.pl/event/szkola-niedostateczna-spektakl-grupy-teatralnej-qlturalni/
LOCATION:Powiatowe Centrum Kultury Alternatywnej\, pl. Przyszkolna 3\, Środa Śląska\, 55-300\, Poland
ATTACH;FMTTYPE=image/jpeg:https://cekacentrum.pl/wp-content/uploads/2023/11/402572090_668579728749290_1356567291874575697_n.jpg
END:VEVENT
BEGIN:VEVENT
DTSTART;TZID=Europe/Warsaw:20231212T180000
DTEND;TZID=Europe/Warsaw:20231212T193000
DTSTAMP:20260421T052706
CREATED:20231202T102824Z
LAST-MODIFIED:20231213T102917Z
UID:1513-1702404000-1702409400@cekacentrum.pl
SUMMARY:Koncert jazzowy Michał Aftyka Quintet
DESCRIPTION:Koncert z serii „Z Jazzem przez Polskę” \nzespół w składzie: \nMarcin Elszkowski – trąbka \nMarcin Konieczkowicz – saksofon altowy \nTymon Kosma – wibrafon \nMichał Afktyka – kontrabas \nStefan Raczkowski – perkusja \n 
URL:https://cekacentrum.pl/event/koncert-jazzowy-michal-aftyka-quintet/
ATTACH;FMTTYPE=image/png:https://cekacentrum.pl/wp-content/uploads/2023/12/NIMiT_Michal-Aftyka-Quintet_baner1_1200x628.png
END:VEVENT
BEGIN:VEVENT
DTSTART;TZID=Europe/Warsaw:20231209T120000
DTEND;TZID=Europe/Warsaw:20231209T180000
DTSTAMP:20260421T052706
CREATED:20231120T123532Z
LAST-MODIFIED:20231120T123532Z
UID:1397-1702123200-1702144800@cekacentrum.pl
SUMMARY:Jarmark Bożonarodzeniowy Coraz Bliżej Święta
DESCRIPTION:Zapraszamy wszystkich do wzięcia udziału w tegorocznym Jarmarku Bożonarodzeniowym. Rok temu poprzeczkę zawiesiliśmy sobie dosyć wysoko\, ale spokojnie\, w tym planujemy ją znów nieco podnieść  Liczymy na Waszą obecność i wsparcie: choćby dobrym słowem
URL:https://cekacentrum.pl/event/jarmark-bozonarodzeniowy-coraz-blizej-swieta/
ATTACH;FMTTYPE=image/jpeg:https://cekacentrum.pl/wp-content/uploads/2023/11/398471756_663782099229053_6589020048477528247_n.jpg
END:VEVENT
END:VCALENDAR