BEGIN:VCALENDAR
VERSION:2.0
PRODID:-//Powiatowe Centrum Kultury Alternatywnej - ECPv6.10.1.1//NONSGML v1.0//EN
CALSCALE:GREGORIAN
METHOD:PUBLISH
X-ORIGINAL-URL:https://cekacentrum.pl
X-WR-CALDESC:Wydarzenia dla Powiatowe Centrum Kultury Alternatywnej
REFRESH-INTERVAL;VALUE=DURATION:PT1H
X-Robots-Tag:noindex
X-PUBLISHED-TTL:PT1H
BEGIN:VTIMEZONE
TZID:Europe/Warsaw
BEGIN:DAYLIGHT
TZOFFSETFROM:+0100
TZOFFSETTO:+0200
TZNAME:CEST
DTSTART:20220327T010000
END:DAYLIGHT
BEGIN:STANDARD
TZOFFSETFROM:+0200
TZOFFSETTO:+0100
TZNAME:CET
DTSTART:20221030T010000
END:STANDARD
END:VTIMEZONE
BEGIN:VEVENT
DTSTART;TZID=Europe/Warsaw:20220709T190000
DTEND;TZID=Europe/Warsaw:20220709T203000
DTSTAMP:20260423T142954
CREATED:20220708T115506Z
LAST-MODIFIED:20220708T115506Z
UID:1114-1657393200-1657398600@cekacentrum.pl
SUMMARY:Kacper Ruciński w programie Uwaga na łosie
DESCRIPTION:W sobotę 9 lipca zapraszamy na występ Kacper Ruciński – prekursora polskiego stand-upu\, człowieka który od dekady czynnie jeździ ze swoimi solowymi programami komediowymi. Poprzedni program zobaczyło ponad 40.000 ludzi\, trasę BANG2 w której Kacper brał udział zobaczyło na żywo prawie 100.000 ludzi. Nowy program\, nowe spostrzeżenia. Program UWAGA NA ŁOSIE \nBilety do nabycia: www.kupbilecik.pl
URL:https://cekacentrum.pl/event/kacper-rucinski-w-programie-uwaga-na-losie/
LOCATION:Powiatowe Centrum Kultury Alternatywnej\, pl. Przyszkolna 3\, Środa Śląska\, 55-300\, Poland
ATTACH;FMTTYPE=image/jpeg:https://cekacentrum.pl/wp-content/uploads/2022/07/fb2.jpg
END:VEVENT
BEGIN:VEVENT
DTSTART;TZID=Europe/Warsaw:20220723T090000
DTEND;TZID=Europe/Warsaw:20220723T170000
DTSTAMP:20260423T142954
CREATED:20220708T115808Z
LAST-MODIFIED:20220708T115808Z
UID:1117-1658566800-1658595600@cekacentrum.pl
SUMMARY:Zapętlamy Odrę - rajd rowerowo-kajakowy
DESCRIPTION:Zapraszamy Was 23 lipca 2022 roku na rowerowo-kajakowy rajd „Zapętlamy Odrę”.  \nNa czym to polega? Otóż ruszamy rowerami do Głoski (gmina Miękinia)\, tam przesiadamy się do kajaków i Odrą\, wraz z firmą Meander – Spływy Kajakowe Szlakiem Odry\, pokonujemy stopień wodny i docieramy do GOKiS Malczyce\, gdzie KGW Malczyce oraz Sołectwo Malczyce przygotują dla nas kilka gier rodzinnych. Następnie wracamy do Środy Śląskiej\, gdzie czekać będą pamiątkowe gadżety 😉  \nZainteresowani? Liczba miejsc ograniczona\, a zapisy możliwe są pod numerem: 71 307  00 03. Koszt: 100 zł / dorośli oraz 80 zł / dzieci
URL:https://cekacentrum.pl/event/zapetlamy-odre-rajd-rowerowo-kajakowy/
LOCATION:Powiatowe Centrum Kultury Alternatywnej\, pl. Przyszkolna 3\, Środa Śląska\, 55-300\, Poland
ATTACH;FMTTYPE=image/jpeg:https://cekacentrum.pl/wp-content/uploads/2022/07/25lipca-plakat3-scaled.jpg
END:VEVENT
BEGIN:VEVENT
DTSTART;TZID=Europe/Warsaw:20220729T180000
DTEND;TZID=Europe/Warsaw:20220729T180000
DTSTAMP:20260423T142954
CREATED:20220708T120959Z
LAST-MODIFIED:20220712T094429Z
UID:1120-1659117600-1659117600@cekacentrum.pl
SUMMARY:Wernisaż prac: "Mróz w środku lata"
DESCRIPTION:Zapraszamy do wzięcia udziału w uroczystym otwarciu wystawy rodzinnej: Mirosławy Mróz (malarstwo)\, Tomasza Mroza (malarstwo\, rysunek i wiersze)\, Remigiusza Mroza (fotografia)\, Bogusława Mroza (rzeźba w drewnie)  oraz Elwiry Mróz (rysunek). \nWernisaż odbędzie się 29 lipca o godzinie 18.00 Wydarzeniu towarzyszyć będzie szereg niespodzianek\, w tym występ Małgorzaty Pauki. Zapraszamy!
URL:https://cekacentrum.pl/event/wernisaz-prac-mroz-w-srodku-lata/
LOCATION:Powiatowe Centrum Kultury Alternatywnej\, pl. Przyszkolna 3\, Środa Śląska\, 55-300\, Poland
ATTACH;FMTTYPE=image/jpeg:https://cekacentrum.pl/wp-content/uploads/2022/07/plakat-mrozy-scaled.jpg
END:VEVENT
END:VCALENDAR