BEGIN:VCALENDAR
VERSION:2.0
PRODID:-//Powiatowe Centrum Kultury Alternatywnej - ECPv6.10.1.1//NONSGML v1.0//EN
CALSCALE:GREGORIAN
METHOD:PUBLISH
X-WR-CALNAME:Powiatowe Centrum Kultury Alternatywnej
X-ORIGINAL-URL:https://cekacentrum.pl
X-WR-CALDESC:Wydarzenia dla Powiatowe Centrum Kultury Alternatywnej
REFRESH-INTERVAL;VALUE=DURATION:PT1H
X-Robots-Tag:noindex
X-PUBLISHED-TTL:PT1H
BEGIN:VTIMEZONE
TZID:Europe/Warsaw
BEGIN:DAYLIGHT
TZOFFSETFROM:+0100
TZOFFSETTO:+0200
TZNAME:CEST
DTSTART:20220327T010000
END:DAYLIGHT
BEGIN:STANDARD
TZOFFSETFROM:+0200
TZOFFSETTO:+0100
TZNAME:CET
DTSTART:20221030T010000
END:STANDARD
END:VTIMEZONE
BEGIN:VEVENT
DTSTART;TZID=Europe/Warsaw:20221111T170000
DTEND;TZID=Europe/Warsaw:20221111T190000
DTSTAMP:20260423T084335
CREATED:20221028T121956Z
LAST-MODIFIED:20221028T121956Z
UID:1177-1668186000-1668193200@cekacentrum.pl
SUMMARY:104 takty o Niepodległej - koncert
DESCRIPTION:Zapraszamy na koncert z okazji 104. rocznicy odzyskania przez Polskę niepodległości.
URL:https://cekacentrum.pl/event/104-takty-o-niepodleglej-koncert/
LOCATION:Powiatowe Centrum Kultury Alternatywnej\, pl. Przyszkolna 3\, Środa Śląska\, 55-300\, Poland
ATTACH;FMTTYPE=image/jpeg:https://cekacentrum.pl/wp-content/uploads/2022/10/banner-fb.jpg
END:VEVENT
BEGIN:VEVENT
DTSTART;TZID=Europe/Warsaw:20221118T180000
DTEND;TZID=Europe/Warsaw:20221118T200000
DTSTAMP:20260423T084335
CREATED:20221116T103638Z
LAST-MODIFIED:20221116T103638Z
UID:1182-1668794400-1668801600@cekacentrum.pl
SUMMARY:30-lecie Gazety Roland
DESCRIPTION:Zapraszamy do nas w piątek 18 listopada o godzinie 18.00 na wyjątkowe wydarzenie: 30-lecie Roland Gazeta Środa Śląska Powiat Średzki.\nPlan wydarzenia wypchany po brzegi atrakcjami\, przeplatanymi rozmowami z byłymi i obecnymi współpracownikami wydawnictwa.\nMuzycznie uraczą nas: Paweł Wenderski\, Patryk Kalita\, Piotr Rejda oraz Mocne Lajty 😎 Wieczór poprowadzi niezawodny Andrzej Bielski 😉 WSTĘP WOLNY!
URL:https://cekacentrum.pl/event/30-lecie-gazety-roland/
LOCATION:Powiatowe Centrum Kultury Alternatywnej\, pl. Przyszkolna 3\, Środa Śląska\, 55-300\, Poland
END:VEVENT
END:VCALENDAR