BEGIN:VCALENDAR
VERSION:2.0
PRODID:-//Powiatowe Centrum Kultury Alternatywnej - ECPv6.10.1.1//NONSGML v1.0//EN
CALSCALE:GREGORIAN
METHOD:PUBLISH
X-WR-CALNAME:Powiatowe Centrum Kultury Alternatywnej
X-ORIGINAL-URL:https://cekacentrum.pl
X-WR-CALDESC:Wydarzenia dla Powiatowe Centrum Kultury Alternatywnej
REFRESH-INTERVAL;VALUE=DURATION:PT1H
X-Robots-Tag:noindex
X-PUBLISHED-TTL:PT1H
BEGIN:VTIMEZONE
TZID:Europe/Warsaw
BEGIN:DAYLIGHT
TZOFFSETFROM:+0100
TZOFFSETTO:+0200
TZNAME:CEST
DTSTART:20230326T010000
END:DAYLIGHT
BEGIN:STANDARD
TZOFFSETFROM:+0200
TZOFFSETTO:+0100
TZNAME:CET
DTSTART:20231029T010000
END:STANDARD
END:VTIMEZONE
BEGIN:VEVENT
DTSTART;TZID=Europe/Warsaw:20230510T190000
DTEND;TZID=Europe/Warsaw:20230510T203000
DTSTAMP:20260423T000218
CREATED:20230208T111242Z
LAST-MODIFIED:20230404T061003Z
UID:1244-1683745200-1683750600@cekacentrum.pl
SUMMARY:Katarzyna Pakosińska - Trzy Dekady Śmiechu
DESCRIPTION:Jak powiedział jeden z krytyków: „Jeżeli śmiech to zdrowie\, to ta kobieta jest nieśmiertelna\, a my wraz z nią!” \nZapraszamy na premierowy program Katarzyny Pakosińskiej – wyjątkowej aktorki i artystki kabaretowej\, która świętuje 30-lecie swojej pracy artystycznej i obecności na scenie! \nPodczas niewiele mającego wspólnego z powagą spotkania\, Katarzyna Pakosińska zdradzi Państwu wyjątkowe\, prywatne tajemnice i odpowie na nurtujące obie płcie pytania\, na które rzecz jasna zna odpowiedzi\, albo i nie.\nCzy wiedzą Państwo jak utrzymać szczęśliwy związek?\nCzy wielożeństwo byłoby w Polsce udaną inwestycją?\nCo jest marzeniem współczesnego mężczyzny? \nStand-up muzyczny „Trzy Dekady Śmiechu” to program dla widzów o stalowych nerwach i w stabilnych związkach!!! Nie zabraknie tańca i piosenek\, tudzież anegdot\, które będą mogli Państwo absolutnie gratis i bez autoryzowania wynieść z tego wyjątkowego wieczoru. \nKierownictwo muzyczne i aranżacje – Jacek Piskorz & Grupa MoCarta\nScenariusz i reżyseria – Marcin Kołaczkowski \nBILETY: https://biletyna.pl/event/view/id/300826
URL:https://cekacentrum.pl/event/katarzyna-pakosinska-trzy-dekady-smiechu/
LOCATION:Powiatowe Centrum Kultury Alternatywnej\, pl. Przyszkolna 3\, Środa Śląska\, 55-300\, Poland
ATTACH;FMTTYPE=image/png:https://cekacentrum.pl/wp-content/uploads/2023/02/TDSbaner.png
END:VEVENT
END:VCALENDAR