BEGIN:VCALENDAR
VERSION:2.0
PRODID:-//Powiatowe Centrum Kultury Alternatywnej - ECPv6.10.1.1//NONSGML v1.0//EN
CALSCALE:GREGORIAN
METHOD:PUBLISH
X-WR-CALNAME:Powiatowe Centrum Kultury Alternatywnej
X-ORIGINAL-URL:https://cekacentrum.pl
X-WR-CALDESC:Wydarzenia dla Powiatowe Centrum Kultury Alternatywnej
REFRESH-INTERVAL;VALUE=DURATION:PT1H
X-Robots-Tag:noindex
X-PUBLISHED-TTL:PT1H
BEGIN:VTIMEZONE
TZID:Europe/Warsaw
BEGIN:DAYLIGHT
TZOFFSETFROM:+0100
TZOFFSETTO:+0200
TZNAME:CEST
DTSTART:20250330T010000
END:DAYLIGHT
BEGIN:STANDARD
TZOFFSETFROM:+0200
TZOFFSETTO:+0100
TZNAME:CET
DTSTART:20251026T010000
END:STANDARD
END:VTIMEZONE
BEGIN:VEVENT
DTSTART;VALUE=DATE:20250125
DTEND;VALUE=DATE:20250126
DTSTAMP:20260421T190047
CREATED:20250124T061814Z
LAST-MODIFIED:20250124T104509Z
UID:2607-1737763200-1737849599@cekacentrum.pl
SUMMARY:Gramy z WOŚP w stylu lat '80 o '90
DESCRIPTION:W tym roku cofamy się w czasie do lat ’80 i ’90. Będzie PRL\, muzyka ABBY i wiele innych atrakcji.\n\n 22. stycznia o godzinie 18.30 (środa) zaczynamy z Zakręcona Szkoła Tańca gorącym latino z Anna Blacha-Spruch\, która tanecznym krokiem wprowadzi nas w Wośp  a pół godziny póżniej zaczyna się Wośpwa Zumba Środa Śląska z energiczną i pozytywną Iza Kucza\n\n 25. stycznia – sobota „Cofamy się do PRL-u!”\nOd samego rana będzie się działo.\n10.00 Trucht witalny z Kamila Woźniak\n11.00 Turniej piłki nożnej (hala sportowa Powiatowy Zespół Szkół nr 1 im. Mikołaja Kopernika w Środzie Śląskiej) a po turnieju LICYTACJE\n13.00 Po wysiłku czekać będą pyszne dania przygotowane przez KGW. Oczywiście będą też niezastąpione Panie Bufetowe w Kawiarenka Ceka – Środa Śląska  Znajdziecie u nas stoiska:\n\n\nKGW Wilkostów –  bigos\nKGW Czerna – strogonow \nKGW Kryniczno – galareta\, smażona mortadela  \nKoło Gospodyń Średzkich – zupa pomidorowa \nKGW Aktywne Wojnowice – potrawka z ciecierzycy\nStowarzyszenie Przyjaciół Wojnowic Podzamcze – domowe oponki \nStowarzyszenie Mój Szczepanów – szczepanowski specjał tj. bigos z kotlecikiem szarpanym z kurczaka z chlebem\nMłodzieżowa Rada Powiatu Średzkiego – popcorn \nMariusz Komenda – bryzol z cebulką \n\n\n14.00 Zlot klasycznych samochodów\, a także możliwość przejażdżki za symboliczną wrzutę Klasyki Miasta Skarbów oraz oldpass.com Wielkie dzięki  Na zewnątrz chłopaki ogarną również ognisko z pieczonymi ziemniakami (Dzięki Kasiu!) oraz quiz wiedzy PRL.\n14.00 – 14.40 Pierwszy koncert: Potrzeba Band\n14.40 LICYTACJE\n15.00 – 15.40 Koncert Minęło Band  – sala widowiskowa\n15.40 LICYTACJE\n16.00 – 16.40 Koncert Kompoot – sala widowiskowa\n\n\n16.00 – 18.00 Fotobudka PRL w Kawiarence CeKA\n16.40 LICYTACJE\n17.00 – 17.40 Koncert Happenning – sala widowiskowa\n17.40 LICYTACJE\n18.00 – 20.00 Koncert ABBA Średzka Scena Musicalowa wraz z ABBA Cover Band  – sala widowiskowa\n19.00 LICYTACJE\n\n\n\n W trakcie licytacji możliwa płatność kartą!\n\n\n w ciągu dnia zapraszamy na:\n– strefę gier podwórkowych PRL\,\n– strefę gier planszowych i video PRL\,\n– stoiska Komenda Powiatowa Policji w Środzie Śląskiej\, Komenda Powiatowa Państwowej Straży Pożarnej w Środzie Śląskiej\,\n– gabinetu lekarskiego Średzkiego Centrum Zdrowia SPZOZ (m.in. badania onkologiczne)\,\n– bajki PRL\,\n– kiermasz „kup pan cegłę”\,\n– wystawę z tamtych lat\,\n– wpis do księgi wniosków\, skarg i zażaleń\,\n– wyplatania dużego krosna z sercem\,\n– malowanie twarzy\,\n– balonikowe stwory i wiele innych!\n\n\n\n Jak zawsze pomagać nam będą 2 Średzki Szczep Harcerski „Cztery Strony Świata” oraz Fundacja Drzewko SzczęściaMar-Pol Mariusz KargolMrówka Składbud Środa Śląska i wielu innych!\n\n\n\nAle to wcale nie koniec… Bo w niedzielę o 11.00 rusza Rajd Rowerowy z Klub Turystyki Wszelakiej w Środzie Śląskiej (start i meta w PCKA) a Muzeum Regionalne w Środzie Śląskiej zaprasza na zwiedzanie w godzinach 12.00-15.00. O 12.00 wycieczka po mieście\, wszystkich chętnych zapraszamy\, zbiórka na dziedzińcu muzeum.\n\n\n\n Dziękujemy Bank Spółdzielczy w Środzie Śląskiej za to\, że fachowo obliczą kwotę\, która trafi do WOŚP
URL:https://cekacentrum.pl/event/gramy-z-wosp-w-stylu-lat-80-o-90/
ATTACH;FMTTYPE=image/jpeg:https://cekacentrum.pl/wp-content/uploads/2025/01/wosp-fb.jpg
END:VEVENT
BEGIN:VEVENT
DTSTART;TZID=Europe/Warsaw:20250129T170000
DTEND;TZID=Europe/Warsaw:20250129T200000
DTSTAMP:20260421T190047
CREATED:20250128T093500Z
LAST-MODIFIED:20250128T093500Z
UID:2643-1738170000-1738180800@cekacentrum.pl
SUMMARY:Wieczór gier z fundacją Drzewko Szczęścia
DESCRIPTION:Zapraszamy na drugą odsłonę\, cyklicznych\, codwutygodniowych wieczorów z grami\, których sponsorem jest fundacja Drzewko Szczęścia. W programie rozgrywki w gry planszowe tj. Monopoly\, Scrabble\, Rummikub\, Kolejka\, szachy i inne 😉 \nWstęp na wydarzenie jest bezpłatny 🙂
URL:https://cekacentrum.pl/event/wieczor-gier-z-fundacja-drzewko-szczescia/
LOCATION:Powiatowe Centrum Kultury Alternatywnej\, pl. Przyszkolna 3\, Środa Śląska\, 55-300\, Poland
ATTACH;FMTTYPE=image/jpeg:https://cekacentrum.pl/wp-content/uploads/2025/01/473653183_929822822624978_6333644361643971418_n.jpg
ORGANIZER;CN="Fundacja Drzewko Szcz%C4%99%C5%9Bcia":MAILTO:drzewko.szczescia.org.pl@gmail.com
END:VEVENT
END:VCALENDAR