BEGIN:VCALENDAR
VERSION:2.0
PRODID:-//Powiatowe Centrum Kultury Alternatywnej - ECPv6.10.1.1//NONSGML v1.0//EN
CALSCALE:GREGORIAN
METHOD:PUBLISH
X-WR-CALNAME:Powiatowe Centrum Kultury Alternatywnej
X-ORIGINAL-URL:https://cekacentrum.pl
X-WR-CALDESC:Wydarzenia dla Powiatowe Centrum Kultury Alternatywnej
REFRESH-INTERVAL;VALUE=DURATION:PT1H
X-Robots-Tag:noindex
X-PUBLISHED-TTL:PT1H
BEGIN:VTIMEZONE
TZID:Europe/Warsaw
BEGIN:DAYLIGHT
TZOFFSETFROM:+0100
TZOFFSETTO:+0200
TZNAME:CEST
DTSTART:20250330T010000
END:DAYLIGHT
BEGIN:STANDARD
TZOFFSETFROM:+0200
TZOFFSETTO:+0100
TZNAME:CET
DTSTART:20251026T010000
END:STANDARD
END:VTIMEZONE
BEGIN:VEVENT
DTSTART;TZID=Europe/Warsaw:20250927T180000
DTEND;TZID=Europe/Warsaw:20250927T200000
DTSTAMP:20260421T070548
CREATED:20250818T080720Z
LAST-MODIFIED:20250821T131204Z
UID:3513-1758996000-1759003200@cekacentrum.pl
SUMMARY:La Vie Boheme - Premiera - Średzka Scena Musicalowa
DESCRIPTION:Musical La Vie Bohème to opowieść o pasji\, miłości i wolności\, osadzona w świecie artystycznej bohemy. Głównymi bohaterami są ekscentryczni przyjaciele – malarze\, muzycy\, poeci i myśliciele – którzy postanawiają wspólnie zamieszkać\, tworząc swoistą komunę artystyczną. Każde z nich pochodzi z innego środowiska\, ma inną historię i odmienne spojrzenie na życie\, lecz łączy ich jedno: pragnienie autentyczności\, potrzeba tworzenia i bunt wobec konformizmu współczesnego świata. \nRazem kształtują mikrospołeczność\, w której priorytetem nie są pieniądze czy sława\, lecz sztuka\, przyjaźń i nieograniczona wolność. Przeciwstawiają się globalizacji\, komercjalizacji i szaleńczemu pędowi cywilizacji\, próbując odnaleźć własną drogę\, niezależną od narzuconych schematów. Ich życie jest pełne wzlotów i upadków\, ale dzięki wzajemnemu wsparciu i nieustannej radości z chwil\, które przeżywają\, udaje im się trwać w tym niezwykłym świecie. \nWszystko zmienia się\, gdy pojawia się Mimi – tajemnicza\, pełna życia młoda kobieta\, która nieświadomie wywraca do góry nogami świat bohemy. Jej wizyta\, choć początkowo wydaje się przypadkowa\, okazuje się mieć ogromny wpływ na losy całej grupy. Mimi wnosi do ich życia nowe spojrzenie na świat\, inspiruje\, a swoją pogodą ducha i odwagą\, często nieświadomie\, pomaga im stawić czoła lękom\, zwłaszcza temu największemu – strachowi przed przemijaniem i śmiercią. \nCzy bohema pozostanie wierna swoim ideałom? Czy Mimi okaże się katalizatorem zmian\, których nikt się nie spodziewał? La Vie Bohème to historia o tym\, jak sztuka\, przyjaźń i miłość potrafią przełamać wszelkie bariery i sprawić\, że każda chwila może trwać wiecznie. \n  \n  \nbilety : https://biletyna.pl/event/view/id/581882
URL:https://cekacentrum.pl/event/la-vie-boheme-sredzka-scena-musicalowa/
LOCATION:Powiatowe Centrum Kultury Alternatywnej\, pl. Przyszkolna 3\, Środa Śląska\, 55-300\, Poland
ATTACH;FMTTYPE=image/png:https://cekacentrum.pl/wp-content/uploads/2025/08/sredzka-bohema-1.png
ORGANIZER;CN="Powiatowe Centrum Kultury Alternatywnej%2C ul. Przyszkolna 3%2C 55-300 %C5%9Aroda %C5%9Al%C4%85ska":MAILTO:biuro@cekacentrum.pl
END:VEVENT
BEGIN:VEVENT
DTSTART;TZID=Europe/Warsaw:20250928T180000
DTEND;TZID=Europe/Warsaw:20250928T200000
DTSTAMP:20260421T070548
CREATED:20250818T080849Z
LAST-MODIFIED:20250821T131352Z
UID:3516-1759082400-1759089600@cekacentrum.pl
SUMMARY:La Vie Boheme II – Średzka Scena Musicalowa
DESCRIPTION:Musical La Vie Bohème to opowieść o pasji\, miłości i wolności\, osadzona w świecie artystycznej bohemy. Głównymi bohaterami są ekscentryczni przyjaciele – malarze\, muzycy\, poeci i myśliciele – którzy postanawiają wspólnie zamieszkać\, tworząc swoistą komunę artystyczną. Każde z nich pochodzi z innego środowiska\, ma inną historię i odmienne spojrzenie na życie\, lecz łączy ich jedno: pragnienie autentyczności\, potrzeba tworzenia i bunt wobec konformizmu współczesnego świata. \nRazem kształtują mikrospołeczność\, w której priorytetem nie są pieniądze czy sława\, lecz sztuka\, przyjaźń i nieograniczona wolność. Przeciwstawiają się globalizacji\, komercjalizacji i szaleńczemu pędowi cywilizacji\, próbując odnaleźć własną drogę\, niezależną od narzuconych schematów. Ich życie jest pełne wzlotów i upadków\, ale dzięki wzajemnemu wsparciu i nieustannej radości z chwil\, które przeżywają\, udaje im się trwać w tym niezwykłym świecie. \nWszystko zmienia się\, gdy pojawia się Mimi – tajemnicza\, pełna życia młoda kobieta\, która nieświadomie wywraca do góry nogami świat bohemy. Jej wizyta\, choć początkowo wydaje się przypadkowa\, okazuje się mieć ogromny wpływ na losy całej grupy. Mimi wnosi do ich życia nowe spojrzenie na świat\, inspiruje\, a swoją pogodą ducha i odwagą\, często nieświadomie\, pomaga im stawić czoła lękom\, zwłaszcza temu największemu – strachowi przed przemijaniem i śmiercią. \nCzy bohema pozostanie wierna swoim ideałom? Czy Mimi okaże się katalizatorem zmian\, których nikt się nie spodziewał? La Vie Bohème to historia o tym\, jak sztuka\, przyjaźń i miłość potrafią przełamać wszelkie bariery i sprawić\, że każda chwila może trwać wiecznie.
URL:https://cekacentrum.pl/event/la-vie-boheme-sredzka-scena-musicalowa-2/
LOCATION:Powiatowe Centrum Kultury Alternatywnej\, pl. Przyszkolna 3\, Środa Śląska\, 55-300\, Poland
ATTACH;FMTTYPE=image/png:https://cekacentrum.pl/wp-content/uploads/2025/08/sredzka-bohema-1.png
ORGANIZER;CN="Powiatowe Centrum Kultury Alternatywnej%2C ul. Przyszkolna 3%2C 55-300 %C5%9Aroda %C5%9Al%C4%85ska":MAILTO:biuro@cekacentrum.pl
END:VEVENT
END:VCALENDAR